BEGIN:VCALENDAR
VERSION:2.0
PRODID:-//Kaua‘i Festivals &amp; Events - ECPv6.0.12//NONSGML v1.0//EN
CALSCALE:GREGORIAN
METHOD:PUBLISH
X-WR-CALNAME:Kaua‘i Festivals &amp; Events
X-ORIGINAL-URL:https://kauaifestivals.com
X-WR-CALDESC:Events for Kaua‘i Festivals &amp; Events
REFRESH-INTERVAL;VALUE=DURATION:PT1H
X-Robots-Tag:noindex
X-PUBLISHED-TTL:PT1H
BEGIN:VTIMEZONE
TZID:Pacific/Honolulu
BEGIN:STANDARD
TZOFFSETFROM:-1000
TZOFFSETTO:-1000
TZNAME:HST
DTSTART:20250101T000000
END:STANDARD
END:VTIMEZONE
BEGIN:VEVENT
DTSTART;TZID=Pacific/Honolulu:20250815T150000
DTEND;TZID=Pacific/Honolulu:20250815T190000
DTSTAMP:20260419T190517
CREATED:20250706T200209Z
LAST-MODIFIED:20250706T200209Z
UID:10015402-1755270000-1755284400@kauaifestivals.com
SUMMARY:Garden Island Orchid Society Show and Sale
DESCRIPTION:Join us for another great display of locally grown orchids exhibited by our members. There will be a huge variety of blooming and keikis orchids for sale\, as well as talks and demonstrations on orchid care.
URL:https://kauaifestivals.com/festival/garden-island-orchid-society-show-and-sale/2025-08-15/
LOCATION:Hanapepe United Church of Christ\, 4481 Kona Road\, Hanapepe\, 96716
CATEGORIES:Island Happenings
ATTACH;FMTTYPE=image/jpeg:https://kauaifestivals.com/wp-content/uploads/2025/07/IMG_0480.jpeg
ORGANIZER;CN="Garden%20Island%20Orchid%20Society":MAILTO:debfreund@fastmail.fm
GEO:21.908801;-159.588256
X-APPLE-STRUCTURED-LOCATION;VALUE=URI;X-ADDRESS=Hanapepe United Church of Christ 4481 Kona Road Hanapepe 96716;X-APPLE-RADIUS=500;X-TITLE=4481 Kona Road:geo:-159.588256,21.908801
END:VEVENT
BEGIN:VEVENT
DTSTART;TZID=Pacific/Honolulu:20250816T090000
DTEND;TZID=Pacific/Honolulu:20250816T160000
DTSTAMP:20260419T190517
CREATED:20250706T200209Z
LAST-MODIFIED:20250706T200209Z
UID:10015403-1755334800-1755360000@kauaifestivals.com
SUMMARY:Garden Island Orchid Society Show and Sale
DESCRIPTION:Join us for another great display of locally grown orchids exhibited by our members. There will be a huge variety of blooming and keikis orchids for sale\, as well as talks and demonstrations on orchid care.
URL:https://kauaifestivals.com/festival/garden-island-orchid-society-show-and-sale/2025-08-16/
LOCATION:Hanapepe United Church of Christ\, 4481 Kona Road\, Hanapepe\, 96716
CATEGORIES:Island Happenings
ATTACH;FMTTYPE=image/jpeg:https://kauaifestivals.com/wp-content/uploads/2025/07/IMG_0480.jpeg
ORGANIZER;CN="Garden%20Island%20Orchid%20Society":MAILTO:debfreund@fastmail.fm
GEO:21.908801;-159.588256
X-APPLE-STRUCTURED-LOCATION;VALUE=URI;X-ADDRESS=Hanapepe United Church of Christ 4481 Kona Road Hanapepe 96716;X-APPLE-RADIUS=500;X-TITLE=4481 Kona Road:geo:-159.588256,21.908801
END:VEVENT
END:VCALENDAR