BEGIN:VCALENDAR
VERSION:2.0
PRODID:-//Kaua‘i Festivals &amp; Events - ECPv6.0.12//NONSGML v1.0//EN
CALSCALE:GREGORIAN
METHOD:PUBLISH
X-WR-CALNAME:Kaua‘i Festivals &amp; Events
X-ORIGINAL-URL:https://kauaifestivals.com
X-WR-CALDESC:Events for Kaua‘i Festivals &amp; Events
REFRESH-INTERVAL;VALUE=DURATION:PT1H
X-Robots-Tag:noindex
X-PUBLISHED-TTL:PT1H
BEGIN:VTIMEZONE
TZID:Pacific/Honolulu
BEGIN:STANDARD
TZOFFSETFROM:-1000
TZOFFSETTO:-1000
TZNAME:HST
DTSTART:20250101T000000
END:STANDARD
END:VTIMEZONE
BEGIN:VEVENT
DTSTART;TZID=Pacific/Honolulu:20250517T183000
DTEND;TZID=Pacific/Honolulu:20250517T210000
DTSTAMP:20260420T232131
CREATED:20250507T165534Z
LAST-MODIFIED:20250610T195405Z
UID:10015283-1747506600-1747515600@kauaifestivals.com
SUMMARY:Free Oldies Rock & Roll (and Funk) Concert On The Green at Poipu Beach Park; Saturday\, June 21\, 6:30-9pm
DESCRIPTION:Free community concert on Saturday\, June 21st\, 6:30-9pm in Poipu\, at the Poipu Beach Main Pavilion right across the street from Brenneckes! We’re combining our two bands\, Dirk Debonaire and the Golden Nuggets and Da Funk! again for the best in Oldies Rock and Roll and Funk dance music. Free\, open to everyone and all ages\, bring a beach chair\, BYOB\, invite friends and guests\, and get ready to boogie! Should be a beautiful night so let’s have some fun!
URL:https://kauaifestivals.com/festival/free-oldies-rock-roll-and-funk-concert-on-the-green-at-poipu-beach-park-saturday-may-17-630-9pm/
LOCATION:Poipu Beach Park\, 2179 Hoone Rd\, Koloa\, HI\, 96756\, United States
CATEGORIES:Island Happenings
ATTACH;FMTTYPE=image/jpeg:https://kauaifestivals.com/wp-content/uploads/2025/05/6-21-25-poipu-5-scaled.jpg
ORGANIZER;CN="Dirk%20Debonaire%20and%20the%20Golden%20Nuggets":MAILTO:dirkdebonaire@gmail.com
GEO:21.8736625;-159.4548492
X-APPLE-STRUCTURED-LOCATION;VALUE=URI;X-ADDRESS=Poipu Beach Park 2179 Hoone Rd Koloa HI 96756 United States;X-APPLE-RADIUS=500;X-TITLE=2179 Hoone Rd:geo:-159.4548492,21.8736625
END:VEVENT
BEGIN:VEVENT
DTSTART;TZID=Pacific/Honolulu:20250727T060000
DTEND;TZID=Pacific/Honolulu:20250727T100000
DTSTAMP:20260420T232131
CREATED:20220609T011333Z
LAST-MODIFIED:20250717T020807Z
UID:10009162-1753596000-1753610400@kauaifestivals.com
SUMMARY:Koloa Plantation Days Family Fun Run
DESCRIPTION:Family Fun Run Offers Healthy Fun for Everyone!\n5K Walk/Run\, 10K Run\, 10 Mile Run or Walk\, 1 mile Keiki Run\nFour different course lengths for you to choose from depending on your ability\, endurance\, and motivation!  The choice of courses allows you to test your endurance or just stroll along while enjoying some of the most beautiful ocean views on Kauai’s South Shore. \nRace jerseys\, full breakfast catered by Keoki’s Paradise and drinks\, along with free mini massages will be available to all participants. Silent Auction of trips\, tours\, gift cards and more! Awards will be given for 1st through 3rd place for each race course as well as for the winners in each age group division. Special awards will be given to all youth 12 years and under who participate!
URL:https://kauaifestivals.com/festival/koloa-plantation-days-family-fun-run/
LOCATION:Poipu Beach Park\, 2179 Hoone Rd\, Koloa\, HI\, 96756\, United States
CATEGORIES:Island Happenings
ATTACH;FMTTYPE=image/jpeg:https://kauaifestivals.com/wp-content/uploads/2022/06/PDR-17-scaled.jpg
ORGANIZER;CN="Kukui%27ula%20Outrigger%20Canoe%20Club":MAILTO:franinkauai@aol.com
GEO:21.8736625;-159.4548492
X-APPLE-STRUCTURED-LOCATION;VALUE=URI;X-ADDRESS=Poipu Beach Park 2179 Hoone Rd Koloa HI 96756 United States;X-APPLE-RADIUS=500;X-TITLE=2179 Hoone Rd:geo:-159.4548492,21.8736625
END:VEVENT
END:VCALENDAR