BEGIN:VCALENDAR
VERSION:2.0
PRODID:-//Kaua‘i Festivals &amp; Events - ECPv6.0.12//NONSGML v1.0//EN
CALSCALE:GREGORIAN
METHOD:PUBLISH
X-ORIGINAL-URL:https://kauaifestivals.com
X-WR-CALDESC:Events for Kaua‘i Festivals &amp; Events
REFRESH-INTERVAL;VALUE=DURATION:PT1H
X-Robots-Tag:noindex
X-PUBLISHED-TTL:PT1H
BEGIN:VTIMEZONE
TZID:Pacific/Honolulu
BEGIN:STANDARD
TZOFFSETFROM:-1000
TZOFFSETTO:-1000
TZNAME:HST
DTSTART:20250101T000000
END:STANDARD
END:VTIMEZONE
BEGIN:VEVENT
DTSTART;TZID=Pacific/Honolulu:20251214T083000
DTEND;TZID=Pacific/Honolulu:20251214T120000
DTSTAMP:20260419T134035
CREATED:20251204T223725Z
LAST-MODIFIED:20251204T223725Z
UID:10015906-1765701000-1765713600@kauaifestivals.com
SUMMARY:Naupaka Plant Day
DESCRIPTION:Join us for a meaningful morning of mālama ʻāina (caring for the land) at our Community Planting Day with Kahu ʻĀina\, focused on planting Naupaka Kahakai\, a vital native coastal plant. This hands-on community workday is an opportunity to learn\, connect\, and give back while strengthening our relationship with ʻāina and each other. \nThe event will take place on Sunday\, December 14\, 2025\, from 8:30 AM to 12:00 PM at Malaehaʻakoa Heiau. Participants will help restore the area through guided planting and stewardship. Attendees are asked to bring their own shovels and dress for outdoor work. \nDirections: Enter Wailua Marina Road. At the top of the hill\, take the left through the gate and park in the field near the shipping container. \nTo register\, email iolawailuanui@gmail.com.Learn more at \nJoin us for a meaningful morning of mālama ʻāina (caring for the land) at our Community Planting Day with Kahu ʻĀina\, focused on planting Naupaka Kahakai\, a vital native coastal plant. This hands-on community workday is an opportunity to learn\, connect\, and give back while strengthening our relationship with ʻāina and each other. \nThe event will take place on Sunday\, December 14\, 2025\, from 8:30 AM to 12:00 PM at Malaehaʻakoa Heiau. Participants will help restore the area through guided planting and stewardship. Attendees are asked to bring their own shovels and dress for outdoor work. \nDirections: Enter Wailua Marina Road. At the top of the hill\, take the left through the gate and park in the field near the shipping container. \nTo register\, email iolawailuanui@gmail.com.Learn more at www.wailuanui.org/blog/uoowzkk8r95bemgtch5h6b3zg5jnrs \nWe look forward to planting together with the community!
URL:https://kauaifestivals.com/festival/naupaka-plant-day/
LOCATION:Malae Heiau\, Wailua Marina Rd.\, Kapaa\, HI\, 96746\, United States
CATEGORIES:Island Happenings
ATTACH;FMTTYPE=image/png:https://kauaifestivals.com/wp-content/uploads/2025/12/Community-Planting-Day-Flier-3.png
ORGANIZER;CN="I%20Ola%20Wailuanui":MAILTO:iolawailuanui@gmail.com
GEO:22.0459229;-159.340711
X-APPLE-STRUCTURED-LOCATION;VALUE=URI;X-ADDRESS=Malae Heiau Wailua Marina Rd. Kapaa HI 96746 United States;X-APPLE-RADIUS=500;X-TITLE=Wailua Marina Rd.:geo:-159.340711,22.0459229
END:VEVENT
END:VCALENDAR