BEGIN:VCALENDAR
VERSION:2.0
PRODID:-//Kaua‘i Festivals &amp; Events - ECPv6.0.12//NONSGML v1.0//EN
CALSCALE:GREGORIAN
METHOD:PUBLISH
X-WR-CALNAME:Kaua‘i Festivals &amp; Events
X-ORIGINAL-URL:https://kauaifestivals.com
X-WR-CALDESC:Events for Kaua‘i Festivals &amp; Events
REFRESH-INTERVAL;VALUE=DURATION:PT1H
X-Robots-Tag:noindex
X-PUBLISHED-TTL:PT1H
BEGIN:VTIMEZONE
TZID:Pacific/Honolulu
BEGIN:STANDARD
TZOFFSETFROM:-1000
TZOFFSETTO:-1000
TZNAME:HST
DTSTART:20250101T000000
END:STANDARD
END:VTIMEZONE
BEGIN:VEVENT
DTSTART;TZID=Pacific/Honolulu:20251031T180000
DTEND;TZID=Pacific/Honolulu:20251031T200000
DTSTAMP:20260423T154853
CREATED:20250902T173123Z
LAST-MODIFIED:20250902T173123Z
UID:10015462-1761933600-1761940800@kauaifestivals.com
SUMMARY:Harvest Festival for the family
DESCRIPTION:We invite families to come to our Harvest Festival as an alternate to trick o treating on Halloween night.  Our festival will have food\, games\, prizes\, candy and a maze!  Join us on Friday\, October 31st from 6 to 8 pm @ 3370 Poipu Road\, Koloa.
URL:https://kauaifestivals.com/festival/harvest-festival-for-the-family/
LOCATION:Koloa Missionary Church\, 3370 Poipu Road\, Koloa\, HI\, 96756\, United States
CATEGORIES:Island Happenings
ATTACH;FMTTYPE=image/jpeg:https://kauaifestivals.com/wp-content/uploads/2025/08/Harvest-Festival-smaller.jpg
ORGANIZER;CN="Koloa%20Missionary%20Church":MAILTO:jmiyamoto@outlook.com
GEO:21.9019;-159.465888
X-APPLE-STRUCTURED-LOCATION;VALUE=URI;X-ADDRESS=Koloa Missionary Church 3370 Poipu Road Koloa HI 96756 United States;X-APPLE-RADIUS=500;X-TITLE=3370 Poipu Road:geo:-159.465888,21.9019
END:VEVENT
END:VCALENDAR