BEGIN:VCALENDAR
VERSION:2.0
PRODID:-//Kaua‘i Festivals &amp; Events - ECPv6.0.12//NONSGML v1.0//EN
CALSCALE:GREGORIAN
METHOD:PUBLISH
X-WR-CALNAME:Kaua‘i Festivals &amp; Events
X-ORIGINAL-URL:https://kauaifestivals.com
X-WR-CALDESC:Events for Kaua‘i Festivals &amp; Events
REFRESH-INTERVAL;VALUE=DURATION:PT1H
X-Robots-Tag:noindex
X-PUBLISHED-TTL:PT1H
BEGIN:VTIMEZONE
TZID:Pacific/Honolulu
BEGIN:STANDARD
TZOFFSETFROM:-1000
TZOFFSETTO:-1000
TZNAME:HST
DTSTART:20260101T000000
END:STANDARD
END:VTIMEZONE
BEGIN:VEVENT
DTSTART;TZID=Pacific/Honolulu:20260122T160000
DTEND;TZID=Pacific/Honolulu:20260122T190000
DTSTAMP:20260419T031433
CREATED:20260119T232745Z
LAST-MODIFIED:20260120T041804Z
UID:10016134-1769097600-1769108400@kauaifestivals.com
SUMMARY:Free Hula Show & Craft Fair with Tamatea Nui O Kaua’i Every Thursday
DESCRIPTION:Tamatea Nui O Kaua’i brings to you a FREE Hula Show along with some of the Best Artists and Craft Vendors on Kauai! \nEnjoy a Free Hula show!  Watch the beautiful dancers perform to live Ukulele\, Singing and Talk a Little Story about Hawaiian History and Culture while shopping for Gifts and Souvenirs! \nOpen to Guests and Locals!  This is one of the BEST Events to find that perfect something for yourself or somone on your list\, any time of year!  From Artists to Jewelry\, Wood works to Clothing and Special Treats\, this weekly Fair has everything you need and more! \nEvery Thursday Evening from 4pm tp 7pm with the FREE Hula Show starting at 5:30pm. \nThis is an open to All ages event with Handicap access and is held rain or shine. \nEvent happens in the Lobby of the Hilton Garden Inn\, Wailua Bay  3-5920 Kuhio Highway\, Kapaa \nPull in\, Park and Play!!
URL:https://kauaifestivals.com/festival/free-hula-show-craft-fair-with-tamatea-nui-o-kauai-every-thursday/2026-01-22/
LOCATION:HILTON GARDEN IN WAILUA BAY\, KAPAA KAUAI\, 3-5920 Kuhio Hwy\, KAPAA\, 96746
CATEGORIES:Island Happenings
ATTACH;FMTTYPE=image/png:https://kauaifestivals.com/wp-content/uploads/2026/01/HILTON-THURSDAY-WEEKLY-PNG-1.png
ORGANIZER;CN="HO%27OHIWAHIWA%20FAIR":MAILTO:hoohiwahiwahgi@gmail.com
GEO:22.0427204;-159.3361068
X-APPLE-STRUCTURED-LOCATION;VALUE=URI;X-ADDRESS=HILTON GARDEN IN WAILUA BAY KAPAA KAUAI 3-5920 Kuhio Hwy KAPAA 96746;X-APPLE-RADIUS=500;X-TITLE=3-5920 Kuhio Hwy:geo:-159.3361068,22.0427204
END:VEVENT
BEGIN:VEVENT
DTSTART;TZID=Pacific/Honolulu:20260125T100000
DTEND;TZID=Pacific/Honolulu:20260125T140000
DTSTAMP:20260419T031433
CREATED:20260115T184154Z
LAST-MODIFIED:20260115T184154Z
UID:10016131-1769335200-1769349600@kauaifestivals.com
SUMMARY:HO’OHIWAHIWA FAIR ~ CRAFTS and GIFTS\, FREE HULA AND MUSIC
DESCRIPTION:It’s our first HO’OHIWAHIWA FAIR of the year! \nStarting at 10:00am Some of Kauai’s Best Known Artists and Vendors will be offering a wide assortment of Handmade Items and Gifts\, Jewelry\, Clothing and Souvenirs! \nFrom 10:00am to 11:00am come see TROPICAL GROOVE\nand\nFrom 12:30pm to 1:30pm See the Beautiful Hula Show and Musical performance by Tamatea Nui O Kauai \nThis is a FREE EVENT for all ages! \nThis is a Rain or Shine Event\, Indoors\, with Handicap Access \n  \n  \n 
URL:https://kauaifestivals.com/festival/hoohiwahiwa-fair-crafts-and-gifts-free-hula-and-music/
LOCATION:HILTON GARDEN IN WAILUA BAY\, KAPAA KAUAI\, 3-5920 Kuhio Hwy\, KAPAA\, 96746
CATEGORIES:Island Happenings
ATTACH;FMTTYPE=image/jpeg:https://kauaifestivals.com/wp-content/uploads/2026/01/d54c7ef6-6e78-441d-a5c2-2a3b5a10cab9.jpeg
ORGANIZER;CN="HO%27OHIWAHIWA%20FAIR":MAILTO:hoohiwahiwahgi@gmail.com
GEO:22.0427204;-159.3361068
X-APPLE-STRUCTURED-LOCATION;VALUE=URI;X-ADDRESS=HILTON GARDEN IN WAILUA BAY KAPAA KAUAI 3-5920 Kuhio Hwy KAPAA 96746;X-APPLE-RADIUS=500;X-TITLE=3-5920 Kuhio Hwy:geo:-159.3361068,22.0427204
END:VEVENT
BEGIN:VEVENT
DTSTART;TZID=Pacific/Honolulu:20260129T160000
DTEND;TZID=Pacific/Honolulu:20260129T190000
DTSTAMP:20260419T031433
CREATED:20260119T232745Z
LAST-MODIFIED:20260120T041804Z
UID:10016135-1769702400-1769713200@kauaifestivals.com
SUMMARY:Free Hula Show & Craft Fair with Tamatea Nui O Kaua’i Every Thursday
DESCRIPTION:Tamatea Nui O Kaua’i brings to you a FREE Hula Show along with some of the Best Artists and Craft Vendors on Kauai! \nEnjoy a Free Hula show!  Watch the beautiful dancers perform to live Ukulele\, Singing and Talk a Little Story about Hawaiian History and Culture while shopping for Gifts and Souvenirs! \nOpen to Guests and Locals!  This is one of the BEST Events to find that perfect something for yourself or somone on your list\, any time of year!  From Artists to Jewelry\, Wood works to Clothing and Special Treats\, this weekly Fair has everything you need and more! \nEvery Thursday Evening from 4pm tp 7pm with the FREE Hula Show starting at 5:30pm. \nThis is an open to All ages event with Handicap access and is held rain or shine. \nEvent happens in the Lobby of the Hilton Garden Inn\, Wailua Bay  3-5920 Kuhio Highway\, Kapaa \nPull in\, Park and Play!!
URL:https://kauaifestivals.com/festival/free-hula-show-craft-fair-with-tamatea-nui-o-kauai-every-thursday/2026-01-29/
LOCATION:HILTON GARDEN IN WAILUA BAY\, KAPAA KAUAI\, 3-5920 Kuhio Hwy\, KAPAA\, 96746
CATEGORIES:Island Happenings
ATTACH;FMTTYPE=image/png:https://kauaifestivals.com/wp-content/uploads/2026/01/HILTON-THURSDAY-WEEKLY-PNG-1.png
ORGANIZER;CN="HO%27OHIWAHIWA%20FAIR":MAILTO:hoohiwahiwahgi@gmail.com
GEO:22.0427204;-159.3361068
X-APPLE-STRUCTURED-LOCATION;VALUE=URI;X-ADDRESS=HILTON GARDEN IN WAILUA BAY KAPAA KAUAI 3-5920 Kuhio Hwy KAPAA 96746;X-APPLE-RADIUS=500;X-TITLE=3-5920 Kuhio Hwy:geo:-159.3361068,22.0427204
END:VEVENT
BEGIN:VEVENT
DTSTART;TZID=Pacific/Honolulu:20260205T160000
DTEND;TZID=Pacific/Honolulu:20260205T190000
DTSTAMP:20260419T031433
CREATED:20260119T232745Z
LAST-MODIFIED:20260120T041804Z
UID:10016136-1770307200-1770318000@kauaifestivals.com
SUMMARY:Free Hula Show & Craft Fair with Tamatea Nui O Kaua’i Every Thursday
DESCRIPTION:Tamatea Nui O Kaua’i brings to you a FREE Hula Show along with some of the Best Artists and Craft Vendors on Kauai! \nEnjoy a Free Hula show!  Watch the beautiful dancers perform to live Ukulele\, Singing and Talk a Little Story about Hawaiian History and Culture while shopping for Gifts and Souvenirs! \nOpen to Guests and Locals!  This is one of the BEST Events to find that perfect something for yourself or somone on your list\, any time of year!  From Artists to Jewelry\, Wood works to Clothing and Special Treats\, this weekly Fair has everything you need and more! \nEvery Thursday Evening from 4pm tp 7pm with the FREE Hula Show starting at 5:30pm. \nThis is an open to All ages event with Handicap access and is held rain or shine. \nEvent happens in the Lobby of the Hilton Garden Inn\, Wailua Bay  3-5920 Kuhio Highway\, Kapaa \nPull in\, Park and Play!!
URL:https://kauaifestivals.com/festival/free-hula-show-craft-fair-with-tamatea-nui-o-kauai-every-thursday/2026-02-05/
LOCATION:HILTON GARDEN IN WAILUA BAY\, KAPAA KAUAI\, 3-5920 Kuhio Hwy\, KAPAA\, 96746
CATEGORIES:Island Happenings
ATTACH;FMTTYPE=image/png:https://kauaifestivals.com/wp-content/uploads/2026/01/HILTON-THURSDAY-WEEKLY-PNG-1.png
ORGANIZER;CN="HO%27OHIWAHIWA%20FAIR":MAILTO:hoohiwahiwahgi@gmail.com
GEO:22.0427204;-159.3361068
X-APPLE-STRUCTURED-LOCATION;VALUE=URI;X-ADDRESS=HILTON GARDEN IN WAILUA BAY KAPAA KAUAI 3-5920 Kuhio Hwy KAPAA 96746;X-APPLE-RADIUS=500;X-TITLE=3-5920 Kuhio Hwy:geo:-159.3361068,22.0427204
END:VEVENT
BEGIN:VEVENT
DTSTART;TZID=Pacific/Honolulu:20260212T160000
DTEND;TZID=Pacific/Honolulu:20260212T190000
DTSTAMP:20260419T031433
CREATED:20260119T232745Z
LAST-MODIFIED:20260120T041804Z
UID:10016137-1770912000-1770922800@kauaifestivals.com
SUMMARY:Free Hula Show & Craft Fair with Tamatea Nui O Kaua’i Every Thursday
DESCRIPTION:Tamatea Nui O Kaua’i brings to you a FREE Hula Show along with some of the Best Artists and Craft Vendors on Kauai! \nEnjoy a Free Hula show!  Watch the beautiful dancers perform to live Ukulele\, Singing and Talk a Little Story about Hawaiian History and Culture while shopping for Gifts and Souvenirs! \nOpen to Guests and Locals!  This is one of the BEST Events to find that perfect something for yourself or somone on your list\, any time of year!  From Artists to Jewelry\, Wood works to Clothing and Special Treats\, this weekly Fair has everything you need and more! \nEvery Thursday Evening from 4pm tp 7pm with the FREE Hula Show starting at 5:30pm. \nThis is an open to All ages event with Handicap access and is held rain or shine. \nEvent happens in the Lobby of the Hilton Garden Inn\, Wailua Bay  3-5920 Kuhio Highway\, Kapaa \nPull in\, Park and Play!!
URL:https://kauaifestivals.com/festival/free-hula-show-craft-fair-with-tamatea-nui-o-kauai-every-thursday/2026-02-12/
LOCATION:HILTON GARDEN IN WAILUA BAY\, KAPAA KAUAI\, 3-5920 Kuhio Hwy\, KAPAA\, 96746
CATEGORIES:Island Happenings
ATTACH;FMTTYPE=image/png:https://kauaifestivals.com/wp-content/uploads/2026/01/HILTON-THURSDAY-WEEKLY-PNG-1.png
ORGANIZER;CN="HO%27OHIWAHIWA%20FAIR":MAILTO:hoohiwahiwahgi@gmail.com
GEO:22.0427204;-159.3361068
X-APPLE-STRUCTURED-LOCATION;VALUE=URI;X-ADDRESS=HILTON GARDEN IN WAILUA BAY KAPAA KAUAI 3-5920 Kuhio Hwy KAPAA 96746;X-APPLE-RADIUS=500;X-TITLE=3-5920 Kuhio Hwy:geo:-159.3361068,22.0427204
END:VEVENT
BEGIN:VEVENT
DTSTART;TZID=Pacific/Honolulu:20260219T160000
DTEND;TZID=Pacific/Honolulu:20260219T190000
DTSTAMP:20260419T031433
CREATED:20260119T232745Z
LAST-MODIFIED:20260120T041804Z
UID:10016138-1771516800-1771527600@kauaifestivals.com
SUMMARY:Free Hula Show & Craft Fair with Tamatea Nui O Kaua’i Every Thursday
DESCRIPTION:Tamatea Nui O Kaua’i brings to you a FREE Hula Show along with some of the Best Artists and Craft Vendors on Kauai! \nEnjoy a Free Hula show!  Watch the beautiful dancers perform to live Ukulele\, Singing and Talk a Little Story about Hawaiian History and Culture while shopping for Gifts and Souvenirs! \nOpen to Guests and Locals!  This is one of the BEST Events to find that perfect something for yourself or somone on your list\, any time of year!  From Artists to Jewelry\, Wood works to Clothing and Special Treats\, this weekly Fair has everything you need and more! \nEvery Thursday Evening from 4pm tp 7pm with the FREE Hula Show starting at 5:30pm. \nThis is an open to All ages event with Handicap access and is held rain or shine. \nEvent happens in the Lobby of the Hilton Garden Inn\, Wailua Bay  3-5920 Kuhio Highway\, Kapaa \nPull in\, Park and Play!!
URL:https://kauaifestivals.com/festival/free-hula-show-craft-fair-with-tamatea-nui-o-kauai-every-thursday/2026-02-19/
LOCATION:HILTON GARDEN IN WAILUA BAY\, KAPAA KAUAI\, 3-5920 Kuhio Hwy\, KAPAA\, 96746
CATEGORIES:Island Happenings
ATTACH;FMTTYPE=image/png:https://kauaifestivals.com/wp-content/uploads/2026/01/HILTON-THURSDAY-WEEKLY-PNG-1.png
ORGANIZER;CN="HO%27OHIWAHIWA%20FAIR":MAILTO:hoohiwahiwahgi@gmail.com
GEO:22.0427204;-159.3361068
X-APPLE-STRUCTURED-LOCATION;VALUE=URI;X-ADDRESS=HILTON GARDEN IN WAILUA BAY KAPAA KAUAI 3-5920 Kuhio Hwy KAPAA 96746;X-APPLE-RADIUS=500;X-TITLE=3-5920 Kuhio Hwy:geo:-159.3361068,22.0427204
END:VEVENT
BEGIN:VEVENT
DTSTART;TZID=Pacific/Honolulu:20260226T160000
DTEND;TZID=Pacific/Honolulu:20260226T190000
DTSTAMP:20260419T031433
CREATED:20260119T232745Z
LAST-MODIFIED:20260120T041804Z
UID:10016139-1772121600-1772132400@kauaifestivals.com
SUMMARY:Free Hula Show & Craft Fair with Tamatea Nui O Kaua’i Every Thursday
DESCRIPTION:Tamatea Nui O Kaua’i brings to you a FREE Hula Show along with some of the Best Artists and Craft Vendors on Kauai! \nEnjoy a Free Hula show!  Watch the beautiful dancers perform to live Ukulele\, Singing and Talk a Little Story about Hawaiian History and Culture while shopping for Gifts and Souvenirs! \nOpen to Guests and Locals!  This is one of the BEST Events to find that perfect something for yourself or somone on your list\, any time of year!  From Artists to Jewelry\, Wood works to Clothing and Special Treats\, this weekly Fair has everything you need and more! \nEvery Thursday Evening from 4pm tp 7pm with the FREE Hula Show starting at 5:30pm. \nThis is an open to All ages event with Handicap access and is held rain or shine. \nEvent happens in the Lobby of the Hilton Garden Inn\, Wailua Bay  3-5920 Kuhio Highway\, Kapaa \nPull in\, Park and Play!!
URL:https://kauaifestivals.com/festival/free-hula-show-craft-fair-with-tamatea-nui-o-kauai-every-thursday/2026-02-26/
LOCATION:HILTON GARDEN IN WAILUA BAY\, KAPAA KAUAI\, 3-5920 Kuhio Hwy\, KAPAA\, 96746
CATEGORIES:Island Happenings
ATTACH;FMTTYPE=image/png:https://kauaifestivals.com/wp-content/uploads/2026/01/HILTON-THURSDAY-WEEKLY-PNG-1.png
ORGANIZER;CN="HO%27OHIWAHIWA%20FAIR":MAILTO:hoohiwahiwahgi@gmail.com
GEO:22.0427204;-159.3361068
X-APPLE-STRUCTURED-LOCATION;VALUE=URI;X-ADDRESS=HILTON GARDEN IN WAILUA BAY KAPAA KAUAI 3-5920 Kuhio Hwy KAPAA 96746;X-APPLE-RADIUS=500;X-TITLE=3-5920 Kuhio Hwy:geo:-159.3361068,22.0427204
END:VEVENT
BEGIN:VEVENT
DTSTART;TZID=Pacific/Honolulu:20260305T160000
DTEND;TZID=Pacific/Honolulu:20260305T190000
DTSTAMP:20260419T031433
CREATED:20260119T232745Z
LAST-MODIFIED:20260120T041804Z
UID:10016140-1772726400-1772737200@kauaifestivals.com
SUMMARY:Free Hula Show & Craft Fair with Tamatea Nui O Kaua’i Every Thursday
DESCRIPTION:Tamatea Nui O Kaua’i brings to you a FREE Hula Show along with some of the Best Artists and Craft Vendors on Kauai! \nEnjoy a Free Hula show!  Watch the beautiful dancers perform to live Ukulele\, Singing and Talk a Little Story about Hawaiian History and Culture while shopping for Gifts and Souvenirs! \nOpen to Guests and Locals!  This is one of the BEST Events to find that perfect something for yourself or somone on your list\, any time of year!  From Artists to Jewelry\, Wood works to Clothing and Special Treats\, this weekly Fair has everything you need and more! \nEvery Thursday Evening from 4pm tp 7pm with the FREE Hula Show starting at 5:30pm. \nThis is an open to All ages event with Handicap access and is held rain or shine. \nEvent happens in the Lobby of the Hilton Garden Inn\, Wailua Bay  3-5920 Kuhio Highway\, Kapaa \nPull in\, Park and Play!!
URL:https://kauaifestivals.com/festival/free-hula-show-craft-fair-with-tamatea-nui-o-kauai-every-thursday/2026-03-05/
LOCATION:HILTON GARDEN IN WAILUA BAY\, KAPAA KAUAI\, 3-5920 Kuhio Hwy\, KAPAA\, 96746
CATEGORIES:Island Happenings
ATTACH;FMTTYPE=image/png:https://kauaifestivals.com/wp-content/uploads/2026/01/HILTON-THURSDAY-WEEKLY-PNG-1.png
ORGANIZER;CN="HO%27OHIWAHIWA%20FAIR":MAILTO:hoohiwahiwahgi@gmail.com
GEO:22.0427204;-159.3361068
X-APPLE-STRUCTURED-LOCATION;VALUE=URI;X-ADDRESS=HILTON GARDEN IN WAILUA BAY KAPAA KAUAI 3-5920 Kuhio Hwy KAPAA 96746;X-APPLE-RADIUS=500;X-TITLE=3-5920 Kuhio Hwy:geo:-159.3361068,22.0427204
END:VEVENT
BEGIN:VEVENT
DTSTART;TZID=Pacific/Honolulu:20260312T160000
DTEND;TZID=Pacific/Honolulu:20260312T190000
DTSTAMP:20260419T031433
CREATED:20260119T232745Z
LAST-MODIFIED:20260120T041804Z
UID:10016141-1773331200-1773342000@kauaifestivals.com
SUMMARY:Free Hula Show & Craft Fair with Tamatea Nui O Kaua’i Every Thursday
DESCRIPTION:Tamatea Nui O Kaua’i brings to you a FREE Hula Show along with some of the Best Artists and Craft Vendors on Kauai! \nEnjoy a Free Hula show!  Watch the beautiful dancers perform to live Ukulele\, Singing and Talk a Little Story about Hawaiian History and Culture while shopping for Gifts and Souvenirs! \nOpen to Guests and Locals!  This is one of the BEST Events to find that perfect something for yourself or somone on your list\, any time of year!  From Artists to Jewelry\, Wood works to Clothing and Special Treats\, this weekly Fair has everything you need and more! \nEvery Thursday Evening from 4pm tp 7pm with the FREE Hula Show starting at 5:30pm. \nThis is an open to All ages event with Handicap access and is held rain or shine. \nEvent happens in the Lobby of the Hilton Garden Inn\, Wailua Bay  3-5920 Kuhio Highway\, Kapaa \nPull in\, Park and Play!!
URL:https://kauaifestivals.com/festival/free-hula-show-craft-fair-with-tamatea-nui-o-kauai-every-thursday/2026-03-12/
LOCATION:HILTON GARDEN IN WAILUA BAY\, KAPAA KAUAI\, 3-5920 Kuhio Hwy\, KAPAA\, 96746
CATEGORIES:Island Happenings
ATTACH;FMTTYPE=image/png:https://kauaifestivals.com/wp-content/uploads/2026/01/HILTON-THURSDAY-WEEKLY-PNG-1.png
ORGANIZER;CN="HO%27OHIWAHIWA%20FAIR":MAILTO:hoohiwahiwahgi@gmail.com
GEO:22.0427204;-159.3361068
X-APPLE-STRUCTURED-LOCATION;VALUE=URI;X-ADDRESS=HILTON GARDEN IN WAILUA BAY KAPAA KAUAI 3-5920 Kuhio Hwy KAPAA 96746;X-APPLE-RADIUS=500;X-TITLE=3-5920 Kuhio Hwy:geo:-159.3361068,22.0427204
END:VEVENT
BEGIN:VEVENT
DTSTART;TZID=Pacific/Honolulu:20260319T160000
DTEND;TZID=Pacific/Honolulu:20260319T190000
DTSTAMP:20260419T031433
CREATED:20260119T232745Z
LAST-MODIFIED:20260120T041804Z
UID:10016142-1773936000-1773946800@kauaifestivals.com
SUMMARY:Free Hula Show & Craft Fair with Tamatea Nui O Kaua’i Every Thursday
DESCRIPTION:Tamatea Nui O Kaua’i brings to you a FREE Hula Show along with some of the Best Artists and Craft Vendors on Kauai! \nEnjoy a Free Hula show!  Watch the beautiful dancers perform to live Ukulele\, Singing and Talk a Little Story about Hawaiian History and Culture while shopping for Gifts and Souvenirs! \nOpen to Guests and Locals!  This is one of the BEST Events to find that perfect something for yourself or somone on your list\, any time of year!  From Artists to Jewelry\, Wood works to Clothing and Special Treats\, this weekly Fair has everything you need and more! \nEvery Thursday Evening from 4pm tp 7pm with the FREE Hula Show starting at 5:30pm. \nThis is an open to All ages event with Handicap access and is held rain or shine. \nEvent happens in the Lobby of the Hilton Garden Inn\, Wailua Bay  3-5920 Kuhio Highway\, Kapaa \nPull in\, Park and Play!!
URL:https://kauaifestivals.com/festival/free-hula-show-craft-fair-with-tamatea-nui-o-kauai-every-thursday/2026-03-19/
LOCATION:HILTON GARDEN IN WAILUA BAY\, KAPAA KAUAI\, 3-5920 Kuhio Hwy\, KAPAA\, 96746
CATEGORIES:Island Happenings
ATTACH;FMTTYPE=image/png:https://kauaifestivals.com/wp-content/uploads/2026/01/HILTON-THURSDAY-WEEKLY-PNG-1.png
ORGANIZER;CN="HO%27OHIWAHIWA%20FAIR":MAILTO:hoohiwahiwahgi@gmail.com
GEO:22.0427204;-159.3361068
X-APPLE-STRUCTURED-LOCATION;VALUE=URI;X-ADDRESS=HILTON GARDEN IN WAILUA BAY KAPAA KAUAI 3-5920 Kuhio Hwy KAPAA 96746;X-APPLE-RADIUS=500;X-TITLE=3-5920 Kuhio Hwy:geo:-159.3361068,22.0427204
END:VEVENT
BEGIN:VEVENT
DTSTART;TZID=Pacific/Honolulu:20260326T160000
DTEND;TZID=Pacific/Honolulu:20260326T190000
DTSTAMP:20260419T031433
CREATED:20260119T232745Z
LAST-MODIFIED:20260120T041804Z
UID:10016143-1774540800-1774551600@kauaifestivals.com
SUMMARY:Free Hula Show & Craft Fair with Tamatea Nui O Kaua’i Every Thursday
DESCRIPTION:Tamatea Nui O Kaua’i brings to you a FREE Hula Show along with some of the Best Artists and Craft Vendors on Kauai! \nEnjoy a Free Hula show!  Watch the beautiful dancers perform to live Ukulele\, Singing and Talk a Little Story about Hawaiian History and Culture while shopping for Gifts and Souvenirs! \nOpen to Guests and Locals!  This is one of the BEST Events to find that perfect something for yourself or somone on your list\, any time of year!  From Artists to Jewelry\, Wood works to Clothing and Special Treats\, this weekly Fair has everything you need and more! \nEvery Thursday Evening from 4pm tp 7pm with the FREE Hula Show starting at 5:30pm. \nThis is an open to All ages event with Handicap access and is held rain or shine. \nEvent happens in the Lobby of the Hilton Garden Inn\, Wailua Bay  3-5920 Kuhio Highway\, Kapaa \nPull in\, Park and Play!!
URL:https://kauaifestivals.com/festival/free-hula-show-craft-fair-with-tamatea-nui-o-kauai-every-thursday/2026-03-26/
LOCATION:HILTON GARDEN IN WAILUA BAY\, KAPAA KAUAI\, 3-5920 Kuhio Hwy\, KAPAA\, 96746
CATEGORIES:Island Happenings
ATTACH;FMTTYPE=image/png:https://kauaifestivals.com/wp-content/uploads/2026/01/HILTON-THURSDAY-WEEKLY-PNG-1.png
ORGANIZER;CN="HO%27OHIWAHIWA%20FAIR":MAILTO:hoohiwahiwahgi@gmail.com
GEO:22.0427204;-159.3361068
X-APPLE-STRUCTURED-LOCATION;VALUE=URI;X-ADDRESS=HILTON GARDEN IN WAILUA BAY KAPAA KAUAI 3-5920 Kuhio Hwy KAPAA 96746;X-APPLE-RADIUS=500;X-TITLE=3-5920 Kuhio Hwy:geo:-159.3361068,22.0427204
END:VEVENT
BEGIN:VEVENT
DTSTART;TZID=Pacific/Honolulu:20260402T160000
DTEND;TZID=Pacific/Honolulu:20260402T190000
DTSTAMP:20260419T031433
CREATED:20260119T232745Z
LAST-MODIFIED:20260120T041804Z
UID:10016144-1775145600-1775156400@kauaifestivals.com
SUMMARY:Free Hula Show & Craft Fair with Tamatea Nui O Kaua’i Every Thursday
DESCRIPTION:Tamatea Nui O Kaua’i brings to you a FREE Hula Show along with some of the Best Artists and Craft Vendors on Kauai! \nEnjoy a Free Hula show!  Watch the beautiful dancers perform to live Ukulele\, Singing and Talk a Little Story about Hawaiian History and Culture while shopping for Gifts and Souvenirs! \nOpen to Guests and Locals!  This is one of the BEST Events to find that perfect something for yourself or somone on your list\, any time of year!  From Artists to Jewelry\, Wood works to Clothing and Special Treats\, this weekly Fair has everything you need and more! \nEvery Thursday Evening from 4pm tp 7pm with the FREE Hula Show starting at 5:30pm. \nThis is an open to All ages event with Handicap access and is held rain or shine. \nEvent happens in the Lobby of the Hilton Garden Inn\, Wailua Bay  3-5920 Kuhio Highway\, Kapaa \nPull in\, Park and Play!!
URL:https://kauaifestivals.com/festival/free-hula-show-craft-fair-with-tamatea-nui-o-kauai-every-thursday/2026-04-02/
LOCATION:HILTON GARDEN IN WAILUA BAY\, KAPAA KAUAI\, 3-5920 Kuhio Hwy\, KAPAA\, 96746
CATEGORIES:Island Happenings
ATTACH;FMTTYPE=image/png:https://kauaifestivals.com/wp-content/uploads/2026/01/HILTON-THURSDAY-WEEKLY-PNG-1.png
ORGANIZER;CN="HO%27OHIWAHIWA%20FAIR":MAILTO:hoohiwahiwahgi@gmail.com
GEO:22.0427204;-159.3361068
X-APPLE-STRUCTURED-LOCATION;VALUE=URI;X-ADDRESS=HILTON GARDEN IN WAILUA BAY KAPAA KAUAI 3-5920 Kuhio Hwy KAPAA 96746;X-APPLE-RADIUS=500;X-TITLE=3-5920 Kuhio Hwy:geo:-159.3361068,22.0427204
END:VEVENT
BEGIN:VEVENT
DTSTART;TZID=Pacific/Honolulu:20260409T160000
DTEND;TZID=Pacific/Honolulu:20260409T190000
DTSTAMP:20260419T031433
CREATED:20260119T232745Z
LAST-MODIFIED:20260120T041804Z
UID:10016145-1775750400-1775761200@kauaifestivals.com
SUMMARY:Free Hula Show & Craft Fair with Tamatea Nui O Kaua’i Every Thursday
DESCRIPTION:Tamatea Nui O Kaua’i brings to you a FREE Hula Show along with some of the Best Artists and Craft Vendors on Kauai! \nEnjoy a Free Hula show!  Watch the beautiful dancers perform to live Ukulele\, Singing and Talk a Little Story about Hawaiian History and Culture while shopping for Gifts and Souvenirs! \nOpen to Guests and Locals!  This is one of the BEST Events to find that perfect something for yourself or somone on your list\, any time of year!  From Artists to Jewelry\, Wood works to Clothing and Special Treats\, this weekly Fair has everything you need and more! \nEvery Thursday Evening from 4pm tp 7pm with the FREE Hula Show starting at 5:30pm. \nThis is an open to All ages event with Handicap access and is held rain or shine. \nEvent happens in the Lobby of the Hilton Garden Inn\, Wailua Bay  3-5920 Kuhio Highway\, Kapaa \nPull in\, Park and Play!!
URL:https://kauaifestivals.com/festival/free-hula-show-craft-fair-with-tamatea-nui-o-kauai-every-thursday/2026-04-09/
LOCATION:HILTON GARDEN IN WAILUA BAY\, KAPAA KAUAI\, 3-5920 Kuhio Hwy\, KAPAA\, 96746
CATEGORIES:Island Happenings
ATTACH;FMTTYPE=image/png:https://kauaifestivals.com/wp-content/uploads/2026/01/HILTON-THURSDAY-WEEKLY-PNG-1.png
ORGANIZER;CN="HO%27OHIWAHIWA%20FAIR":MAILTO:hoohiwahiwahgi@gmail.com
GEO:22.0427204;-159.3361068
X-APPLE-STRUCTURED-LOCATION;VALUE=URI;X-ADDRESS=HILTON GARDEN IN WAILUA BAY KAPAA KAUAI 3-5920 Kuhio Hwy KAPAA 96746;X-APPLE-RADIUS=500;X-TITLE=3-5920 Kuhio Hwy:geo:-159.3361068,22.0427204
END:VEVENT
BEGIN:VEVENT
DTSTART;TZID=Pacific/Honolulu:20260416T160000
DTEND;TZID=Pacific/Honolulu:20260416T190000
DTSTAMP:20260419T031433
CREATED:20260119T232745Z
LAST-MODIFIED:20260120T041804Z
UID:10016146-1776355200-1776366000@kauaifestivals.com
SUMMARY:Free Hula Show & Craft Fair with Tamatea Nui O Kaua’i Every Thursday
DESCRIPTION:Tamatea Nui O Kaua’i brings to you a FREE Hula Show along with some of the Best Artists and Craft Vendors on Kauai! \nEnjoy a Free Hula show!  Watch the beautiful dancers perform to live Ukulele\, Singing and Talk a Little Story about Hawaiian History and Culture while shopping for Gifts and Souvenirs! \nOpen to Guests and Locals!  This is one of the BEST Events to find that perfect something for yourself or somone on your list\, any time of year!  From Artists to Jewelry\, Wood works to Clothing and Special Treats\, this weekly Fair has everything you need and more! \nEvery Thursday Evening from 4pm tp 7pm with the FREE Hula Show starting at 5:30pm. \nThis is an open to All ages event with Handicap access and is held rain or shine. \nEvent happens in the Lobby of the Hilton Garden Inn\, Wailua Bay  3-5920 Kuhio Highway\, Kapaa \nPull in\, Park and Play!!
URL:https://kauaifestivals.com/festival/free-hula-show-craft-fair-with-tamatea-nui-o-kauai-every-thursday/2026-04-16/
LOCATION:HILTON GARDEN IN WAILUA BAY\, KAPAA KAUAI\, 3-5920 Kuhio Hwy\, KAPAA\, 96746
CATEGORIES:Island Happenings
ATTACH;FMTTYPE=image/png:https://kauaifestivals.com/wp-content/uploads/2026/01/HILTON-THURSDAY-WEEKLY-PNG-1.png
ORGANIZER;CN="HO%27OHIWAHIWA%20FAIR":MAILTO:hoohiwahiwahgi@gmail.com
GEO:22.0427204;-159.3361068
X-APPLE-STRUCTURED-LOCATION;VALUE=URI;X-ADDRESS=HILTON GARDEN IN WAILUA BAY KAPAA KAUAI 3-5920 Kuhio Hwy KAPAA 96746;X-APPLE-RADIUS=500;X-TITLE=3-5920 Kuhio Hwy:geo:-159.3361068,22.0427204
END:VEVENT
BEGIN:VEVENT
DTSTART;TZID=Pacific/Honolulu:20260418T183000
DTEND;TZID=Pacific/Honolulu:20260418T210000
DTSTAMP:20260419T031433
CREATED:20260324T170417Z
LAST-MODIFIED:20260324T170417Z
UID:10016537-1776537000-1776546000@kauaifestivals.com
SUMMARY:The Babes - Girls Just Wanna Have Fun
DESCRIPTION:GIRLS JUST WANNA HAVE FUN!! \nSaturday April 18th at the Hilton Garden Inn Kauai Wailua Bay \nCocktails 6:30pm \nShow starts at 7pm \nFood & Drinks available for purchase \nVIP Table $40(SOLD OUT) \nGeneral Table $35 \nGeneral Seat $25
URL:https://kauaifestivals.com/festival/the-babes-girls-just-wanna-have-fun/
LOCATION:HILTON GARDEN IN WAILUA BAY\, KAPAA KAUAI\, 3-5920 Kuhio Hwy\, KAPAA\, 96746
CATEGORIES:Island Happenings
ATTACH;FMTTYPE=image/png:https://kauaifestivals.com/wp-content/uploads/2026/03/babes.png
GEO:22.0427204;-159.3361068
X-APPLE-STRUCTURED-LOCATION;VALUE=URI;X-ADDRESS=HILTON GARDEN IN WAILUA BAY KAPAA KAUAI 3-5920 Kuhio Hwy KAPAA 96746;X-APPLE-RADIUS=500;X-TITLE=3-5920 Kuhio Hwy:geo:-159.3361068,22.0427204
END:VEVENT
END:VCALENDAR