BEGIN:VCALENDAR
VERSION:2.0
PRODID:-//Kaua‘i Festivals &amp; Events - ECPv6.0.12//NONSGML v1.0//EN
CALSCALE:GREGORIAN
METHOD:PUBLISH
X-WR-CALNAME:Kaua‘i Festivals &amp; Events
X-ORIGINAL-URL:https://kauaifestivals.com
X-WR-CALDESC:Events for Kaua‘i Festivals &amp; Events
REFRESH-INTERVAL;VALUE=DURATION:PT1H
X-Robots-Tag:noindex
X-PUBLISHED-TTL:PT1H
BEGIN:VTIMEZONE
TZID:Pacific/Honolulu
BEGIN:STANDARD
TZOFFSETFROM:-1000
TZOFFSETTO:-1000
TZNAME:HST
DTSTART:20260101T000000
END:STANDARD
END:VTIMEZONE
BEGIN:VEVENT
DTSTART;TZID=Pacific/Honolulu:20260306T183000
DTEND;TZID=Pacific/Honolulu:20260306T213000
DTSTAMP:20260419T062712
CREATED:20260214T220630Z
LAST-MODIFIED:20260214T220630Z
UID:10016320-1772821800-1772832600@kauaifestivals.com
SUMMARY:Kauai Unity Run- Fundraiser for Special Olympics Kauai
DESCRIPTION:Kaua’i Team Unify   Presents:  \n2026 Kaua’i  Unity Run  \nFriday\, March 6\, 2026 @ 6:30 PM at Chiefess Kamakahelei  Middle School \n(Check in at 6:30 pm with Entertainment & Food Truck Unity Run to start at 7:00 pm) \nKaua’i Team Unify would like to raise awareness and money for SPECIAL OLYMPICS KAUA’I. We would like for you to help us support INCLUSION\, ACCEPTANCE\, RESPECT and UNITY through a fun and unique activity\, The Kaua’i Unity Run.  \nThe 2026 Kaua’i Unity Run will be a GLOW IN THE DARK untimed event that you can run\, walk\, skip\, dance\, etc.  We will provide glow sticks\, and there will be music and games.  For those who would rather just dance and play games\, the playcourt will be open.  Also we will have a food truck for concessions. \nPlease help us raise money for our Special Olympics Kaua’i Athletes and Unified Partners. \nThe money raised will help our athletes and unified partners to continue to be able to participate in various athletic competitions\, including this year’s State Summer Games.  Athletes and Unified Partners from Special Olympics Kaua’i will be traveling to Oahu to participate in this event. \nOur hope is to have everyone feel included in a fun community event. We hope this will inspire people to embrace our differences without judgment. \nTO REGISTER AND/OR DONATE VISIT OUR WEBSITE:   https://give.classy.org/2026KauaiUnityRun
URL:https://kauaifestivals.com/festival/kauai-unity-run-fundraiser-for-special-olympics-kauai/
LOCATION:Chiefess Kamakahelei Middle School\, 4431 Nuhou Street\, Lihue\, HI\, 96766\, United States
CATEGORIES:Featured Events,Island Happenings
ATTACH;FMTTYPE=image/png:https://kauaifestivals.com/wp-content/uploads/2026/02/Unity-Run-Poster-2.png
ORGANIZER;CN="Special%20Olympics%20Kauai-%20Kauai%20Team%20Unify":MAILTO:ckmsteamunify@gmail.com
GEO:21.9671266;-159.3882551
X-APPLE-STRUCTURED-LOCATION;VALUE=URI;X-ADDRESS=Chiefess Kamakahelei Middle School 4431 Nuhou Street Lihue HI 96766 United States;X-APPLE-RADIUS=500;X-TITLE=4431 Nuhou Street:geo:-159.3882551,21.9671266
END:VEVENT
END:VCALENDAR