BEGIN:VCALENDAR
VERSION:2.0
PRODID:-//Kaua‘i Festivals &amp; Events - ECPv6.0.12//NONSGML v1.0//EN
CALSCALE:GREGORIAN
METHOD:PUBLISH
X-WR-CALNAME:Kaua‘i Festivals &amp; Events
X-ORIGINAL-URL:https://kauaifestivals.com
X-WR-CALDESC:Events for Kaua‘i Festivals &amp; Events
REFRESH-INTERVAL;VALUE=DURATION:PT1H
X-Robots-Tag:noindex
X-PUBLISHED-TTL:PT1H
BEGIN:VTIMEZONE
TZID:Pacific/Honolulu
BEGIN:STANDARD
TZOFFSETFROM:-1000
TZOFFSETTO:-1000
TZNAME:HST
DTSTART:20250101T000000
END:STANDARD
END:VTIMEZONE
BEGIN:VEVENT
DTSTART;TZID=Pacific/Honolulu:20250816T100000
DTEND;TZID=Pacific/Honolulu:20250816T160000
DTSTAMP:20260419T205249
CREATED:20250806T024159Z
LAST-MODIFIED:20250806T024159Z
UID:10015444-1755338400-1755360000@kauaifestivals.com
SUMMARY:Ko‘olau Limu Festival
DESCRIPTION:Ko‘olau Limu Festival \nJoin us for a ho‘olaule‘a honoring the ocean’s abundance and the cultural legacy of limu. \nEngage with Conservation & Education organizations & initiatives\, live musical entertainment\, hula & tahitian dance performances\, family fun day\, discover the delectable tastes of limu\, local food vendors with delicious offerings\, create limu lei\, ceremony to follow. \nDrug & Alcohol Free Event \n  \nFREE EVENT \n  \n  \n  \n 
URL:https://kauaifestivals.com/festival/koolau-limu-festival-2/
LOCATION:Anahola Beach Park\, Anahola\, HI\, United States
CATEGORIES:Featured Events,Island Happenings
ATTACH;FMTTYPE=image/jpeg:https://kauaifestivals.com/wp-content/uploads/2025/08/Limu-Fest.jpg
GEO:22.1452778;-159.3155556
END:VEVENT
END:VCALENDAR