BEGIN:VCALENDAR
VERSION:2.0
PRODID:-//Kaua‘i Festivals &amp; Events - ECPv6.0.12//NONSGML v1.0//EN
CALSCALE:GREGORIAN
METHOD:PUBLISH
X-WR-CALNAME:Kaua‘i Festivals &amp; Events
X-ORIGINAL-URL:https://kauaifestivals.com
X-WR-CALDESC:Events for Kaua‘i Festivals &amp; Events
REFRESH-INTERVAL;VALUE=DURATION:PT1H
X-Robots-Tag:noindex
X-PUBLISHED-TTL:PT1H
BEGIN:VTIMEZONE
TZID:Pacific/Honolulu
BEGIN:STANDARD
TZOFFSETFROM:-1000
TZOFFSETTO:-1000
TZNAME:HST
DTSTART:20250101T000000
END:STANDARD
END:VTIMEZONE
BEGIN:VEVENT
DTSTART;TZID=Pacific/Honolulu:20250906T080000
DTEND;TZID=Pacific/Honolulu:20250906T153000
DTSTAMP:20260421T065656
CREATED:20250805T013845Z
LAST-MODIFIED:20250806T022137Z
UID:10015443-1757145600-1757172600@kauaifestivals.com
SUMMARY:Na Mamo Kaiaulu
DESCRIPTION:Nā Mamo Kaiāulu is a community gathering that celebrates the capacity and relevance of traditional Hawaiian healing and cultural practice in today’s world. Taking place on Saturday\, September 6\, 2025\, from 8:00 AM to 3:30 PM at the Kauaʻi War Memorial Convention Hall\, this free\, all-ages event brings together some of Kauaʻi’s most respected kumu and cultural practitioners to share ʻike\, guide healing practices\, and nurture community well-being. \nThis year’s featured workshops include lāʻau lapaʻau (plant-based medicine) with Kumu Ginger Saiki\, lomilomi (traditional massage and bodywork) with Aunty Maco Waialeale and Aunty Gwen Cardejon\, makau (fishhook making) with Kumu Gordon Umi Kai\, and hoʻoponopono (conflict resolution and spiritual alignment) with Kumu Sean Chun. These instructors bring decades of lived experience and lineal knowledge in their practices\, affirming the legitimacy and depth of Hawaiian healing. \nParticipants will also enjoy cultural demonstrations like kapa\, lei hulu\, ulana\, Hawaiian games\, and kuʻi ʻai.  Resource tables from community organizations and local vendors will be on-site\, along with keiki-friendly activities\, food booths featuring laulau and kalua pig\, a Silent Auction and Country Store featuring baked goods\, native plants\, herbal salves and other locally-made items! \nTwo local films exploring -Ai-Responsibilities and Privileges of Eating and Kapu- Sacred Relationships between Land & People- will be screened during the middle of the day\, offering another layer of cultural insight. \nWorkshops are limited so please sign up via the flyer’s QR code.-Join us! Presented by Pihana Ka ʻIkena\, Nā Mamo Kaiāulu is more than an event—it is a reaffirmation of community\, culture\, and healing. Come learn\, connect\, and celebrate.
URL:https://kauaifestivals.com/festival/na-mamo-kaiaulu/
LOCATION:United States
CATEGORIES:Featured Events,Island Happenings
ATTACH;FMTTYPE=image/jpeg:https://kauaifestivals.com/wp-content/uploads/2025/08/Na-Mamo-Kaiaulu-Event-Flyer-JPG-2.jpg
ORGANIZER;CN="Nalani%20Brun":MAILTO:Geevum@earthlink.net
END:VEVENT
END:VCALENDAR