BEGIN:VCALENDAR
VERSION:2.0
PRODID:-//Kaua‘i Festivals &amp; Events - ECPv6.0.12//NONSGML v1.0//EN
CALSCALE:GREGORIAN
METHOD:PUBLISH
X-ORIGINAL-URL:https://kauaifestivals.com
X-WR-CALDESC:Events for Kaua‘i Festivals &amp; Events
REFRESH-INTERVAL;VALUE=DURATION:PT1H
X-Robots-Tag:noindex
X-PUBLISHED-TTL:PT1H
BEGIN:VTIMEZONE
TZID:Pacific/Honolulu
BEGIN:STANDARD
TZOFFSETFROM:-1000
TZOFFSETTO:-1000
TZNAME:HST
DTSTART:20250101T000000
END:STANDARD
END:VTIMEZONE
BEGIN:VEVENT
DTSTART;TZID=Pacific/Honolulu:20250620T120000
DTEND;TZID=Pacific/Honolulu:20250702T163000
DTSTAMP:20260419T084106
CREATED:20250626T115713Z
LAST-MODIFIED:20250626T115713Z
UID:10015329-1750420800-1751473800@kauaifestivals.com
SUMMARY:Summer Adoption Special - Free dog and cat adoptions for locals!
DESCRIPTION:SUMMER ADOPTION SPECIAL\nFrom June 20 to July 2\, we’re waiving adoption fees for on-island residents — that means FREE cat and dog adoptions for locals!\nIf you’ve been thinking about adding a furry friend to your life\, now’s the perfect time to get your buddy for the summer (and beyond).\n– Walk-in adoption hours: 12:00–4:30 PM daily\, closed Thursdays.\n– Off-island adoptions are still $200–$300.\nLet’s find these pets the loving homes they deserve.\n\nVisit kauaihumane.org/adopting/ to learn more!
URL:https://kauaifestivals.com/festival/summer-adoption-special-free-dog-and-cat-adoptions-for-locals/
LOCATION:Kauai Humane Society\, Puhi\, HI\, United States
CATEGORIES:Island Happenings
ATTACH;FMTTYPE=image/png:https://kauaifestivals.com/wp-content/uploads/2025/06/adoption-special-instagram-Facebook-Post.png
ORGANIZER;CN="Kauai%20Humane%20Society":MAILTO:support@kauaihumane.org
GEO:21.9686111;-159.3994444
END:VEVENT
BEGIN:VEVENT
DTSTART;TZID=Pacific/Honolulu:20250726T070000
DTEND;TZID=Pacific/Honolulu:20250726T113000
DTSTAMP:20260419T084106
CREATED:20220511T223142Z
LAST-MODIFIED:20250417T194923Z
UID:10008629-1753513200-1753529400@kauaifestivals.com
SUMMARY:Hanalei Bay Swim Challenge
DESCRIPTION:Namolokama OʻHanalei Canoe Club is holding the 2025 Hanalei Bay Swim Challenge for the 16th time! This amazing event occurs in beautiful Hanalei Bay on July 26\, 2025. The HBSC consists of five fun and competitive races. There is something for everyone\, from the Keiki 12 & under pier swim\, to the 1\,000 and 3\,000-meter swims.  Hanalei Bay in the summer\, with its warm\, clear\, gentle waters and sandy bottom\, provides the perfect venue for races of all ages and abilities.  For  information and online registration visit https://flpregister.com/730. \nHBSC Website  https://namolokama.org/event/hanaleibayswimchallenge/. For more information contact us at hanaleibayswim@gmail.com.
URL:https://kauaifestivals.com/festival/hanalei-bay-swim-challenge/
LOCATION:Hanalei Pier\, Hanalei\, 96714
CATEGORIES:Island Happenings
ATTACH;FMTTYPE=image/jpeg:https://kauaifestivals.com/wp-content/uploads/2022/05/IMG_9996-scaled.jpeg
ORGANIZER;CN="Pam%20Murphy":MAILTO:pamedgehill@me.com
GEO:22.2033221;-159.4977455
END:VEVENT
END:VCALENDAR