BEGIN:VCALENDAR
VERSION:2.0
PRODID:-//Kaua‘i Festivals &amp; Events - ECPv6.0.12//NONSGML v1.0//EN
CALSCALE:GREGORIAN
METHOD:PUBLISH
X-ORIGINAL-URL:https://kauaifestivals.com
X-WR-CALDESC:Events for Kaua‘i Festivals &amp; Events
REFRESH-INTERVAL;VALUE=DURATION:PT1H
X-Robots-Tag:noindex
X-PUBLISHED-TTL:PT1H
BEGIN:VTIMEZONE
TZID:Pacific/Honolulu
BEGIN:STANDARD
TZOFFSETFROM:-1000
TZOFFSETTO:-1000
TZNAME:HST
DTSTART:20260101T000000
END:STANDARD
END:VTIMEZONE
BEGIN:VEVENT
DTSTART;TZID=Pacific/Honolulu:20260701T130000
DTEND;TZID=Pacific/Honolulu:20260701T170000
DTSTAMP:20260419T100447
CREATED:20251223T225254Z
LAST-MODIFIED:20251223T225254Z
UID:10016001-1782910800-1782925200@kauaifestivals.com
SUMMARY:Makai Music & Art Festival Kauai
DESCRIPTION:Come share the Aloha with us every Wednesday from 1-5pm at our Makai Music and Art Festival Kaua’i.  Free-entry\, free event parking and FREE live music concerts  Shop our 20+ wonderful\, eclectic\, talented local artisans and vendors each week while being entertained by our fabulous live musicians here on our beautiful Garden Isle of Kaua’i. Buy handmade and support local small businesses. Mahalo for your support.  The Makai Grill is also open serving food and drinks for you to enjoy while listening to our live free music concerts. Plus\, we have alternating dessert vendors and Chunks Cookies\, with yummy treats too.\n\nLike/Follow our Facebook and Instagram pages:https://www.facebook.com/MakaiMusicAndArtFest\n\nhttps://www.instagram.com/makaimusicandartfestivalkauai
URL:https://kauaifestivals.com/festival/makai-music-art-festival-kauai/2026-07-01/
LOCATION:Princeville Makai Golf Club\, 4080 Lei O Papa\, Princeville\, HI\, 96722\, United States
CATEGORIES:Island Happenings
ATTACH;FMTTYPE=image/jpeg:https://kauaifestivals.com/wp-content/uploads/2025/12/963fd97c-47c1-4332-868f-3b3528fc6506-2.jpg
ORGANIZER;CN="Makai%20Music%20%26amp%3B%20Art%20Festival%20Kauai":MAILTO:jersoulgood@gmail.com
GEO:22.2228551;-159.468609
X-APPLE-STRUCTURED-LOCATION;VALUE=URI;X-ADDRESS=Princeville Makai Golf Club 4080 Lei O Papa Princeville HI 96722 United States;X-APPLE-RADIUS=500;X-TITLE=4080 Lei O Papa:geo:-159.468609,22.2228551
END:VEVENT
BEGIN:VEVENT
DTSTART;TZID=Pacific/Honolulu:20260708T130000
DTEND;TZID=Pacific/Honolulu:20260708T170000
DTSTAMP:20260419T100447
CREATED:20251223T225254Z
LAST-MODIFIED:20251223T225254Z
UID:10016002-1783515600-1783530000@kauaifestivals.com
SUMMARY:Makai Music & Art Festival Kauai
DESCRIPTION:Come share the Aloha with us every Wednesday from 1-5pm at our Makai Music and Art Festival Kaua’i.  Free-entry\, free event parking and FREE live music concerts  Shop our 20+ wonderful\, eclectic\, talented local artisans and vendors each week while being entertained by our fabulous live musicians here on our beautiful Garden Isle of Kaua’i. Buy handmade and support local small businesses. Mahalo for your support.  The Makai Grill is also open serving food and drinks for you to enjoy while listening to our live free music concerts. Plus\, we have alternating dessert vendors and Chunks Cookies\, with yummy treats too.\n\nLike/Follow our Facebook and Instagram pages:https://www.facebook.com/MakaiMusicAndArtFest\n\nhttps://www.instagram.com/makaimusicandartfestivalkauai
URL:https://kauaifestivals.com/festival/makai-music-art-festival-kauai/2026-07-08/
LOCATION:Princeville Makai Golf Club\, 4080 Lei O Papa\, Princeville\, HI\, 96722\, United States
CATEGORIES:Island Happenings
ATTACH;FMTTYPE=image/jpeg:https://kauaifestivals.com/wp-content/uploads/2025/12/963fd97c-47c1-4332-868f-3b3528fc6506-2.jpg
ORGANIZER;CN="Makai%20Music%20%26amp%3B%20Art%20Festival%20Kauai":MAILTO:jersoulgood@gmail.com
GEO:22.2228551;-159.468609
X-APPLE-STRUCTURED-LOCATION;VALUE=URI;X-ADDRESS=Princeville Makai Golf Club 4080 Lei O Papa Princeville HI 96722 United States;X-APPLE-RADIUS=500;X-TITLE=4080 Lei O Papa:geo:-159.468609,22.2228551
END:VEVENT
BEGIN:VEVENT
DTSTART;TZID=Pacific/Honolulu:20260712T160000
DTEND;TZID=Pacific/Honolulu:20260712T200000
DTSTAMP:20260419T100447
CREATED:20240918T232428Z
LAST-MODIFIED:20251004T210544Z
UID:10015720-1783872000-1783886400@kauaifestivals.com
SUMMARY:Princeville Night Market
DESCRIPTION:Connect with 45 of Kauai’s best artisans at this monthly market. Food trucks\, restaurants\, and several musicians make it a market to remember! \nOur exact vendor line-up changes regularly\, but you’re sure to find paintings\, ceramics\, photography\, jewelry\, soaps & more\, plus meet the local artists who make it all. Three different music tents create a lively atmosphere\, and the food trucks and dessert options aren’t to be missed. \nThis free and family friendly event has been proudly running since 2015. You’ll find us on the Second Sunday of each month from 4-8pm\, only at the Princeville Shopping Center. Our open-air outdoor market is a rain or shine event. We hope to see you there! \nFollow us on instagram! @PrincevilleNightMarket
URL:https://kauaifestivals.com/festival/princeville-night-market/2026-07-12/
LOCATION:Princeville Shopping Center\, 5-4280 Kuhio Hwy\, Princeville\, HI\, 96722\, United States
CATEGORIES:Island Happenings
ATTACH;FMTTYPE=image/jpeg:https://kauaifestivals.com/wp-content/uploads/2024/09/Julie.jpg
ORGANIZER;CN="Princeville%20Night%20Market":MAILTO:PrincevilleNightMarket@gmail.com
GEO:19.8967662;-155.5827818
X-APPLE-STRUCTURED-LOCATION;VALUE=URI;X-ADDRESS=Princeville Shopping Center 5-4280 Kuhio Hwy Princeville HI 96722 United States;X-APPLE-RADIUS=500;X-TITLE=5-4280 Kuhio Hwy:geo:-155.5827818,19.8967662
END:VEVENT
BEGIN:VEVENT
DTSTART;TZID=Pacific/Honolulu:20260715T130000
DTEND;TZID=Pacific/Honolulu:20260715T170000
DTSTAMP:20260419T100447
CREATED:20251223T225254Z
LAST-MODIFIED:20251223T225254Z
UID:10016003-1784120400-1784134800@kauaifestivals.com
SUMMARY:Makai Music & Art Festival Kauai
DESCRIPTION:Come share the Aloha with us every Wednesday from 1-5pm at our Makai Music and Art Festival Kaua’i.  Free-entry\, free event parking and FREE live music concerts  Shop our 20+ wonderful\, eclectic\, talented local artisans and vendors each week while being entertained by our fabulous live musicians here on our beautiful Garden Isle of Kaua’i. Buy handmade and support local small businesses. Mahalo for your support.  The Makai Grill is also open serving food and drinks for you to enjoy while listening to our live free music concerts. Plus\, we have alternating dessert vendors and Chunks Cookies\, with yummy treats too.\n\nLike/Follow our Facebook and Instagram pages:https://www.facebook.com/MakaiMusicAndArtFest\n\nhttps://www.instagram.com/makaimusicandartfestivalkauai
URL:https://kauaifestivals.com/festival/makai-music-art-festival-kauai/2026-07-15/
LOCATION:Princeville Makai Golf Club\, 4080 Lei O Papa\, Princeville\, HI\, 96722\, United States
CATEGORIES:Island Happenings
ATTACH;FMTTYPE=image/jpeg:https://kauaifestivals.com/wp-content/uploads/2025/12/963fd97c-47c1-4332-868f-3b3528fc6506-2.jpg
ORGANIZER;CN="Makai%20Music%20%26amp%3B%20Art%20Festival%20Kauai":MAILTO:jersoulgood@gmail.com
GEO:22.2228551;-159.468609
X-APPLE-STRUCTURED-LOCATION;VALUE=URI;X-ADDRESS=Princeville Makai Golf Club 4080 Lei O Papa Princeville HI 96722 United States;X-APPLE-RADIUS=500;X-TITLE=4080 Lei O Papa:geo:-159.468609,22.2228551
END:VEVENT
BEGIN:VEVENT
DTSTART;TZID=Pacific/Honolulu:20260722T130000
DTEND;TZID=Pacific/Honolulu:20260722T170000
DTSTAMP:20260419T100447
CREATED:20251223T225254Z
LAST-MODIFIED:20251223T225254Z
UID:10016004-1784725200-1784739600@kauaifestivals.com
SUMMARY:Makai Music & Art Festival Kauai
DESCRIPTION:Come share the Aloha with us every Wednesday from 1-5pm at our Makai Music and Art Festival Kaua’i.  Free-entry\, free event parking and FREE live music concerts  Shop our 20+ wonderful\, eclectic\, talented local artisans and vendors each week while being entertained by our fabulous live musicians here on our beautiful Garden Isle of Kaua’i. Buy handmade and support local small businesses. Mahalo for your support.  The Makai Grill is also open serving food and drinks for you to enjoy while listening to our live free music concerts. Plus\, we have alternating dessert vendors and Chunks Cookies\, with yummy treats too.\n\nLike/Follow our Facebook and Instagram pages:https://www.facebook.com/MakaiMusicAndArtFest\n\nhttps://www.instagram.com/makaimusicandartfestivalkauai
URL:https://kauaifestivals.com/festival/makai-music-art-festival-kauai/2026-07-22/
LOCATION:Princeville Makai Golf Club\, 4080 Lei O Papa\, Princeville\, HI\, 96722\, United States
CATEGORIES:Island Happenings
ATTACH;FMTTYPE=image/jpeg:https://kauaifestivals.com/wp-content/uploads/2025/12/963fd97c-47c1-4332-868f-3b3528fc6506-2.jpg
ORGANIZER;CN="Makai%20Music%20%26amp%3B%20Art%20Festival%20Kauai":MAILTO:jersoulgood@gmail.com
GEO:22.2228551;-159.468609
X-APPLE-STRUCTURED-LOCATION;VALUE=URI;X-ADDRESS=Princeville Makai Golf Club 4080 Lei O Papa Princeville HI 96722 United States;X-APPLE-RADIUS=500;X-TITLE=4080 Lei O Papa:geo:-159.468609,22.2228551
END:VEVENT
BEGIN:VEVENT
DTSTART;TZID=Pacific/Honolulu:20260729T130000
DTEND;TZID=Pacific/Honolulu:20260729T170000
DTSTAMP:20260419T100447
CREATED:20251223T225254Z
LAST-MODIFIED:20251223T225254Z
UID:10016005-1785330000-1785344400@kauaifestivals.com
SUMMARY:Makai Music & Art Festival Kauai
DESCRIPTION:Come share the Aloha with us every Wednesday from 1-5pm at our Makai Music and Art Festival Kaua’i.  Free-entry\, free event parking and FREE live music concerts  Shop our 20+ wonderful\, eclectic\, talented local artisans and vendors each week while being entertained by our fabulous live musicians here on our beautiful Garden Isle of Kaua’i. Buy handmade and support local small businesses. Mahalo for your support.  The Makai Grill is also open serving food and drinks for you to enjoy while listening to our live free music concerts. Plus\, we have alternating dessert vendors and Chunks Cookies\, with yummy treats too.\n\nLike/Follow our Facebook and Instagram pages:https://www.facebook.com/MakaiMusicAndArtFest\n\nhttps://www.instagram.com/makaimusicandartfestivalkauai
URL:https://kauaifestivals.com/festival/makai-music-art-festival-kauai/2026-07-29/
LOCATION:Princeville Makai Golf Club\, 4080 Lei O Papa\, Princeville\, HI\, 96722\, United States
CATEGORIES:Island Happenings
ATTACH;FMTTYPE=image/jpeg:https://kauaifestivals.com/wp-content/uploads/2025/12/963fd97c-47c1-4332-868f-3b3528fc6506-2.jpg
ORGANIZER;CN="Makai%20Music%20%26amp%3B%20Art%20Festival%20Kauai":MAILTO:jersoulgood@gmail.com
GEO:22.2228551;-159.468609
X-APPLE-STRUCTURED-LOCATION;VALUE=URI;X-ADDRESS=Princeville Makai Golf Club 4080 Lei O Papa Princeville HI 96722 United States;X-APPLE-RADIUS=500;X-TITLE=4080 Lei O Papa:geo:-159.468609,22.2228551
END:VEVENT
END:VCALENDAR