BEGIN:VCALENDAR
VERSION:2.0
PRODID:-//Kaua‘i Festivals &amp; Events - ECPv6.0.12//NONSGML v1.0//EN
CALSCALE:GREGORIAN
METHOD:PUBLISH
X-WR-CALNAME:Kaua‘i Festivals &amp; Events
X-ORIGINAL-URL:https://kauaifestivals.com
X-WR-CALDESC:Events for Kaua‘i Festivals &amp; Events
REFRESH-INTERVAL;VALUE=DURATION:PT1H
X-Robots-Tag:noindex
X-PUBLISHED-TTL:PT1H
BEGIN:VTIMEZONE
TZID:Pacific/Honolulu
BEGIN:STANDARD
TZOFFSETFROM:-1000
TZOFFSETTO:-1000
TZNAME:HST
DTSTART:20260101T000000
END:STANDARD
END:VTIMEZONE
BEGIN:VEVENT
DTSTART;TZID=Pacific/Honolulu:20260503T110000
DTEND;TZID=Pacific/Honolulu:20260503T160000
DTSTAMP:20260419T064947
CREATED:20260317T022322Z
LAST-MODIFIED:20260317T022322Z
UID:10016517-1777806000-1777824000@kauaifestivals.com
SUMMARY:Waipā 'Āina Festival 2026
DESCRIPTION:Looking to connect with ʻāina\, culture\, and community? Waipā is hosting our third annual ʻĀina Festival on Sunday\, May 3rd\, from 11am to 4pm at Halulu Fishpond in Waipā\, located a half-mile past Hanalei Town. It’ll be a wonderful day of live music\, ‘ono food\, and cultural activities\, to celebrate everything ʻāina! It’ll also feature local artisans\, crafters\, hands-on keiki activities and a waterslide\, too. This is a fundraiser for Waipā Foundation and local entrepreneurs\, so gate fees ($10 general\, $1 keiki) and your purchases support our collective work! Visit WAIPAFOUNDATION.ORG or call (808) 826-9969 for more information. All are welcome — save the date!
URL:https://kauaifestivals.com/festival/waipa-aina-festival-2026/
LOCATION:Waipā Community Complex\, Hanalei\, 5-5785 Kuhio Highway\, Hanalei\, 96714
CATEGORIES:Featured Events,Island Happenings
ATTACH;FMTTYPE=image/jpeg:https://kauaifestivals.com/wp-content/uploads/2026/03/Kalo-Fest-16-scaled.jpg
ORGANIZER;CN="Waipa%20Foundation":MAILTO:waipaonline@gmail.com
GEO:22.2035869;-159.5134261
X-APPLE-STRUCTURED-LOCATION;VALUE=URI;X-ADDRESS=Waipā Community Complex Hanalei 5-5785 Kuhio Highway Hanalei 96714;X-APPLE-RADIUS=500;X-TITLE=5-5785 Kuhio Highway:geo:-159.5134261,22.2035869
END:VEVENT
BEGIN:VEVENT
DTSTART;TZID=Pacific/Honolulu:20260506T130000
DTEND;TZID=Pacific/Honolulu:20260506T170000
DTSTAMP:20260419T064947
CREATED:20251223T225254Z
LAST-MODIFIED:20251223T225254Z
UID:10015993-1778072400-1778086800@kauaifestivals.com
SUMMARY:Makai Music & Art Festival Kauai
DESCRIPTION:Come share the Aloha with us every Wednesday from 1-5pm at our Makai Music and Art Festival Kaua’i.  Free-entry\, free event parking and FREE live music concerts  Shop our 20+ wonderful\, eclectic\, talented local artisans and vendors each week while being entertained by our fabulous live musicians here on our beautiful Garden Isle of Kaua’i. Buy handmade and support local small businesses. Mahalo for your support.  The Makai Grill is also open serving food and drinks for you to enjoy while listening to our live free music concerts. Plus\, we have alternating dessert vendors and Chunks Cookies\, with yummy treats too.\n\nLike/Follow our Facebook and Instagram pages:https://www.facebook.com/MakaiMusicAndArtFest\n\nhttps://www.instagram.com/makaimusicandartfestivalkauai
URL:https://kauaifestivals.com/festival/makai-music-art-festival-kauai/2026-05-06/
LOCATION:Princeville Makai Golf Club\, 4080 Lei O Papa\, Princeville\, HI\, 96722\, United States
CATEGORIES:Island Happenings
ATTACH;FMTTYPE=image/jpeg:https://kauaifestivals.com/wp-content/uploads/2025/12/963fd97c-47c1-4332-868f-3b3528fc6506-2.jpg
ORGANIZER;CN="Makai%20Music%20%26amp%3B%20Art%20Festival%20Kauai":MAILTO:jersoulgood@gmail.com
GEO:22.2228551;-159.468609
X-APPLE-STRUCTURED-LOCATION;VALUE=URI;X-ADDRESS=Princeville Makai Golf Club 4080 Lei O Papa Princeville HI 96722 United States;X-APPLE-RADIUS=500;X-TITLE=4080 Lei O Papa:geo:-159.468609,22.2228551
END:VEVENT
BEGIN:VEVENT
DTSTART;TZID=Pacific/Honolulu:20260510T160000
DTEND;TZID=Pacific/Honolulu:20260510T200000
DTSTAMP:20260419T064947
CREATED:20240918T232428Z
LAST-MODIFIED:20251004T210544Z
UID:10015718-1778428800-1778443200@kauaifestivals.com
SUMMARY:Princeville Night Market
DESCRIPTION:Connect with 45 of Kauai’s best artisans at this monthly market. Food trucks\, restaurants\, and several musicians make it a market to remember! \nOur exact vendor line-up changes regularly\, but you’re sure to find paintings\, ceramics\, photography\, jewelry\, soaps & more\, plus meet the local artists who make it all. Three different music tents create a lively atmosphere\, and the food trucks and dessert options aren’t to be missed. \nThis free and family friendly event has been proudly running since 2015. You’ll find us on the Second Sunday of each month from 4-8pm\, only at the Princeville Shopping Center. Our open-air outdoor market is a rain or shine event. We hope to see you there! \nFollow us on instagram! @PrincevilleNightMarket
URL:https://kauaifestivals.com/festival/princeville-night-market/2026-05-10/
LOCATION:Princeville Shopping Center\, 5-4280 Kuhio Hwy\, Princeville\, HI\, 96722\, United States
CATEGORIES:Island Happenings
ATTACH;FMTTYPE=image/jpeg:https://kauaifestivals.com/wp-content/uploads/2024/09/Julie.jpg
ORGANIZER;CN="Princeville%20Night%20Market":MAILTO:PrincevilleNightMarket@gmail.com
GEO:19.8967662;-155.5827818
X-APPLE-STRUCTURED-LOCATION;VALUE=URI;X-ADDRESS=Princeville Shopping Center 5-4280 Kuhio Hwy Princeville HI 96722 United States;X-APPLE-RADIUS=500;X-TITLE=5-4280 Kuhio Hwy:geo:-155.5827818,19.8967662
END:VEVENT
BEGIN:VEVENT
DTSTART;TZID=Pacific/Honolulu:20260513T130000
DTEND;TZID=Pacific/Honolulu:20260513T170000
DTSTAMP:20260419T064947
CREATED:20251223T225254Z
LAST-MODIFIED:20251223T225254Z
UID:10015994-1778677200-1778691600@kauaifestivals.com
SUMMARY:Makai Music & Art Festival Kauai
DESCRIPTION:Come share the Aloha with us every Wednesday from 1-5pm at our Makai Music and Art Festival Kaua’i.  Free-entry\, free event parking and FREE live music concerts  Shop our 20+ wonderful\, eclectic\, talented local artisans and vendors each week while being entertained by our fabulous live musicians here on our beautiful Garden Isle of Kaua’i. Buy handmade and support local small businesses. Mahalo for your support.  The Makai Grill is also open serving food and drinks for you to enjoy while listening to our live free music concerts. Plus\, we have alternating dessert vendors and Chunks Cookies\, with yummy treats too.\n\nLike/Follow our Facebook and Instagram pages:https://www.facebook.com/MakaiMusicAndArtFest\n\nhttps://www.instagram.com/makaimusicandartfestivalkauai
URL:https://kauaifestivals.com/festival/makai-music-art-festival-kauai/2026-05-13/
LOCATION:Princeville Makai Golf Club\, 4080 Lei O Papa\, Princeville\, HI\, 96722\, United States
CATEGORIES:Island Happenings
ATTACH;FMTTYPE=image/jpeg:https://kauaifestivals.com/wp-content/uploads/2025/12/963fd97c-47c1-4332-868f-3b3528fc6506-2.jpg
ORGANIZER;CN="Makai%20Music%20%26amp%3B%20Art%20Festival%20Kauai":MAILTO:jersoulgood@gmail.com
GEO:22.2228551;-159.468609
X-APPLE-STRUCTURED-LOCATION;VALUE=URI;X-ADDRESS=Princeville Makai Golf Club 4080 Lei O Papa Princeville HI 96722 United States;X-APPLE-RADIUS=500;X-TITLE=4080 Lei O Papa:geo:-159.468609,22.2228551
END:VEVENT
BEGIN:VEVENT
DTSTART;TZID=Pacific/Honolulu:20260516T100000
DTEND;TZID=Pacific/Honolulu:20260516T160000
DTSTAMP:20260419T064947
CREATED:20260327T220052Z
LAST-MODIFIED:20260327T220052Z
UID:10016557-1778925600-1778947200@kauaifestivals.com
SUMMARY:Loulu Love Fest
DESCRIPTION:Loulu are Hawaiʻi’s only native palms. They are ecologically and culturally vital\, serving as a primary resource for practices like hale construction and weaving. Today\, these iconic plants are threatened by coconut rhinoceros beetle — but you can make a difference! Join us for a day of celebration for loulu in McBryde Garden and connect with this cherished plant through activities\, presentations\, and guided walks! Take home your very own and help us care for loulu for generations to come. \n\n\n\n\nFree Garden Admission!\nPresentations\nGuided Walks\nUlana\nHale Thatching\nHula\nKid’s Activities\nLoulu Art\nCRB Info and CRB Dog Demo\nFood Trucks: Kickshaws and Chalupa’s\n\nJoining us for Loulu Love Fest is easy! Simply park at the Lāwaʻi Gardens Visitor Center (4425 Lāwaʻi Rd\, Kōloa) and board a complimentary shuttle for a brief\, scenic ride into McBryde Garden. Admission to the festival is free and no registration or advance booking is required. Shuttles will run on a continuous loop throughout the day\, allowing you to arrive at your convenience and return to the Visitor Center whenever you are ready.
URL:https://kauaifestivals.com/festival/loulu-love-fest/
LOCATION:National Tropical Botanical Garden\, 4425 Lawai Road\, Koloa\, HI\, 96756\, United States
CATEGORIES:Featured Events,Island Happenings
ATTACH;FMTTYPE=image/png:https://kauaifestivals.com/wp-content/uploads/2026/03/loulu.png
ORGANIZER;CN="National%20Tropical%20Botanical%20Garden":MAILTO:gsilva@ntbg.org
GEO:21.8858655;-159.4926547
X-APPLE-STRUCTURED-LOCATION;VALUE=URI;X-ADDRESS=National Tropical Botanical Garden 4425 Lawai Road Koloa HI 96756 United States;X-APPLE-RADIUS=500;X-TITLE=4425 Lawai Road:geo:-159.4926547,21.8858655
END:VEVENT
BEGIN:VEVENT
DTSTART;TZID=Pacific/Honolulu:20260520T130000
DTEND;TZID=Pacific/Honolulu:20260520T170000
DTSTAMP:20260419T064947
CREATED:20251223T225254Z
LAST-MODIFIED:20251223T225254Z
UID:10015995-1779282000-1779296400@kauaifestivals.com
SUMMARY:Makai Music & Art Festival Kauai
DESCRIPTION:Come share the Aloha with us every Wednesday from 1-5pm at our Makai Music and Art Festival Kaua’i.  Free-entry\, free event parking and FREE live music concerts  Shop our 20+ wonderful\, eclectic\, talented local artisans and vendors each week while being entertained by our fabulous live musicians here on our beautiful Garden Isle of Kaua’i. Buy handmade and support local small businesses. Mahalo for your support.  The Makai Grill is also open serving food and drinks for you to enjoy while listening to our live free music concerts. Plus\, we have alternating dessert vendors and Chunks Cookies\, with yummy treats too.\n\nLike/Follow our Facebook and Instagram pages:https://www.facebook.com/MakaiMusicAndArtFest\n\nhttps://www.instagram.com/makaimusicandartfestivalkauai
URL:https://kauaifestivals.com/festival/makai-music-art-festival-kauai/2026-05-20/
LOCATION:Princeville Makai Golf Club\, 4080 Lei O Papa\, Princeville\, HI\, 96722\, United States
CATEGORIES:Island Happenings
ATTACH;FMTTYPE=image/jpeg:https://kauaifestivals.com/wp-content/uploads/2025/12/963fd97c-47c1-4332-868f-3b3528fc6506-2.jpg
ORGANIZER;CN="Makai%20Music%20%26amp%3B%20Art%20Festival%20Kauai":MAILTO:jersoulgood@gmail.com
GEO:22.2228551;-159.468609
X-APPLE-STRUCTURED-LOCATION;VALUE=URI;X-ADDRESS=Princeville Makai Golf Club 4080 Lei O Papa Princeville HI 96722 United States;X-APPLE-RADIUS=500;X-TITLE=4080 Lei O Papa:geo:-159.468609,22.2228551
END:VEVENT
BEGIN:VEVENT
DTSTART;TZID=Pacific/Honolulu:20260527T130000
DTEND;TZID=Pacific/Honolulu:20260527T170000
DTSTAMP:20260419T064947
CREATED:20251223T225254Z
LAST-MODIFIED:20251223T225254Z
UID:10015996-1779886800-1779901200@kauaifestivals.com
SUMMARY:Makai Music & Art Festival Kauai
DESCRIPTION:Come share the Aloha with us every Wednesday from 1-5pm at our Makai Music and Art Festival Kaua’i.  Free-entry\, free event parking and FREE live music concerts  Shop our 20+ wonderful\, eclectic\, talented local artisans and vendors each week while being entertained by our fabulous live musicians here on our beautiful Garden Isle of Kaua’i. Buy handmade and support local small businesses. Mahalo for your support.  The Makai Grill is also open serving food and drinks for you to enjoy while listening to our live free music concerts. Plus\, we have alternating dessert vendors and Chunks Cookies\, with yummy treats too.\n\nLike/Follow our Facebook and Instagram pages:https://www.facebook.com/MakaiMusicAndArtFest\n\nhttps://www.instagram.com/makaimusicandartfestivalkauai
URL:https://kauaifestivals.com/festival/makai-music-art-festival-kauai/2026-05-27/
LOCATION:Princeville Makai Golf Club\, 4080 Lei O Papa\, Princeville\, HI\, 96722\, United States
CATEGORIES:Island Happenings
ATTACH;FMTTYPE=image/jpeg:https://kauaifestivals.com/wp-content/uploads/2025/12/963fd97c-47c1-4332-868f-3b3528fc6506-2.jpg
ORGANIZER;CN="Makai%20Music%20%26amp%3B%20Art%20Festival%20Kauai":MAILTO:jersoulgood@gmail.com
GEO:22.2228551;-159.468609
X-APPLE-STRUCTURED-LOCATION;VALUE=URI;X-ADDRESS=Princeville Makai Golf Club 4080 Lei O Papa Princeville HI 96722 United States;X-APPLE-RADIUS=500;X-TITLE=4080 Lei O Papa:geo:-159.468609,22.2228551
END:VEVENT
END:VCALENDAR