BEGIN:VCALENDAR
VERSION:2.0
PRODID:-//Kaua‘i Festivals &amp; Events - ECPv6.0.12//NONSGML v1.0//EN
CALSCALE:GREGORIAN
METHOD:PUBLISH
X-ORIGINAL-URL:https://kauaifestivals.com
X-WR-CALDESC:Events for Kaua‘i Festivals &amp; Events
REFRESH-INTERVAL;VALUE=DURATION:PT1H
X-Robots-Tag:noindex
X-PUBLISHED-TTL:PT1H
BEGIN:VTIMEZONE
TZID:Pacific/Honolulu
BEGIN:STANDARD
TZOFFSETFROM:-1000
TZOFFSETTO:-1000
TZNAME:HST
DTSTART:20250101T000000
END:STANDARD
END:VTIMEZONE
BEGIN:VEVENT
DTSTART;VALUE=DATE:20251008
DTEND;VALUE=DATE:20251012
DTSTAMP:20260419T102255
CREATED:20251003T011509Z
LAST-MODIFIED:20251003T011509Z
UID:10015710-1759881600-1760227199@kauaifestivals.com
SUMMARY:Fall Forest Camp 2025
DESCRIPTION:Fall Forest Camp 2025 \nCalling all Forest Akami Alumni campers! \nJoin the Fall Forest Camp from October 8-October 11 2025 at the Kokee Community Art Camp. \nReconnect with fellow alumni\, enjoy the beauty of the forest\, and create new memories together. \nFor more informatiom: \nCall 808-335-0712 \nEmail: Office@storybook.org
URL:https://kauaifestivals.com/festival/fall-forest-camp-2025/2025-10-08/
LOCATION:Kokee Community Art Camp\, Ka'aweiki Ridge Road\, Kauai\, HI\, 96714\, United States
CATEGORIES:Island Happenings
ATTACH;FMTTYPE=image/png:https://kauaifestivals.com/wp-content/uploads/2025/10/Flyer-F001.png
ORGANIZER;CN="The%20Storybook%20Theatre":MAILTO:staff.storybooktheatre@gmail.com
GEO:22.1997098;-159.5112273
X-APPLE-STRUCTURED-LOCATION;VALUE=URI;X-ADDRESS=Kokee Community Art Camp Ka'aweiki Ridge Road Kauai HI 96714 United States;X-APPLE-RADIUS=500;X-TITLE=Ka'aweiki Ridge Road:geo:-159.5112273,22.1997098
END:VEVENT
BEGIN:VEVENT
DTSTART;VALUE=DATE:20251008
DTEND;VALUE=DATE:20251009
DTSTAMP:20260419T102255
CREATED:20251003T011509Z
LAST-MODIFIED:20251003T011509Z
UID:10015711-1759910400-1759942800@kauaifestivals.com
SUMMARY:Fall Forest Camp 2025
DESCRIPTION:Fall Forest Camp 2025 \nCalling all Forest Akami Alumni campers! \nJoin the Fall Forest Camp from October 8-October 11 2025 at the Kokee Community Art Camp. \nReconnect with fellow alumni\, enjoy the beauty of the forest\, and create new memories together. \nFor more informatiom: \nCall 808-335-0712 \nEmail: Office@storybook.org
URL:https://kauaifestivals.com/festival/fall-forest-camp-2025/2025-10-08/
LOCATION:Kokee Community Art Camp\, Ka'aweiki Ridge Road\, Kauai\, HI\, 96714\, United States
CATEGORIES:Island Happenings
ATTACH;FMTTYPE=image/png:https://kauaifestivals.com/wp-content/uploads/2025/10/Flyer-F001.png
ORGANIZER;CN="The%20Storybook%20Theatre":MAILTO:staff.storybooktheatre@gmail.com
GEO:22.1997098;-159.5112273
X-APPLE-STRUCTURED-LOCATION;VALUE=URI;X-ADDRESS=Kokee Community Art Camp Ka'aweiki Ridge Road Kauai HI 96714 United States;X-APPLE-RADIUS=500;X-TITLE=Ka'aweiki Ridge Road:geo:-159.5112273,22.1997098
END:VEVENT
BEGIN:VEVENT
DTSTART;TZID=Pacific/Honolulu:20251011T163000
DTEND;TZID=Pacific/Honolulu:20251011T203000
DTSTAMP:20260419T102255
CREATED:20250905T015933Z
LAST-MODIFIED:20250905T015933Z
UID:10015465-1760200200-1760214600@kauaifestivals.com
SUMMARY:PAWS for Celebration
DESCRIPTION:🎭 PAWS for Celebration 2025 – Laissez les bons temps rouler for the dogs and cats!🎭 \n \nThe Kaua‘i Humane Society is thrilled to invite you to our fourth annual onsite PAWS for Celebration gala — and this year\, we’re bringing the spirit of Mardi Gras to the shelter!\n\n📅 Date: Saturday\, October 11\, 2025 \n🕔 Time: 5:00 P.M. – 8:15 P.M. \n📍 Location: Kaua‘i Humane Society \n \nSlip into your most festive Mardi Gras attire and join us for an unforgettable evening of celebration\, music\, and compassion. As we reflect on our accomplishments and share our vision for the future of animal welfare on Kaua‘i\, you’ll enjoy:\n 🎶 Live music to get you grooving\n 🍽️ Delicious food and drinks\n 🐾 Meet-and-greets with some of our adorable shelter animals\n 🎁 Live and silent auctions with amazing items and experiences\n 🎉 Mardi Gras-themed fun and surprises all night long!\n\nDoors open at 5:00 P.M.\, and your ticket includes access to all the festivities. Can’t join us in person? No worries — our silent auction will also be available online so everyone can take part in the celebration and support our mission.\n\nWe can’t wait to celebrate with you and show how your support makes a difference for the animals of Kaua‘i.\nMark your calendars for Saturday\, October 11 — let the good times roll!
URL:https://kauaifestivals.com/festival/paws-for-celebration/
LOCATION:Kauai Humane Society\, Puhi\, HI\, United States
CATEGORIES:Featured Events,Island Happenings
ATTACH;FMTTYPE=image/jpeg:https://kauaifestivals.com/wp-content/uploads/2025/09/PAWS-2025-flyer.jpg
ORGANIZER;CN="Kauai%20Humane":MAILTO:suport@kauaihumane.org
GEO:21.9686111;-159.3994444
END:VEVENT
BEGIN:VEVENT
DTSTART;TZID=Pacific/Honolulu:20251025T083000
DTEND;TZID=Pacific/Honolulu:20251025T113000
DTSTAMP:20260419T102255
CREATED:20250502T184741Z
LAST-MODIFIED:20250502T184741Z
UID:10015112-1761381000-1761391800@kauaifestivals.com
SUMMARY:Make a Difference Day At Lydgate Beach Park
DESCRIPTION:Every October\, Friends of Kamalani and Lydgate Park come together to observe Make A Difference Day by hosting a community workday in the park at Lydgate Beach Park. We have a variety of tasks to complete park-wide and something to fit every age level and ability.  We love to see groups of people come out and spend time taking care of our beloved park and island. \nOur next community workday will be on Saturday morning\, October 25\, 2025\, and you can let the event coordinators know you plan to kokua by completing the short form HERE. We provide coffee\, water\, snacks\, and an ono lunch\, so we appreciate a head count when you complete the form.\n \nRegistration begins at 8:30 am with work starting around 9:00 am. We have lunch immediately following work at approximately 11:00 am. \nLocal residents and visitors alike are welcome to come out and enjoy the day\, make a difference\, and develop new friendships! \nBe sure to follow us on social channels @FriendsofKamalani and we look forward to meeting you in October. \nBlessings\,
URL:https://kauaifestivals.com/festival/make-a-difference-day-at-lydgate-beach-park/
LOCATION:Lydgate Park Main Pavilion\, Leho Drive\, Lihue\, Kauai\, 96766
CATEGORIES:Island Happenings
ATTACH;FMTTYPE=image/jpeg:https://kauaifestivals.com/wp-content/uploads/2025/05/Green-and-Yellow-Illustrative-Neighborhood-Cleanup-Day-Flyer-1.jpg
ORGANIZER;CN="Friends%20of%20Kamalani%20%26amp%3B%20Lydgate%20Park":MAILTO:friendsofkamalani@gmail.com
GEO:22.0391006;-159.3378149
X-APPLE-STRUCTURED-LOCATION;VALUE=URI;X-ADDRESS=Lydgate Park Main Pavilion Leho Drive Lihue Kauai 96766;X-APPLE-RADIUS=500;X-TITLE=Leho Drive:geo:-159.3378149,22.0391006
END:VEVENT
END:VCALENDAR