BEGIN:VCALENDAR
VERSION:2.0
PRODID:-//Kaua‘i Festivals &amp; Events - ECPv6.0.12//NONSGML v1.0//EN
CALSCALE:GREGORIAN
METHOD:PUBLISH
X-WR-CALNAME:Kaua‘i Festivals &amp; Events
X-ORIGINAL-URL:https://kauaifestivals.com
X-WR-CALDESC:Events for Kaua‘i Festivals &amp; Events
REFRESH-INTERVAL;VALUE=DURATION:PT1H
X-Robots-Tag:noindex
X-PUBLISHED-TTL:PT1H
BEGIN:VTIMEZONE
TZID:Pacific/Honolulu
BEGIN:STANDARD
TZOFFSETFROM:-1000
TZOFFSETTO:-1000
TZNAME:HST
DTSTART:20250101T000000
END:STANDARD
END:VTIMEZONE
BEGIN:VEVENT
DTSTART;TZID=Pacific/Honolulu:20250802T180000
DTEND;TZID=Pacific/Honolulu:20250802T220000
DTSTAMP:20260419T070820
CREATED:20250708T012411Z
LAST-MODIFIED:20250708T012411Z
UID:10015423-1754157600-1754172000@kauaifestivals.com
SUMMARY:Po AFi Samoan FireKnife Competition
DESCRIPTION:The Po AFi Samoan FireKnife Competition features warriors ages 5-50 vying for the Overall Po AFi 2025 title. Learn about the Samoan Culture and FireKnife techniques each warrior will perform. Doors open at 6:00pm with competition to start at sundown. Admission is $5 per person\, ages 12 and under FREE. Pre-sale tickets available with QR code. A 100% of pre-sale tickets sold will go to the competitors. \nIf you would like to compete or have questions\, email Isivafireknifecrew@gmail.com. \n 
URL:https://kauaifestivals.com/festival/po-afi-samoan-fireknife-competition/
LOCATION:Kapaa Beach Park\, Niu St\, Kapaa\, HI\, 96746\, United States
CATEGORIES:Featured Events,Island Happenings
ATTACH;FMTTYPE=image/jpeg:https://kauaifestivals.com/wp-content/uploads/2025/07/image0.jpeg
GEO:22.0767201;-159.3174336
X-APPLE-STRUCTURED-LOCATION;VALUE=URI;X-ADDRESS=Kapaa Beach Park Niu St Kapaa HI 96746 United States;X-APPLE-RADIUS=500;X-TITLE=Niu St:geo:-159.3174336,22.0767201
END:VEVENT
BEGIN:VEVENT
DTSTART;TZID=Pacific/Honolulu:20250830T080000
DTEND;TZID=Pacific/Honolulu:20250830T100000
DTSTAMP:20260419T070820
CREATED:20250404T001950Z
LAST-MODIFIED:20250404T001950Z
UID:10015069-1756540800-1756548000@kauaifestivals.com
SUMMARY:12th Annual Kauai Marathon Keiki Run presented by Wilcox Health
DESCRIPTION:The 12th Annual Kauai Marathon Keiki Run presented by Wilcox Health is on Saturday\, August 30\, 2025 and takes place on the grass area on the west side of the Grand Hyatt Kauai Resort & Spa. Registration fees are $20 if registered before August 15th and $30 there after. Each participant is guaranteed a medal and t-shirt if they pre-register before August 15th. Bib and race swag pick up begins at 8am and the races start at 9:00 am. There is a 100-yard toddler trot for 2-4 year olds\, a quarter-mile run for 5-7 year olds and a half-mile run for 8-12 year olds.
URL:https://kauaifestivals.com/festival/12th-annual-kauai-marathon-keiki-run-presented-by-wilcox-health/
LOCATION:Grand Hyatt Kauai Resort and Spa\, 1571 Poipu Road\, Koloa\, HI\, 96756\, United States
CATEGORIES:Featured Events,Island Happenings
ATTACH;FMTTYPE=image/jpeg:https://kauaifestivals.com/wp-content/uploads/2025/04/DSC9823-copy.jpeg
ORGANIZER;CN="The%20Kauai%20Marathon":MAILTO:info@thekauaimarathon.com
GEO:21.875629;-159.439463
X-APPLE-STRUCTURED-LOCATION;VALUE=URI;X-ADDRESS=Grand Hyatt Kauai Resort and Spa 1571 Poipu Road Koloa HI 96756 United States;X-APPLE-RADIUS=500;X-TITLE=1571 Poipu Road:geo:-159.439463,21.875629
END:VEVENT
BEGIN:VEVENT
DTSTART;TZID=Pacific/Honolulu:20250831T060000
DTEND;TZID=Pacific/Honolulu:20250831T130000
DTSTAMP:20260419T070820
CREATED:20250404T001754Z
LAST-MODIFIED:20250404T001754Z
UID:10015068-1756620000-1756645200@kauaifestivals.com
SUMMARY:The 16th Annual Kauai Marathon and Half Marathon
DESCRIPTION:The Kauai Marathon and Half Marathon are among the most beautiful destination races in the world. Taking place on August 31\, 2025\, this race offers a unique experience and getaway that only Kauai can provide. Participants will pass by hula dancers and Taiko drum troupes along the course while taking in stunning mountain views. Each runner will conclude their journey along one of the most picturesque oceanfront finish lines in road racing. Sign up today at www.thekauaimarathon.com. Funding provided by the Hawaii Tourism Authority through the Community Enrichment Program.
URL:https://kauaifestivals.com/festival/the-16th-annual-kauai-marathon-and-half-marathon/
LOCATION:HI\, United States
CATEGORIES:Featured Events,Island Happenings
ATTACH;FMTTYPE=image/jpeg:https://kauaifestivals.com/wp-content/uploads/2025/04/TKM-2022-Da-Kine-Images-6194-copy.jpg
ORGANIZER;CN="The%20Kauai%20Marathon":MAILTO:info@thekauaimarathon.com
END:VEVENT
END:VCALENDAR