BEGIN:VCALENDAR
VERSION:2.0
PRODID:-//Kaua‘i Festivals &amp; Events - ECPv6.0.12//NONSGML v1.0//EN
CALSCALE:GREGORIAN
METHOD:PUBLISH
X-WR-CALNAME:Kaua‘i Festivals &amp; Events
X-ORIGINAL-URL:https://kauaifestivals.com
X-WR-CALDESC:Events for Kaua‘i Festivals &amp; Events
REFRESH-INTERVAL;VALUE=DURATION:PT1H
X-Robots-Tag:noindex
X-PUBLISHED-TTL:PT1H
BEGIN:VTIMEZONE
TZID:Pacific/Honolulu
BEGIN:STANDARD
TZOFFSETFROM:-1000
TZOFFSETTO:-1000
TZNAME:HST
DTSTART:20250101T000000
END:STANDARD
END:VTIMEZONE
BEGIN:VEVENT
DTSTART;TZID=Pacific/Honolulu:20251017T190000
DTEND;TZID=Pacific/Honolulu:20251017T210000
DTSTAMP:20260419T122801
CREATED:20250918T221655Z
LAST-MODIFIED:20250918T221655Z
UID:10015533-1760727600-1760734800@kauaifestivals.com
SUMMARY:OCEAN by David Attenborough
DESCRIPTION:Hoʻomalu Ke Kai is honored to host a free community showing of David Attenborough’s Ocean on Thursday\, October 17th at 7:00pm at the Kauaʻi Community College Performing Arts Center. \nThis breathtaking documentary explores the wonders of our planet’s undersea habitats\, shining a light on both the challenges our oceans face and the pathways toward recovery. \nBefore the film\, we’ll gather to learn from one another with: \n✨ Community booths showcasing local ocean conservation efforts \n✨ Panel discussion (6:50–7:20pm) with voices from our community on ocean stewardship and solutions
URL:https://kauaifestivals.com/festival/ocean-by-david-attenborough/
LOCATION:Kauai Community College  Performing Arts Center\, 3-1901 Kaumualii Hwy\, Lihue\, HI\, 96766\, United States
CATEGORIES:Island Happenings
ATTACH;FMTTYPE=image/jpeg:https://kauaifestivals.com/wp-content/uploads/2025/09/OCEAN.jpg
ORGANIZER;CN="Gregory%20von%20Hausch":MAILTO:greg3512@hawaii.edu
GEO:21.9649666;-159.421386
X-APPLE-STRUCTURED-LOCATION;VALUE=URI;X-ADDRESS=Kauai Community College  Performing Arts Center 3-1901 Kaumualii Hwy Lihue HI 96766 United States;X-APPLE-RADIUS=500;X-TITLE=3-1901 Kaumualii Hwy:geo:-159.421386,21.9649666
END:VEVENT
END:VCALENDAR