BEGIN:VCALENDAR
VERSION:2.0
PRODID:-//Kaua‘i Festivals &amp; Events - ECPv6.0.12//NONSGML v1.0//EN
CALSCALE:GREGORIAN
METHOD:PUBLISH
X-WR-CALNAME:Kaua‘i Festivals &amp; Events
X-ORIGINAL-URL:https://kauaifestivals.com
X-WR-CALDESC:Events for Kaua‘i Festivals &amp; Events
REFRESH-INTERVAL;VALUE=DURATION:PT1H
X-Robots-Tag:noindex
X-PUBLISHED-TTL:PT1H
BEGIN:VTIMEZONE
TZID:Pacific/Honolulu
BEGIN:STANDARD
TZOFFSETFROM:-1000
TZOFFSETTO:-1000
TZNAME:HST
DTSTART:20260101T000000
END:STANDARD
END:VTIMEZONE
BEGIN:VEVENT
DTSTART;VALUE=DATE:20260622
DTEND;VALUE=DATE:20260627
DTSTAMP:20260419T053321
CREATED:20260321T013807Z
LAST-MODIFIED:20260321T013807Z
UID:10016527-1782086400-1782518399@kauaifestivals.com
SUMMARY:Anaina Hou Keiki Summer Camp – June 2026
DESCRIPTION:Anaina Hou Community Park is excited to announce one-week\, full-day summer camp experience designed for students 5th grade & up! Campers rotate daily through engaging activities that include art & culture\, outdoor skills\, critical thinking games\, music\, media\, and special guest-led experiences\, all within a safe\, supervised campus environment. \nEach day includes morning snack and lunch\, structured activities\, and opportunities to learn\, play\, and collaborate with peers. \nProgram Details:\n\nDates: June 22 – 26\, 2026\nCapacity: 50 participants\nDrop-off / Pick-up information to be provided prior to camp start\n\nREQUIREMENTS & IMPORTANT INFORMATION\n\nChildren 5th grade & up\nParticipants must be able to participate in group activities and outdoor movement\n\nSCHEDULE OVERVIEW\nDaily rotations may include:\n\nArt & Culture\nOutdoor Skills & Sports\nGames & Critical Thinking\nMusic\, Movies & Media\nGuest-Led Activities\n(Final schedule subject to change based on weather and guest availability)\n\n\n\n\nWhat’s included\n\n\n5 days of guided programming (Mon-Fri) \n\n\nDaily rotating activity schedule \n\n\nArts & culture workshops \n\n\nOutdoor skills & sports \n\n\nGames\, critical thinking & team activities \n\n\nMusic\, movies\, and media experiences \n\n\nLocal guest instructors \n\n\nMorning snack & lunch included \n\n\nSupervised by trained staff & volunteers \n\n\n\n\nWhat’s not included\n\n\nTransportation to/from daily drop-off point at Anaina Hou Community Park \n\n\nEarly camper drop-off or late pick-up: Please purchase this option at checkout if needed. See pricing for more information. \n\n\n\n\n\n\n\n\nPricing\n\n\n\n\nEarly Bird Special: $500 per eligible student\nRegular Rate: $600 per student (applies once the Early Bird special ends) \nBoth registration types include all scheduled activities\, instruction\, and program coordination. Early drop-off or late pick-up is available for an additional $20 per day\, based on availability. This fee helps ensure appropriate staff are on hand to safely supervise campers outside of standard camp hours. Availability is limited and must be arranged in advance. \nTaxes and processing fees may apply at checkout.
URL:https://kauaifestivals.com/festival/anaina-hou-keiki-summer-camp-june-2026/
LOCATION:Anaina Hou Community Park\, 5-2723 Kuhio Hwy.\, Kilauea\, HI\, 96754\, United States
CATEGORIES:Island Happenings
ATTACH;FMTTYPE=image/png:https://kauaifestivals.com/wp-content/uploads/2026/03/AHCP-Summer-Camp-2025-1920-x-1080-px.png
ORGANIZER;CN="Anaina%20Hou%20Community%20Park":MAILTO:community@anainahou.org
GEO:22.2109807;-159.4160277
X-APPLE-STRUCTURED-LOCATION;VALUE=URI;X-ADDRESS=Anaina Hou Community Park 5-2723 Kuhio Hwy. Kilauea HI 96754 United States;X-APPLE-RADIUS=500;X-TITLE=5-2723 Kuhio Hwy.:geo:-159.4160277,22.2109807
END:VEVENT
END:VCALENDAR