BEGIN:VCALENDAR
VERSION:2.0
PRODID:-//Kaua‘i Festivals &amp; Events - ECPv6.0.12//NONSGML v1.0//EN
CALSCALE:GREGORIAN
METHOD:PUBLISH
X-WR-CALNAME:Kaua‘i Festivals &amp; Events
X-ORIGINAL-URL:https://kauaifestivals.com
X-WR-CALDESC:Events for Kaua‘i Festivals &amp; Events
REFRESH-INTERVAL;VALUE=DURATION:PT1H
X-Robots-Tag:noindex
X-PUBLISHED-TTL:PT1H
BEGIN:VTIMEZONE
TZID:Pacific/Honolulu
BEGIN:STANDARD
TZOFFSETFROM:-1000
TZOFFSETTO:-1000
TZNAME:HST
DTSTART:20260101T000000
END:STANDARD
END:VTIMEZONE
BEGIN:VEVENT
DTSTART;TZID=Pacific/Honolulu:20260418T140000
DTEND;TZID=Pacific/Honolulu:20260418T220000
DTSTAMP:20260419T022415
CREATED:20260329T200010Z
LAST-MODIFIED:20260329T200010Z
UID:10016676-1776520800-1776549600@kauaifestivals.com
SUMMARY:St. Theresa School Carnival
DESCRIPTION:Support St. Theresa School!  One Day Only! \n\nSt. Theresa School Carnival\n\nDate & Times\n\n\n\nSat\, Apr 18\, 2026\n2:00 pm – 10:00 pm\n\n\n\n\n\nWebsite\nhttp://sttheresakauai.com \n\n\nLocation\n8311 Kaumualii Hwy Kekaha HI 96752 \n\n\n\nSt. Theresa School is gearing up for a FABULOUS event on Saturday April 18.  All Kauai community is invited to share in the fun on the school campus in Kekaha.  Doors will open at 2pm and the festivities go on until 10pm.  Ono food including kiawe grilled chicken\, flying saucers\, malasadas\, kalua\, pork and peas\, pronto pups\, hamburgers and more.  Enjoy an icy cappuccino and delicious cotton candy!\n\nMusical guests include:\n2:00pm  Kaumakani Seniors Ukulele performers\n\n3:00pm Kauai Baptist Church contemporary praise and worship \n4:00pm Contraband \n5:15pm Tsunami Taiko \n6:00pm MKF Folkloric Filipino Dancers \n7:15pm The Lava Boyz \n8:30pm Kauai Kollab \nFunn Kwazy Rides will be on site and ready to delight! Toxic Meltdown and Turbo Tubs for the keiki and the Dunk Tank to try out your aim! Want to dunk a school principal? Wendy Souza and Mahina Anguay dare you to try! Councilmen Rapozo\, Carvalho\, and Kaneshiro will all take their turn\, then\, at 8m\, Father Edwin (STS school and parish pastor) will pray that no one hits that target as he climbs into the hot seat! Coach Beemo from Waimea High School will take a turn\, and he challenges all those baseball players out there to give it their best shot! \nKauai All Girls Rodeo is bringing their beautiful horses to share the experience of riding\, and the famous STS boat ride will be ready for action. Shop at the Country Store\, full of homegoods and yummy treats\, or at the 2nd Time Around Thrift Store which is PACKED with deals! The Silent Auction holds adventure tour certificates\, hotel stays\, golf\, shopping\, dining deals and more…. There is truly something for everyone. \nGames\, shopping\, food\, entertainment…. What a great way to spend a Saturday! Everyone can buy tickets ahead of time or at the event. All proceeds benefit the school directly\, ensuring that STS remains a thriving and vibrant part of the Kekaha Community for years to come. \nMahalo to all of the individuals and businesses who have reached out to sponsor this event so far. St. Theresa School welcomes all and is grateful for every hand and heart that gives. \n 
URL:https://kauaifestivals.com/festival/st-theresa-school-carnival/
LOCATION:St. Theresa School campus\, 8311 Kaumualii Hwy\, Kekaha\, HI\, 96752\, United States
CATEGORIES:Island Happenings
ATTACH;FMTTYPE=image/jpeg:https://kauaifestivals.com/wp-content/uploads/2026/03/CarnivalFlyer2026-2-scaled.jpg
ORGANIZER;CN="Wendy%20Souza":MAILTO:office@sttheresakauai.com
GEO:21.9668192;-159.7129342
X-APPLE-STRUCTURED-LOCATION;VALUE=URI;X-ADDRESS=St. Theresa School campus 8311 Kaumualii Hwy Kekaha HI 96752 United States;X-APPLE-RADIUS=500;X-TITLE=8311 Kaumualii Hwy:geo:-159.7129342,21.9668192
END:VEVENT
BEGIN:VEVENT
DTSTART;TZID=Pacific/Honolulu:20260418T173000
DTEND;TZID=Pacific/Honolulu:20260418T213000
DTSTAMP:20260419T022415
CREATED:20260214T220842Z
LAST-MODIFIED:20260214T220842Z
UID:10016315-1776533400-1776547800@kauaifestivals.com
SUMMARY:Leftover Salmon 4th Annual High Country Kaua’i
DESCRIPTION:High Country Kaua’i\nShow Dates\nFriday\, April 17 – With Special Guest Holly Bowling\nSaturday\, April 18 – With Special Guest Sam Bush\nSunday\, April 21 – With Special Guest BEYA \nAccess discounted 3 day passes by selecting Friday’s Date when purchasing tickets. SOLD OUT \nFor ease of purchase\, full price three day passes are available by selecting the Friday Date. \nShow Details\nFriday and Saturday\n5:30 PM: Doors Open\n6:15 PM: Music \nSunday Matinee\n2:00 PM Doors Open\n3:00 PM Music \nTimes subject to change. Any changes will be confirmed via email closer to the show date \nWho is Leftover Salmon?\nFew bands stick around for thirty years. Even fewer bands leave a legacy during that time that marks them as a truly special\, once in lifetime type band. And no band has done all that and had as much fun as Leftover Salmon. \nSince their earliest days as a forward thinking\, progressive bluegrass band who had the guts to add drums to the mix and who was unafraid to stir in any number of highly combustible styles into their ever evolving sound\, to their role as a pioneer of the modern jamband scene\, to their current status as elder statesmen of the scene who cast a huge influential shadow over every festival they play\, Leftover Salmon has been a crucial link in keeping alive the traditional music of the past while at the same time pushing that sound forward with their own weirdly\, unique style. \nSalmon is a band who over their thirty year career has never stood still; they are constantly changing\, evolving\, and inspiring. If someone wanted to understand what Americana music is they could do no better than to go to a Leftover Salmon show\, where they effortlessly glide from a bluegrass number born on the front porch\, to the down and dirty Cajun swamps with a stop on Bourbon Street in New Orleans\, to the hallowed halls of the Ryman in Nashville\, before firing one up in the mountains of Colorado. \nGuest Artists\nThis year marks our 4th Annual High Country Kaua’i and with it we are welcoming a whole new group of friends to help us celebrate in fine fashion. Friday will feature Holly Bowling\, Saturday Sam Bush\, and Sunday BEYA. \nFriday and Saturday from 3:30 PM – 5:30 PM our beautiful lanai stage overlooking the Makaleha mountain range and Wai Koa forest preserve will feature afternoon sets from Kapali Long and Jason Carter and Bronwyn Keith-Hynes. \nSaturday and Sunday from roughly 11 AM – 1 PM will both be greeted by the Pinehearts for our Bluegrass brunch with an extra special set of Mac Miller songs performed by Andy Thorn on Sunday. \nShow Details and Venue Rules\nThis show is ALL AGES. Children 5 and younger are free. \nNo outside food or beverage permitted in the venue. \nWe encourage you to bring in fillable water bottles. They must be empty upon arrival. Glass Bottles are not permitted. \nBeverage Concessions both Alcoholic and Non Alcoholic will be available throughout the show. \nFood and beverages will be available for purchase on site. The Pavilion Kitchen is open with a full menu of hot meals and snacks. Vegan/ Vegetarian options will be available. \nThis is GA standing room show. We will have some seating sections set up throughout the venue available on a first come first serve basis. \nWe will have some covered raised tables available around the perimeter of the lawned area. \nGonna need seating?? Bring your own! We encourage you to bring your own folding chairs for the lawn. Please note\, folding chairs are not allowed to be set up inside the pavilion. \nDrinking alcohol on property outside of designated areas including in our parking lots is not permitted and will be grounds for immediate removal from property. Please kokua. \nThis event is rain or shine. Please plan accordingly. \nThere will be a light bag search upon entrance. \nShirt and Shoes required for entrance. \nNo Re-Entry \n\n\n\nWhat’s included\n\nThis is GA standing room show with tiered ticket options. \nWe will have some seating sections set up throughout the venue available on a first come first serve basis. \nIf you have purchased VIP Tickets you will have access to our VIP entrance. VIP tickets include collector lanyard for each night\, limited lines through our separate VIP entrance\, additional raised site lines and VIP reserved seating inside the venue. \nWe will have some covered raised tables available around the perimeter of the lawned area. \n\n\n\nWhat’s not included\n\nFood and Drinks are not included in the ticket price. \nBeverage Concessions both Alcoholic and Non Alcoholic will be available throughout the show. \nFood will be available for purchase on site. The Pavilion Kitchen is open with a full menu of hot meals and snacks. Vegan/ Vegetarian options will be available. \n\n\n\nItinerary\n\nShow Details\nFriday\nLanai Stage\n3:30 PM: Kapali Long\nPavilion Stage\n5:30 PM: Doors Open\n6:15 PM: Holly Bowling\n7:30 PM: Leftover Salmon \nSaturday\nLanai Stage\n11:00 AM: The Pinehearts Bluegrass Brunch\n3:30 PM: Jason Carter + Bronwyn Keith-Hynes\nPavilion Stage\n5:30 PM: Doors Open\n6:15 PM: Sam Bush\n7:30 PM: Leftover Salmon \nSunday Matinee\nLanai Stage\n11:00 AM: The Pinehearts Bluegrass Brunch including a special set of Andy Thorn performs Mac Miller\nPavilion Stage\n2:00 PM Doors Open\n3:00 PM Beya\n4:00 PM Leftover Salmon \nTimes subject to change. Any changes will be confirmed via email closer to the show date \n\n\n\nHighlights\n\nA three-night run of nationally acclaimed jamgrass legends Leftover Salmon in Kaua‘i’s most intimate music venue. \nConcerts with a Cause\nAnaina Hou Community Park is excited to continue our Concerts with a Cause Mission Driven Music offerings with Leftover Salmon’s High Country Kaua’i! This concert is shining light on Anaina Hou’s Lokahi Program. A proceed from every ticket purchased to the show will go back to supporting this annual program\, which combats bullying and suicide ideation in our teens. \nFor more information or to make a direct donation beyond your ticket purchase\, please visit AnainaHou.Org
URL:https://kauaifestivals.com/festival/leftover-salmon-4th-annual-high-country-kauai/2026-04-18/
LOCATION:Anaina Hou Porter Pavilion\, 5-2723 Kuhio Highway\, Kilauea\, 96754
CATEGORIES:Island Happenings
ATTACH;FMTTYPE=image/png:https://kauaifestivals.com/wp-content/uploads/2026/02/LeftoverSalmon_2026_FlyerQRCode-1.png
ORGANIZER;CN="Anaina%20Hou%20Community%20Park":MAILTO:community@anainahou.org
GEO:22.2109763;-159.4160471
X-APPLE-STRUCTURED-LOCATION;VALUE=URI;X-ADDRESS=Anaina Hou Porter Pavilion 5-2723 Kuhio Highway Kilauea 96754;X-APPLE-RADIUS=500;X-TITLE=5-2723 Kuhio Highway:geo:-159.4160471,22.2109763
END:VEVENT
END:VCALENDAR