BEGIN:VCALENDAR
VERSION:2.0
PRODID:-//Kaua‘i Festivals &amp; Events - ECPv6.0.12//NONSGML v1.0//EN
CALSCALE:GREGORIAN
METHOD:PUBLISH
X-ORIGINAL-URL:https://kauaifestivals.com
X-WR-CALDESC:Events for Kaua‘i Festivals &amp; Events
REFRESH-INTERVAL;VALUE=DURATION:PT1H
X-Robots-Tag:noindex
X-PUBLISHED-TTL:PT1H
BEGIN:VTIMEZONE
TZID:Pacific/Honolulu
BEGIN:STANDARD
TZOFFSETFROM:-1000
TZOFFSETTO:-1000
TZNAME:HST
DTSTART:20260101T000000
END:STANDARD
END:VTIMEZONE
BEGIN:VEVENT
DTSTART;TZID=Pacific/Honolulu:20260304T130000
DTEND;TZID=Pacific/Honolulu:20260304T170000
DTSTAMP:20260419T022353
CREATED:20251223T225254Z
LAST-MODIFIED:20251223T225254Z
UID:10015984-1772629200-1772643600@kauaifestivals.com
SUMMARY:Makai Music & Art Festival Kauai
DESCRIPTION:Come share the Aloha with us every Wednesday from 1-5pm at our Makai Music and Art Festival Kaua’i.  Free-entry\, free event parking and FREE live music concerts  Shop our 20+ wonderful\, eclectic\, talented local artisans and vendors each week while being entertained by our fabulous live musicians here on our beautiful Garden Isle of Kaua’i. Buy handmade and support local small businesses. Mahalo for your support.  The Makai Grill is also open serving food and drinks for you to enjoy while listening to our live free music concerts. Plus\, we have alternating dessert vendors and Chunks Cookies\, with yummy treats too.\n\nLike/Follow our Facebook and Instagram pages:https://www.facebook.com/MakaiMusicAndArtFest\n\nhttps://www.instagram.com/makaimusicandartfestivalkauai
URL:https://kauaifestivals.com/festival/makai-music-art-festival-kauai/2026-03-04/
LOCATION:Princeville Makai Golf Club\, 4080 Lei O Papa\, Princeville\, HI\, 96722\, United States
CATEGORIES:Island Happenings
ATTACH;FMTTYPE=image/jpeg:https://kauaifestivals.com/wp-content/uploads/2025/12/963fd97c-47c1-4332-868f-3b3528fc6506-2.jpg
ORGANIZER;CN="Makai%20Music%20%26amp%3B%20Art%20Festival%20Kauai":MAILTO:jersoulgood@gmail.com
GEO:22.2228551;-159.468609
X-APPLE-STRUCTURED-LOCATION;VALUE=URI;X-ADDRESS=Princeville Makai Golf Club 4080 Lei O Papa Princeville HI 96722 United States;X-APPLE-RADIUS=500;X-TITLE=4080 Lei O Papa:geo:-159.468609,22.2228551
END:VEVENT
BEGIN:VEVENT
DTSTART;TZID=Pacific/Honolulu:20260305T160000
DTEND;TZID=Pacific/Honolulu:20260305T190000
DTSTAMP:20260419T022353
CREATED:20260119T232745Z
LAST-MODIFIED:20260120T041804Z
UID:10016140-1772726400-1772737200@kauaifestivals.com
SUMMARY:Free Hula Show & Craft Fair with Tamatea Nui O Kaua’i Every Thursday
DESCRIPTION:Tamatea Nui O Kaua’i brings to you a FREE Hula Show along with some of the Best Artists and Craft Vendors on Kauai! \nEnjoy a Free Hula show!  Watch the beautiful dancers perform to live Ukulele\, Singing and Talk a Little Story about Hawaiian History and Culture while shopping for Gifts and Souvenirs! \nOpen to Guests and Locals!  This is one of the BEST Events to find that perfect something for yourself or somone on your list\, any time of year!  From Artists to Jewelry\, Wood works to Clothing and Special Treats\, this weekly Fair has everything you need and more! \nEvery Thursday Evening from 4pm tp 7pm with the FREE Hula Show starting at 5:30pm. \nThis is an open to All ages event with Handicap access and is held rain or shine. \nEvent happens in the Lobby of the Hilton Garden Inn\, Wailua Bay  3-5920 Kuhio Highway\, Kapaa \nPull in\, Park and Play!!
URL:https://kauaifestivals.com/festival/free-hula-show-craft-fair-with-tamatea-nui-o-kauai-every-thursday/2026-03-05/
LOCATION:HILTON GARDEN IN WAILUA BAY\, KAPAA KAUAI\, 3-5920 Kuhio Hwy\, KAPAA\, 96746
CATEGORIES:Island Happenings
ATTACH;FMTTYPE=image/png:https://kauaifestivals.com/wp-content/uploads/2026/01/HILTON-THURSDAY-WEEKLY-PNG-1.png
ORGANIZER;CN="HO%27OHIWAHIWA%20FAIR":MAILTO:hoohiwahiwahgi@gmail.com
GEO:22.0427204;-159.3361068
X-APPLE-STRUCTURED-LOCATION;VALUE=URI;X-ADDRESS=HILTON GARDEN IN WAILUA BAY KAPAA KAUAI 3-5920 Kuhio Hwy KAPAA 96746;X-APPLE-RADIUS=500;X-TITLE=3-5920 Kuhio Hwy:geo:-159.3361068,22.0427204
END:VEVENT
BEGIN:VEVENT
DTSTART;TZID=Pacific/Honolulu:20260307T173000
DTEND;TZID=Pacific/Honolulu:20260307T210000
DTSTAMP:20260419T022353
CREATED:20260211T210809Z
LAST-MODIFIED:20260211T214525Z
UID:10016312-1772904600-1772917200@kauaifestivals.com
SUMMARY:Eli-Mac + Her Band
DESCRIPTION:ELI-MAC\nEli-Mac’s story reads like a fairytale– it’s a musical journey which has turned into an impressive career that took flight with her debut release of her hit five-song EP\, entitled Dubstop EP. A proud Filipino growing up in Hawaii\, Ciara-Camile (Eli-Mac spelled backwards) Roque Velasco was a rebel early on\, combining her island music roots with her love of R&B and hip-hop. At the age of 18\, Camile’s journey took shape when she landed a spot on the hit TV show American Idol as a Top 10 finalist on Season 3. From there\, Eli-Mac went on to record a version of Bob Marley’s “Guava Jelly\,” produced by his son Stephen Marley\, at Tuff Gong Studios in Jamaica. The track earned her the Hawaii Music Awards’ “Single of the Year.” Since then\, Eli-Mac has been touring relentlessly across the US and beyond. A new studio album is currently in the works for this year\, following up on her latest release “Resume” featuring Collie Buddz. \nEli-Mac’s musical and fashion style comes from growing up in the ‘90s listening to Lauryn Hill\, Salt-N-Pepa\, TLC\, and Erykah Badu along with hip-hop icons Wu-Tang Clan\, Nas\, Tupac Shakur\, and Mobb Deep. She shared her mom’s love of ‘70s disco and ‘80s Madonna\, while her father turned her onto ‘60s classic rock and jazz from The Eagles and The Doors to Billie Holiday. She discovered her sound by combining her three favorite genres – roots reggae\, hip-hop and R&B – creating the groundbreaking Dubstop EP with subsequent dub-wise\, rootsy songs like “Can’t Get Enough” and “Roots Girl.” Earlier releases\, like the slinky “Mr. Sensi” featuring Conkarah\, represent Eli-Mac’s unique urban island style and support for cannabis culture. \n“I am proud to incorporate my upbringing in Hawaii into my music. That culture remains important to me…” \nBy rebranding herself as Eli-Mac\, Camile has been able to step outside herself – and the limitations put on her by others. She has emerged into a rebellious\, confident\, polarizing performer\, not an alter ego\, as she insists – but a truer version of her real self. \n“Eli-Mac is an extension of who I really am\,” she explains. “And that has allowed me the\nultimate freedom to finally be myself without conforming to any of the stereotypes the industry imposes on women.” \nEli-Mac has shared the stage with iconic artists like Gwen Stefani\, Sublime\, Lauryn Hill\, Shaggy\, Stephen Marley\, Iration\, SOJA\, Collie Buddz\, J Boog and Common Kings\, just to name a few. \nShow Date\nSaturday\, March 7\, 2026 \nShow Details\n5:30 PM: Doors Open\n6:30 PM: Music \nTimes subject to change. Any changes will be confirmed via email closer to the show date \n\n\n\nWhat’s included\n\nTickets\nAll tickets subject to tax and fees\nGA Tickets $45.00\nDay of Show Tickets $60 if Available \nShow Details and Venue Rules\nThis show is all ages. Children 5 and under free. \nNo outside food or beverage permitted in the venue. Empty bottes to fill with water are encouraged but must be empty upon arrival. No Glass. \nBeverage Concessions both Alcoholic and Non Alcoholic will be available throughout the show. \nFood will be available for purchase on site. The Pavilion Kitchen is open with a full menu of hot meals and snacks. Vegan/ Vegetarian options will be available. \nThis is GA standing room show. We will have some seating sections set up throughout the venue available on a first come first serve basis. \nWe will have some covered raised tables available around the perimeter of the lawned area. \nGonna need seating?? Bring your own! We encourage you to bring your own folding chairs for the lawn. Please note\, folding chairs are not allowed to be set up inside the pavilion. \nDrinking alcohol on property outside of designated areas including in our parking lots is not permitted and will be grounds for immediate removal from property. Please kokua. \nThis event is rain or shine. Please plan accordingly. \nThere will be a light bag search upon entrance. \nShirt and Shoes required for entrance. \nNo Re-Entry \n\n\n\nItinerary\n\n3:00 PM Community Pre-Party Music – Lanai Stage (No Ticket Required)\n5:30 PM Pavilion Doors Open\n7:30 PM Eli-Mac \n\n\n\nHighlights\n\nThis concert is a public ticketed show to support Anaina Hou\, IGE\, and KPAA’s annual Lokahi Music in the schools program. Eli-Mac is this year’s Lokahi Ambassador providing needed outreach to our keiki combatting bullying and the rising suicide rates on this island. Eli-Mac’s donation of time and energy to this cause is critical to the success of this program. We are beyond excited to welcomer her to the Porter Pavilion as we raise awareness and needed funding to keep our program in the schools alive.
URL:https://kauaifestivals.com/festival/eli-mac-her-band/
LOCATION:Anaina Hou Porter Pavilion\, 5-2723 Kuhio Highway\, Kilauea\, 96754
CATEGORIES:Island Happenings
ATTACH;FMTTYPE=image/png:https://kauaifestivals.com/wp-content/uploads/2026/02/Eli-Mac-Flyer-Instagram-Post-45-1.png
ORGANIZER;CN="Anaina%20Hou%20Community%20Park":MAILTO:community@anainahou.org
GEO:22.2109763;-159.4160471
X-APPLE-STRUCTURED-LOCATION;VALUE=URI;X-ADDRESS=Anaina Hou Porter Pavilion 5-2723 Kuhio Highway Kilauea 96754;X-APPLE-RADIUS=500;X-TITLE=5-2723 Kuhio Highway:geo:-159.4160471,22.2109763
END:VEVENT
BEGIN:VEVENT
DTSTART;TZID=Pacific/Honolulu:20260311T130000
DTEND;TZID=Pacific/Honolulu:20260311T170000
DTSTAMP:20260419T022353
CREATED:20251223T225254Z
LAST-MODIFIED:20251223T225254Z
UID:10015985-1773234000-1773248400@kauaifestivals.com
SUMMARY:Makai Music & Art Festival Kauai
DESCRIPTION:Come share the Aloha with us every Wednesday from 1-5pm at our Makai Music and Art Festival Kaua’i.  Free-entry\, free event parking and FREE live music concerts  Shop our 20+ wonderful\, eclectic\, talented local artisans and vendors each week while being entertained by our fabulous live musicians here on our beautiful Garden Isle of Kaua’i. Buy handmade and support local small businesses. Mahalo for your support.  The Makai Grill is also open serving food and drinks for you to enjoy while listening to our live free music concerts. Plus\, we have alternating dessert vendors and Chunks Cookies\, with yummy treats too.\n\nLike/Follow our Facebook and Instagram pages:https://www.facebook.com/MakaiMusicAndArtFest\n\nhttps://www.instagram.com/makaimusicandartfestivalkauai
URL:https://kauaifestivals.com/festival/makai-music-art-festival-kauai/2026-03-11/
LOCATION:Princeville Makai Golf Club\, 4080 Lei O Papa\, Princeville\, HI\, 96722\, United States
CATEGORIES:Island Happenings
ATTACH;FMTTYPE=image/jpeg:https://kauaifestivals.com/wp-content/uploads/2025/12/963fd97c-47c1-4332-868f-3b3528fc6506-2.jpg
ORGANIZER;CN="Makai%20Music%20%26amp%3B%20Art%20Festival%20Kauai":MAILTO:jersoulgood@gmail.com
GEO:22.2228551;-159.468609
X-APPLE-STRUCTURED-LOCATION;VALUE=URI;X-ADDRESS=Princeville Makai Golf Club 4080 Lei O Papa Princeville HI 96722 United States;X-APPLE-RADIUS=500;X-TITLE=4080 Lei O Papa:geo:-159.468609,22.2228551
END:VEVENT
BEGIN:VEVENT
DTSTART;TZID=Pacific/Honolulu:20260312T160000
DTEND;TZID=Pacific/Honolulu:20260312T190000
DTSTAMP:20260419T022353
CREATED:20260119T232745Z
LAST-MODIFIED:20260120T041804Z
UID:10016141-1773331200-1773342000@kauaifestivals.com
SUMMARY:Free Hula Show & Craft Fair with Tamatea Nui O Kaua’i Every Thursday
DESCRIPTION:Tamatea Nui O Kaua’i brings to you a FREE Hula Show along with some of the Best Artists and Craft Vendors on Kauai! \nEnjoy a Free Hula show!  Watch the beautiful dancers perform to live Ukulele\, Singing and Talk a Little Story about Hawaiian History and Culture while shopping for Gifts and Souvenirs! \nOpen to Guests and Locals!  This is one of the BEST Events to find that perfect something for yourself or somone on your list\, any time of year!  From Artists to Jewelry\, Wood works to Clothing and Special Treats\, this weekly Fair has everything you need and more! \nEvery Thursday Evening from 4pm tp 7pm with the FREE Hula Show starting at 5:30pm. \nThis is an open to All ages event with Handicap access and is held rain or shine. \nEvent happens in the Lobby of the Hilton Garden Inn\, Wailua Bay  3-5920 Kuhio Highway\, Kapaa \nPull in\, Park and Play!!
URL:https://kauaifestivals.com/festival/free-hula-show-craft-fair-with-tamatea-nui-o-kauai-every-thursday/2026-03-12/
LOCATION:HILTON GARDEN IN WAILUA BAY\, KAPAA KAUAI\, 3-5920 Kuhio Hwy\, KAPAA\, 96746
CATEGORIES:Island Happenings
ATTACH;FMTTYPE=image/png:https://kauaifestivals.com/wp-content/uploads/2026/01/HILTON-THURSDAY-WEEKLY-PNG-1.png
ORGANIZER;CN="HO%27OHIWAHIWA%20FAIR":MAILTO:hoohiwahiwahgi@gmail.com
GEO:22.0427204;-159.3361068
X-APPLE-STRUCTURED-LOCATION;VALUE=URI;X-ADDRESS=HILTON GARDEN IN WAILUA BAY KAPAA KAUAI 3-5920 Kuhio Hwy KAPAA 96746;X-APPLE-RADIUS=500;X-TITLE=3-5920 Kuhio Hwy:geo:-159.3361068,22.0427204
END:VEVENT
BEGIN:VEVENT
DTSTART;TZID=Pacific/Honolulu:20260318T130000
DTEND;TZID=Pacific/Honolulu:20260318T170000
DTSTAMP:20260419T022353
CREATED:20251223T225254Z
LAST-MODIFIED:20251223T225254Z
UID:10015986-1773838800-1773853200@kauaifestivals.com
SUMMARY:Makai Music & Art Festival Kauai
DESCRIPTION:Come share the Aloha with us every Wednesday from 1-5pm at our Makai Music and Art Festival Kaua’i.  Free-entry\, free event parking and FREE live music concerts  Shop our 20+ wonderful\, eclectic\, talented local artisans and vendors each week while being entertained by our fabulous live musicians here on our beautiful Garden Isle of Kaua’i. Buy handmade and support local small businesses. Mahalo for your support.  The Makai Grill is also open serving food and drinks for you to enjoy while listening to our live free music concerts. Plus\, we have alternating dessert vendors and Chunks Cookies\, with yummy treats too.\n\nLike/Follow our Facebook and Instagram pages:https://www.facebook.com/MakaiMusicAndArtFest\n\nhttps://www.instagram.com/makaimusicandartfestivalkauai
URL:https://kauaifestivals.com/festival/makai-music-art-festival-kauai/2026-03-18/
LOCATION:Princeville Makai Golf Club\, 4080 Lei O Papa\, Princeville\, HI\, 96722\, United States
CATEGORIES:Island Happenings
ATTACH;FMTTYPE=image/jpeg:https://kauaifestivals.com/wp-content/uploads/2025/12/963fd97c-47c1-4332-868f-3b3528fc6506-2.jpg
ORGANIZER;CN="Makai%20Music%20%26amp%3B%20Art%20Festival%20Kauai":MAILTO:jersoulgood@gmail.com
GEO:22.2228551;-159.468609
X-APPLE-STRUCTURED-LOCATION;VALUE=URI;X-ADDRESS=Princeville Makai Golf Club 4080 Lei O Papa Princeville HI 96722 United States;X-APPLE-RADIUS=500;X-TITLE=4080 Lei O Papa:geo:-159.468609,22.2228551
END:VEVENT
BEGIN:VEVENT
DTSTART;TZID=Pacific/Honolulu:20260319T160000
DTEND;TZID=Pacific/Honolulu:20260319T190000
DTSTAMP:20260419T022353
CREATED:20260119T232745Z
LAST-MODIFIED:20260120T041804Z
UID:10016142-1773936000-1773946800@kauaifestivals.com
SUMMARY:Free Hula Show & Craft Fair with Tamatea Nui O Kaua’i Every Thursday
DESCRIPTION:Tamatea Nui O Kaua’i brings to you a FREE Hula Show along with some of the Best Artists and Craft Vendors on Kauai! \nEnjoy a Free Hula show!  Watch the beautiful dancers perform to live Ukulele\, Singing and Talk a Little Story about Hawaiian History and Culture while shopping for Gifts and Souvenirs! \nOpen to Guests and Locals!  This is one of the BEST Events to find that perfect something for yourself or somone on your list\, any time of year!  From Artists to Jewelry\, Wood works to Clothing and Special Treats\, this weekly Fair has everything you need and more! \nEvery Thursday Evening from 4pm tp 7pm with the FREE Hula Show starting at 5:30pm. \nThis is an open to All ages event with Handicap access and is held rain or shine. \nEvent happens in the Lobby of the Hilton Garden Inn\, Wailua Bay  3-5920 Kuhio Highway\, Kapaa \nPull in\, Park and Play!!
URL:https://kauaifestivals.com/festival/free-hula-show-craft-fair-with-tamatea-nui-o-kauai-every-thursday/2026-03-19/
LOCATION:HILTON GARDEN IN WAILUA BAY\, KAPAA KAUAI\, 3-5920 Kuhio Hwy\, KAPAA\, 96746
CATEGORIES:Island Happenings
ATTACH;FMTTYPE=image/png:https://kauaifestivals.com/wp-content/uploads/2026/01/HILTON-THURSDAY-WEEKLY-PNG-1.png
ORGANIZER;CN="HO%27OHIWAHIWA%20FAIR":MAILTO:hoohiwahiwahgi@gmail.com
GEO:22.0427204;-159.3361068
X-APPLE-STRUCTURED-LOCATION;VALUE=URI;X-ADDRESS=HILTON GARDEN IN WAILUA BAY KAPAA KAUAI 3-5920 Kuhio Hwy KAPAA 96746;X-APPLE-RADIUS=500;X-TITLE=3-5920 Kuhio Hwy:geo:-159.3361068,22.0427204
END:VEVENT
BEGIN:VEVENT
DTSTART;TZID=Pacific/Honolulu:20260325T130000
DTEND;TZID=Pacific/Honolulu:20260325T170000
DTSTAMP:20260419T022353
CREATED:20251223T225254Z
LAST-MODIFIED:20251223T225254Z
UID:10015987-1774443600-1774458000@kauaifestivals.com
SUMMARY:Makai Music & Art Festival Kauai
DESCRIPTION:Come share the Aloha with us every Wednesday from 1-5pm at our Makai Music and Art Festival Kaua’i.  Free-entry\, free event parking and FREE live music concerts  Shop our 20+ wonderful\, eclectic\, talented local artisans and vendors each week while being entertained by our fabulous live musicians here on our beautiful Garden Isle of Kaua’i. Buy handmade and support local small businesses. Mahalo for your support.  The Makai Grill is also open serving food and drinks for you to enjoy while listening to our live free music concerts. Plus\, we have alternating dessert vendors and Chunks Cookies\, with yummy treats too.\n\nLike/Follow our Facebook and Instagram pages:https://www.facebook.com/MakaiMusicAndArtFest\n\nhttps://www.instagram.com/makaimusicandartfestivalkauai
URL:https://kauaifestivals.com/festival/makai-music-art-festival-kauai/2026-03-25/
LOCATION:Princeville Makai Golf Club\, 4080 Lei O Papa\, Princeville\, HI\, 96722\, United States
CATEGORIES:Island Happenings
ATTACH;FMTTYPE=image/jpeg:https://kauaifestivals.com/wp-content/uploads/2025/12/963fd97c-47c1-4332-868f-3b3528fc6506-2.jpg
ORGANIZER;CN="Makai%20Music%20%26amp%3B%20Art%20Festival%20Kauai":MAILTO:jersoulgood@gmail.com
GEO:22.2228551;-159.468609
X-APPLE-STRUCTURED-LOCATION;VALUE=URI;X-ADDRESS=Princeville Makai Golf Club 4080 Lei O Papa Princeville HI 96722 United States;X-APPLE-RADIUS=500;X-TITLE=4080 Lei O Papa:geo:-159.468609,22.2228551
END:VEVENT
BEGIN:VEVENT
DTSTART;TZID=Pacific/Honolulu:20260326T160000
DTEND;TZID=Pacific/Honolulu:20260326T190000
DTSTAMP:20260419T022353
CREATED:20260119T232745Z
LAST-MODIFIED:20260120T041804Z
UID:10016143-1774540800-1774551600@kauaifestivals.com
SUMMARY:Free Hula Show & Craft Fair with Tamatea Nui O Kaua’i Every Thursday
DESCRIPTION:Tamatea Nui O Kaua’i brings to you a FREE Hula Show along with some of the Best Artists and Craft Vendors on Kauai! \nEnjoy a Free Hula show!  Watch the beautiful dancers perform to live Ukulele\, Singing and Talk a Little Story about Hawaiian History and Culture while shopping for Gifts and Souvenirs! \nOpen to Guests and Locals!  This is one of the BEST Events to find that perfect something for yourself or somone on your list\, any time of year!  From Artists to Jewelry\, Wood works to Clothing and Special Treats\, this weekly Fair has everything you need and more! \nEvery Thursday Evening from 4pm tp 7pm with the FREE Hula Show starting at 5:30pm. \nThis is an open to All ages event with Handicap access and is held rain or shine. \nEvent happens in the Lobby of the Hilton Garden Inn\, Wailua Bay  3-5920 Kuhio Highway\, Kapaa \nPull in\, Park and Play!!
URL:https://kauaifestivals.com/festival/free-hula-show-craft-fair-with-tamatea-nui-o-kauai-every-thursday/2026-03-26/
LOCATION:HILTON GARDEN IN WAILUA BAY\, KAPAA KAUAI\, 3-5920 Kuhio Hwy\, KAPAA\, 96746
CATEGORIES:Island Happenings
ATTACH;FMTTYPE=image/png:https://kauaifestivals.com/wp-content/uploads/2026/01/HILTON-THURSDAY-WEEKLY-PNG-1.png
ORGANIZER;CN="HO%27OHIWAHIWA%20FAIR":MAILTO:hoohiwahiwahgi@gmail.com
GEO:22.0427204;-159.3361068
X-APPLE-STRUCTURED-LOCATION;VALUE=URI;X-ADDRESS=HILTON GARDEN IN WAILUA BAY KAPAA KAUAI 3-5920 Kuhio Hwy KAPAA 96746;X-APPLE-RADIUS=500;X-TITLE=3-5920 Kuhio Hwy:geo:-159.3361068,22.0427204
END:VEVENT
BEGIN:VEVENT
DTSTART;TZID=Pacific/Honolulu:20260326T190000
DTEND;TZID=Pacific/Honolulu:20260326T210000
DTSTAMP:20260419T022353
CREATED:20260310T022807Z
LAST-MODIFIED:20260328T003141Z
UID:10016345-1774551600-1774558800@kauaifestivals.com
SUMMARY:Assassins: A Musical by Stephen Sondheim
DESCRIPTION:Proudly presented by Kaua’i Community Players. Stephen Sondheim’s “Assassins” takes the audience on a dark and surprisingly funny thrill ride through the twisted underside of the “American Dream”. Viewed through the disaffected eyes of a group of Presidential assassins looking to be understood\, this Tony Award winning musical is guaranteed to make you think.  . .and be thankful that you are not one of the people singing\, “The Other National Anthem (For the Ones Who Can’t Get in to the Ballpark)”. Get your tickets today\, before they disappear!
URL:https://kauaifestivals.com/festival/assassins-a-musical-by-stephen-sondheim/2026-03-26/
LOCATION:Puhi Theatrical Warehouse\, 4411 Kikowaena St\, Lihue\, 96766
CATEGORIES:Island Happenings
ATTACH;FMTTYPE=image/png:https://kauaifestivals.com/wp-content/uploads/2026/03/Assassins-poster-compressed.png
ORGANIZER;CN="Kauai%20Community%20Players":MAILTO:kauaicommunityplayers@gmail.com
GEO:21.9645108;-159.395507
X-APPLE-STRUCTURED-LOCATION;VALUE=URI;X-ADDRESS=Puhi Theatrical Warehouse 4411 Kikowaena St Lihue 96766;X-APPLE-RADIUS=500;X-TITLE=4411 Kikowaena St:geo:-159.395507,21.9645108
END:VEVENT
BEGIN:VEVENT
DTSTART;TZID=Pacific/Honolulu:20260327T190000
DTEND;TZID=Pacific/Honolulu:20260327T210000
DTSTAMP:20260419T022353
CREATED:20260310T022807Z
LAST-MODIFIED:20260328T003141Z
UID:10016346-1774638000-1774645200@kauaifestivals.com
SUMMARY:Assassins: A Musical by Stephen Sondheim
DESCRIPTION:Proudly presented by Kaua’i Community Players. Stephen Sondheim’s “Assassins” takes the audience on a dark and surprisingly funny thrill ride through the twisted underside of the “American Dream”. Viewed through the disaffected eyes of a group of Presidential assassins looking to be understood\, this Tony Award winning musical is guaranteed to make you think.  . .and be thankful that you are not one of the people singing\, “The Other National Anthem (For the Ones Who Can’t Get in to the Ballpark)”. Get your tickets today\, before they disappear!
URL:https://kauaifestivals.com/festival/assassins-a-musical-by-stephen-sondheim/2026-03-27/
LOCATION:Puhi Theatrical Warehouse\, 4411 Kikowaena St\, Lihue\, 96766
CATEGORIES:Island Happenings
ATTACH;FMTTYPE=image/png:https://kauaifestivals.com/wp-content/uploads/2026/03/Assassins-poster-compressed.png
ORGANIZER;CN="Kauai%20Community%20Players":MAILTO:kauaicommunityplayers@gmail.com
GEO:21.9645108;-159.395507
X-APPLE-STRUCTURED-LOCATION;VALUE=URI;X-ADDRESS=Puhi Theatrical Warehouse 4411 Kikowaena St Lihue 96766;X-APPLE-RADIUS=500;X-TITLE=4411 Kikowaena St:geo:-159.395507,21.9645108
END:VEVENT
BEGIN:VEVENT
DTSTART;TZID=Pacific/Honolulu:20260328T190000
DTEND;TZID=Pacific/Honolulu:20260328T210000
DTSTAMP:20260419T022353
CREATED:20260224T185022Z
LAST-MODIFIED:20260224T185022Z
UID:10016324-1774724400-1774731600@kauaifestivals.com
SUMMARY:Bassel & The Supernaturals
DESCRIPTION:Bassel & The Supernaturals tells the story of Bassel Almadani’s experience as a first generation Syrian-American using soulful melodies\, funk inspired rhythms\, and captivating lyrics regarding love\, loss\, and the war in Syria. \nThey will play for one night only on Kauai!
URL:https://kauaifestivals.com/festival/bassel-the-supernaturals/
LOCATION:United States
CATEGORIES:Island Happenings
ATTACH;FMTTYPE=image/jpeg:https://kauaifestivals.com/wp-content/uploads/2026/02/0018882260_10.jpg
ORGANIZER;CN="Kauai%20Concert%20Association":MAILTO:admin@kauai-concert.org
END:VEVENT
BEGIN:VEVENT
DTSTART;TZID=Pacific/Honolulu:20260328T190000
DTEND;TZID=Pacific/Honolulu:20260328T210000
DTSTAMP:20260419T022353
CREATED:20260310T022807Z
LAST-MODIFIED:20260328T003141Z
UID:10016347-1774724400-1774731600@kauaifestivals.com
SUMMARY:Assassins: A Musical by Stephen Sondheim
DESCRIPTION:Proudly presented by Kaua’i Community Players. Stephen Sondheim’s “Assassins” takes the audience on a dark and surprisingly funny thrill ride through the twisted underside of the “American Dream”. Viewed through the disaffected eyes of a group of Presidential assassins looking to be understood\, this Tony Award winning musical is guaranteed to make you think.  . .and be thankful that you are not one of the people singing\, “The Other National Anthem (For the Ones Who Can’t Get in to the Ballpark)”. Get your tickets today\, before they disappear!
URL:https://kauaifestivals.com/festival/assassins-a-musical-by-stephen-sondheim/2026-03-28/
LOCATION:Puhi Theatrical Warehouse\, 4411 Kikowaena St\, Lihue\, 96766
CATEGORIES:Island Happenings
ATTACH;FMTTYPE=image/png:https://kauaifestivals.com/wp-content/uploads/2026/03/Assassins-poster-compressed.png
ORGANIZER;CN="Kauai%20Community%20Players":MAILTO:kauaicommunityplayers@gmail.com
GEO:21.9645108;-159.395507
X-APPLE-STRUCTURED-LOCATION;VALUE=URI;X-ADDRESS=Puhi Theatrical Warehouse 4411 Kikowaena St Lihue 96766;X-APPLE-RADIUS=500;X-TITLE=4411 Kikowaena St:geo:-159.395507,21.9645108
END:VEVENT
BEGIN:VEVENT
DTSTART;TZID=Pacific/Honolulu:20260329T160000
DTEND;TZID=Pacific/Honolulu:20260329T180000
DTSTAMP:20260419T022353
CREATED:20260310T022807Z
LAST-MODIFIED:20260328T003141Z
UID:10016348-1774800000-1774807200@kauaifestivals.com
SUMMARY:Assassins: A Musical by Stephen Sondheim
DESCRIPTION:Proudly presented by Kaua’i Community Players. Stephen Sondheim’s “Assassins” takes the audience on a dark and surprisingly funny thrill ride through the twisted underside of the “American Dream”. Viewed through the disaffected eyes of a group of Presidential assassins looking to be understood\, this Tony Award winning musical is guaranteed to make you think.  . .and be thankful that you are not one of the people singing\, “The Other National Anthem (For the Ones Who Can’t Get in to the Ballpark)”. Get your tickets today\, before they disappear!
URL:https://kauaifestivals.com/festival/assassins-a-musical-by-stephen-sondheim/2026-03-29/
LOCATION:Puhi Theatrical Warehouse\, 4411 Kikowaena St\, Lihue\, 96766
CATEGORIES:Island Happenings
ATTACH;FMTTYPE=image/png:https://kauaifestivals.com/wp-content/uploads/2026/03/Assassins-poster-compressed.png
ORGANIZER;CN="Kauai%20Community%20Players":MAILTO:kauaicommunityplayers@gmail.com
GEO:21.9645108;-159.395507
X-APPLE-STRUCTURED-LOCATION;VALUE=URI;X-ADDRESS=Puhi Theatrical Warehouse 4411 Kikowaena St Lihue 96766;X-APPLE-RADIUS=500;X-TITLE=4411 Kikowaena St:geo:-159.395507,21.9645108
END:VEVENT
END:VCALENDAR