BEGIN:VCALENDAR
VERSION:2.0
PRODID:-//Kaua‘i Festivals &amp; Events - ECPv6.0.12//NONSGML v1.0//EN
CALSCALE:GREGORIAN
METHOD:PUBLISH
X-ORIGINAL-URL:https://kauaifestivals.com
X-WR-CALDESC:Events for Kaua‘i Festivals &amp; Events
REFRESH-INTERVAL;VALUE=DURATION:PT1H
X-Robots-Tag:noindex
X-PUBLISHED-TTL:PT1H
BEGIN:VTIMEZONE
TZID:Pacific/Honolulu
BEGIN:STANDARD
TZOFFSETFROM:-1000
TZOFFSETTO:-1000
TZNAME:HST
DTSTART:20250101T000000
END:STANDARD
END:VTIMEZONE
BEGIN:VEVENT
DTSTART;TZID=Pacific/Honolulu:20251219T183000
DTEND;TZID=Pacific/Honolulu:20251220T210000
DTSTAMP:20260419T070833
CREATED:20251210T010424Z
LAST-MODIFIED:20251210T010424Z
UID:10015964-1766169000-1766264400@kauaifestivals.com
SUMMARY:Chamber Music Kauai presents “A Classical/Christmas Concert”
DESCRIPTION:Chamber Music Kauai will present two classical music concerts with a Christmas theme. See attached image for details…
URL:https://kauaifestivals.com/festival/chamber-music-kauai-presents-a-classical-christmas-concert/2025-12-19/
LOCATION:St. Michael’s Church\, Lihue\, HI\, 96766\, United States
CATEGORIES:Island Happenings
ATTACH;FMTTYPE=image/jpeg:https://kauaifestivals.com/wp-content/uploads/2025/12/FLYER-2025-CONCERTS-FOR-WEBSITE-AND-VP-jpg-5.jpg
ORGANIZER;CN="Kauai%20Community%20College%20Music%20Department%2C%20Greg%20Shepherd":MAILTO:shep@hawaii.edu
GEO:21.9811111;-159.3711111
END:VEVENT
BEGIN:VEVENT
DTSTART;TZID=Pacific/Honolulu:20251220T180000
DTEND;TZID=Pacific/Honolulu:20251220T193000
DTSTAMP:20260419T070833
CREATED:20251201T062304Z
LAST-MODIFIED:20251201T062304Z
UID:10015888-1766253600-1766259000@kauaifestivals.com
SUMMARY:KAUAI CHORALE "Let There Be Peace" concert and sing-along
DESCRIPTION:The Kauai Chorale presents “Let There Be Peace” for its winter concert and sing-along\, \nwith artistic director Joe Moore and collaborative pianist Ben Nause. \nChorale pieces include Handel’s Messiah and Rutter’s Magnificat\, with holiday favorites \nCandle in the Night\, Madrigal of the Bells\, Twelve Days of Christmas\, and more! \nAdults $20;  students and children free. \n  \n 
URL:https://kauaifestivals.com/festival/kauai-chorale-let-there-be-peace-concert-and-sing-along/
LOCATION:United States
CATEGORIES:Island Happenings
ATTACH;FMTTYPE=image/jpeg:https://kauaifestivals.com/wp-content/uploads/2025/11/1spot3meg.jpg
ORGANIZER;CN="Kauai%20Chorale":MAILTO:tessa@fablefoxmarketing.com
END:VEVENT
BEGIN:VEVENT
DTSTART;TZID=Pacific/Honolulu:20251221T140000
DTEND;TZID=Pacific/Honolulu:20251221T153000
DTSTAMP:20260419T070833
CREATED:20251201T062328Z
LAST-MODIFIED:20251201T062328Z
UID:10015889-1766325600-1766331000@kauaifestivals.com
SUMMARY:KAUAI CHORALE “Let There Be Peace” concert and sing-along
DESCRIPTION:The Kauai Chorale presents “Let There Be Peace” for its winter concert and sing-along\, \n\n\nwith artistic director Joe Moore and collaborative pianist Ben Nause. \n\n\nChorale pieces include Handel’s Messiah and Rutter’s Magnificat\, with holiday favorites \n\n\nCandle in the Night\, Madrigal of the Bells\, and Twelve Days of Christmas. \n\n\nAdults $20;  students and children free.
URL:https://kauaifestivals.com/festival/kauai-chorale-let-there-be-peace-concert-and-sing-along-2/
LOCATION:United States
CATEGORIES:Island Happenings
ATTACH;FMTTYPE=image/jpeg:https://kauaifestivals.com/wp-content/uploads/2025/11/1spot3meg-2.jpg
ORGANIZER;CN="Kauai%20Chorale":MAILTO:tessa@fablefoxmarketing.com
END:VEVENT
BEGIN:VEVENT
DTSTART;TZID=Pacific/Honolulu:20251223T160000
DTEND;TZID=Pacific/Honolulu:20251223T190000
DTSTAMP:20260419T070833
CREATED:20251208T014445Z
LAST-MODIFIED:20251213T235958Z
UID:10015909-1766505600-1766516400@kauaifestivals.com
SUMMARY:CHRISTMAS FREE HULA & CRAFT SHOW WITH TAMATEA NUI O’ KAUAI
DESCRIPTION:Kauai’s finest Christmas Shopping is located at the Hilton Garden Inn at Wailua Bay with many available shopping dates! \nSome of the Best Kauai Crafters\, Artists and Vendors will be set up with Amazing Gifts for everyone on your list! \nThurday December 11th and 18th from 4-7pm \nas well as \nTuesday December 23 from 4-7pm ~ Perfect for Last Minute Shopping \nHula Show will be at 5:30pm on Each Day! \nThere is no charge for these event dates! \nRain or Shine! \nHilton Garden Inn at Wailua Bay 3-5920 Kuhio Hwy\, Kapaʻa\, HI 96746
URL:https://kauaifestivals.com/festival/christmas-free-hula-craft-show-with-tamatea-nui-o-kauai/2025-12-23/
LOCATION:United States
CATEGORIES:Island Happenings
ATTACH;FMTTYPE=image/jpeg:https://kauaifestivals.com/wp-content/uploads/2025/12/thursday-nights-1-1.jpeg
ORGANIZER;CN="HO%27OHIWAHIWA%20FAIR":MAILTO:hoohiwahiwahgi@gmail.com
END:VEVENT
BEGIN:VEVENT
DTSTART;TZID=Pacific/Honolulu:20251224T130000
DTEND;TZID=Pacific/Honolulu:20251224T170000
DTSTAMP:20260419T070833
CREATED:20251223T225254Z
LAST-MODIFIED:20251223T225254Z
UID:10015974-1766581200-1766595600@kauaifestivals.com
SUMMARY:Makai Music & Art Festival Kauai
DESCRIPTION:Come share the Aloha with us every Wednesday from 1-5pm at our Makai Music and Art Festival Kaua’i.  Free-entry\, free event parking and FREE live music concerts  Shop our 20+ wonderful\, eclectic\, talented local artisans and vendors each week while being entertained by our fabulous live musicians here on our beautiful Garden Isle of Kaua’i. Buy handmade and support local small businesses. Mahalo for your support.  The Makai Grill is also open serving food and drinks for you to enjoy while listening to our live free music concerts. Plus\, we have alternating dessert vendors and Chunks Cookies\, with yummy treats too.\n\nLike/Follow our Facebook and Instagram pages:https://www.facebook.com/MakaiMusicAndArtFest\n\nhttps://www.instagram.com/makaimusicandartfestivalkauai
URL:https://kauaifestivals.com/festival/makai-music-art-festival-kauai/2025-12-24/
LOCATION:Princeville Makai Golf Club\, 4080 Lei O Papa\, Princeville\, HI\, 96722\, United States
CATEGORIES:Island Happenings
ATTACH;FMTTYPE=image/jpeg:https://kauaifestivals.com/wp-content/uploads/2025/12/963fd97c-47c1-4332-868f-3b3528fc6506-2.jpg
ORGANIZER;CN="Makai%20Music%20%26amp%3B%20Art%20Festival%20Kauai":MAILTO:jersoulgood@gmail.com
GEO:22.2228551;-159.468609
X-APPLE-STRUCTURED-LOCATION;VALUE=URI;X-ADDRESS=Princeville Makai Golf Club 4080 Lei O Papa Princeville HI 96722 United States;X-APPLE-RADIUS=500;X-TITLE=4080 Lei O Papa:geo:-159.468609,22.2228551
END:VEVENT
BEGIN:VEVENT
DTSTART;TZID=Pacific/Honolulu:20251226T190000
DTEND;TZID=Pacific/Honolulu:20251226T210000
DTSTAMP:20260419T070833
CREATED:20251103T035552Z
LAST-MODIFIED:20251103T035552Z
UID:10015753-1766775600-1766782800@kauaifestivals.com
SUMMARY:Rocky Mountain High Experience: John Denver Christmas
DESCRIPTION:Rocky Mountain High Experience® John Denver Christmas Starring Rick Schuler\, coming to the Hawaiian Islands with a kickoff Friday\, Dec 26th\, 7pm at the Kauai Performing Arts Center. \nJohn Denver was wildly famous through the 70s and 80s selling millions of records and packing out arenas around the world. He was famous for his 29 television specials including numerous annual Christmas specials. This touring show consists of solo guitarist Rick Schuler in an acoustic setting. Just him and his guitar on a stool\, no tracks. Rick is the most authentic John Denver tribute artist in America and has the largest and most popular Christmas show touring. He’s also an accomplished guitarist and song writer though he usually only performs one or two of his own compositions at each performance. It’s important to note he is not an impersonator. Rick will be performing a mixture of John Denver’s hit songs\, his Christmas songs\, and holiday classics.
URL:https://kauaifestivals.com/festival/rocky-mountain-high-experience-john-denver-christmas-2/
LOCATION:Kauai Community College  Performing Arts Center\, 3-1901 Kaumualii Hwy\, Lihue\, HI\, 96766\, United States
CATEGORIES:Island Happenings
ATTACH;FMTTYPE=image/jpeg:https://kauaifestivals.com/wp-content/uploads/2025/11/JD-FB.jpg
ORGANIZER;CN="Gregory%20von%20Hausch":MAILTO:greg3512@hawaii.edu
GEO:21.9649666;-159.421386
X-APPLE-STRUCTURED-LOCATION;VALUE=URI;X-ADDRESS=Kauai Community College  Performing Arts Center 3-1901 Kaumualii Hwy Lihue HI 96766 United States;X-APPLE-RADIUS=500;X-TITLE=3-1901 Kaumualii Hwy:geo:-159.421386,21.9649666
END:VEVENT
BEGIN:VEVENT
DTSTART;TZID=Pacific/Honolulu:20251231T130000
DTEND;TZID=Pacific/Honolulu:20251231T170000
DTSTAMP:20260419T070833
CREATED:20251223T225254Z
LAST-MODIFIED:20251223T225254Z
UID:10015975-1767186000-1767200400@kauaifestivals.com
SUMMARY:Makai Music & Art Festival Kauai
DESCRIPTION:Come share the Aloha with us every Wednesday from 1-5pm at our Makai Music and Art Festival Kaua’i.  Free-entry\, free event parking and FREE live music concerts  Shop our 20+ wonderful\, eclectic\, talented local artisans and vendors each week while being entertained by our fabulous live musicians here on our beautiful Garden Isle of Kaua’i. Buy handmade and support local small businesses. Mahalo for your support.  The Makai Grill is also open serving food and drinks for you to enjoy while listening to our live free music concerts. Plus\, we have alternating dessert vendors and Chunks Cookies\, with yummy treats too.\n\nLike/Follow our Facebook and Instagram pages:https://www.facebook.com/MakaiMusicAndArtFest\n\nhttps://www.instagram.com/makaimusicandartfestivalkauai
URL:https://kauaifestivals.com/festival/makai-music-art-festival-kauai/2025-12-31/
LOCATION:Princeville Makai Golf Club\, 4080 Lei O Papa\, Princeville\, HI\, 96722\, United States
CATEGORIES:Island Happenings
ATTACH;FMTTYPE=image/jpeg:https://kauaifestivals.com/wp-content/uploads/2025/12/963fd97c-47c1-4332-868f-3b3528fc6506-2.jpg
ORGANIZER;CN="Makai%20Music%20%26amp%3B%20Art%20Festival%20Kauai":MAILTO:jersoulgood@gmail.com
GEO:22.2228551;-159.468609
X-APPLE-STRUCTURED-LOCATION;VALUE=URI;X-ADDRESS=Princeville Makai Golf Club 4080 Lei O Papa Princeville HI 96722 United States;X-APPLE-RADIUS=500;X-TITLE=4080 Lei O Papa:geo:-159.468609,22.2228551
END:VEVENT
END:VCALENDAR