BEGIN:VCALENDAR
VERSION:2.0
PRODID:-//Kaua‘i Festivals &amp; Events - ECPv6.0.12//NONSGML v1.0//EN
CALSCALE:GREGORIAN
METHOD:PUBLISH
X-WR-CALNAME:Kaua‘i Festivals &amp; Events
X-ORIGINAL-URL:https://kauaifestivals.com
X-WR-CALDESC:Events for Kaua‘i Festivals &amp; Events
REFRESH-INTERVAL;VALUE=DURATION:PT1H
X-Robots-Tag:noindex
X-PUBLISHED-TTL:PT1H
BEGIN:VTIMEZONE
TZID:Pacific/Honolulu
BEGIN:STANDARD
TZOFFSETFROM:-1000
TZOFFSETTO:-1000
TZNAME:HST
DTSTART:20260101T000000
END:STANDARD
END:VTIMEZONE
BEGIN:VEVENT
DTSTART;VALUE=DATE:20260509
DTEND;VALUE=DATE:20260510
DTSTAMP:20260420T033727
CREATED:20260413T182923Z
LAST-MODIFIED:20260413T182923Z
UID:10016693-1778284800-1778371199@kauaifestivals.com
SUMMARY:Coppélia & Révérence
DESCRIPTION:Kauai Ballet Academy is pleased to present “Coppélia” AND “Révérence”\, two outstanding ballets in one great show. Local musicians\, Kenyon and Derek Johnson\, will open the show with Révérence\, an original piece choreographed by KBA Senior\, Tewai Umu. After which\, a charming rendition of the classical story of Coppélia will be performed in two acts. The family is sure to enjoy this enchanting production. For tickets and more information visit www.kauaiballetacademy.com
URL:https://kauaifestivals.com/festival/coppelia-reverence/
LOCATION:Kauai Comunity College Performing Arts Center\, Lihue\, 96766
CATEGORIES:Featured Events,Island Happenings
ATTACH;FMTTYPE=image/png:https://kauaifestivals.com/wp-content/uploads/2026/04/Copy-of-Coppelia-FLyer-2-Instagram-Post.png
ORGANIZER;CN="Kauai%20Ballet%20Academy":MAILTO:kauaiballetacademy@gmail.com
END:VEVENT
BEGIN:VEVENT
DTSTART;TZID=Pacific/Honolulu:20260509T173000
DTEND;TZID=Pacific/Honolulu:20260509T213000
DTSTAMP:20260420T033727
CREATED:20260321T013644Z
LAST-MODIFIED:20260327T020121Z
UID:10016525-1778347800-1778362200@kauaifestivals.com
SUMMARY:Paula Fuga Concert at the Porter Pavilion\, Anaina Hou Community Park
DESCRIPTION:Show Date\nSaturday\, May 9\, 2026 \nPaula Fuga\nAcclaimed for her originality in song composition and spellbinding\, soulful vocals\, Paula Fuga is one of Hawaii’s top female musicians in generations. \nA poet at heart and an accomplished ukulele player under Master Instructor\, Roy Sakuma\, she has intertwined her passions into award-winning songwriting. Her debut album\, Lilikoi lauded the prestigious Nā Hōkū Hanohano Award for ‘Most Promising Artist.’ Since the release of her EP Misery’s End\, which featured guest appearances by Ziggy Marley and Jack Johnson\, Fuga has headlined the global music circuit and performed on the stages of Madison Square Garden\, The Sydney Opera House Forecourt and is a three-time return guest artist to The White House. \nShow Details\n5:30 PM: Doors Open\n6:30 PM: Music \nTimes subject to change. Any changes will be confirmed via email closer to the show date \n\n\n\nWhat’s included\n\nThis is a tiered ticketing level show with variable pricing for different ticket tiers. \nVIP Pavilion Seating includes access to the front row of seats in the pavilion. The first row of seating will be reserved for VIP Ticket Holders. Seating will be available on a first come first serve basis for VIP ticket holders. All patrons\, regardless of age require a ticket to sit in this section. \nVIP Super Loft includes 8 tickets and access to our raised loft seating area. Seating for this section includes a couch and padded chairs as well as convenient tables for concessions and drinks during the show. This section is located conveniently towards the rear of the pavilion with easy entrance and exit as well as excellent site lines to the stage. \nPavilion Seating includes access to our padded theater chairs on a first come first serve basis. Fully weather protected for a comfortable show experience. All patrons\, regardless of age require a ticket to sit in this section. \nLawn Seating is BYOC (Bring your own chair or blanket). We have some scattered raised seating around the perimeter of the lawn available on a first come first serve basis. Lawn chairs strongly recommended for this ticket tier. \nShow Details and Venue Rules\nThis show is all ages. \nPatrons under 18 years old must be accompanied by an adult. All patrons\, regardless of age require a ticket for Pavilion or VIP tickets. \nChildren 5 and under free on lawn ONLY. \nNo outside food or beverage permitted in the venue. Empty bottes to fill with water are encouraged but must be empty upon arrival. No Glass. \nBeverage Concessions both Alcoholic and Non Alcoholic will be available throughout the show. \nFood will be available for purchase on site. The Pavilion Kitchen is open with a full menu of hot meals and snacks. Vegan/ Vegetarian options will be available. \nWe will have some covered raised tables available around the perimeter of the lawned area. \nGonna need seating?? Bring your own! We encourage you to bring your own folding chairs for the lawn. Please note\, folding chairs are not allowed to be set up inside the pavilion. \nDrinking alcohol on property outside of designated areas including in our parking lots is not permitted and will be grounds for immediate removal from property. Please kokua. \nThis event is rain or shine. Please plan accordingly. \nThere will be a light bag search upon entrance. \nShirt and Shoes required for entrance. \nNo Re-Entry \n\n\n\nWhat’s not included\n\nLawn Tickets do not include seating. Patrons are responsible to provide their own chairs or blankets. \nBeverage Concessions both Alcoholic and Non Alcoholic will be available for purchase throughout the show. \nFood will be available for purchase on site. The Pavilion Kitchen is open with a full menu of hot meals and snacks. Vegan/ Vegetarian options will be available. \n\n\n\nItinerary\n\nShow Details\n5:30 PM: Doors Open\n6:30 PM: Music \nTimes subject to change. Any changes will be confirmed via email closer to the show date \n\n\n\n\n\n\n\nPricing\n\n\n\n\nTickets\nAll tickets subject to tax and fees\nVIP Super Loft (includes 8 Tickets): $560\nVIP Pavilion Seating: $70\nGA Pavilion Seating: $60\nGA Lawn Seating: $40 \nDay of Show Tickets Pricing If Available: $70 Pavilion // $50 Lawn \n**All Patrons regardless of age require a ticket for Pavilion Seating (GA and VIP)
URL:https://kauaifestivals.com/festival/paula-fuga-concert-at-the-porter-pavilion-anaina-hou-community-park/
LOCATION:Anaina Hou Porter Pavilion\, 5-2723 Kuhio Highway\, Kilauea\, 96754
CATEGORIES:Island Happenings
ATTACH;FMTTYPE=image/png:https://kauaifestivals.com/wp-content/uploads/2026/03/2_260509-PaulaFuga_Banner.png
ORGANIZER;CN="Anaina%20Hou%20Community%20Park":MAILTO:community@anainahou.org
GEO:22.2109763;-159.4160471
X-APPLE-STRUCTURED-LOCATION;VALUE=URI;X-ADDRESS=Anaina Hou Porter Pavilion 5-2723 Kuhio Highway Kilauea 96754;X-APPLE-RADIUS=500;X-TITLE=5-2723 Kuhio Highway:geo:-159.4160471,22.2109763
END:VEVENT
END:VCALENDAR