BEGIN:VCALENDAR
VERSION:2.0
PRODID:-//Kaua‘i Festivals &amp; Events - ECPv6.0.12//NONSGML v1.0//EN
CALSCALE:GREGORIAN
METHOD:PUBLISH
X-WR-CALNAME:Kaua‘i Festivals &amp; Events
X-ORIGINAL-URL:https://kauaifestivals.com
X-WR-CALDESC:Events for Kaua‘i Festivals &amp; Events
REFRESH-INTERVAL;VALUE=DURATION:PT1H
X-Robots-Tag:noindex
X-PUBLISHED-TTL:PT1H
BEGIN:VTIMEZONE
TZID:Pacific/Honolulu
BEGIN:STANDARD
TZOFFSETFROM:-1000
TZOFFSETTO:-1000
TZNAME:HST
DTSTART:20260101T000000
END:STANDARD
END:VTIMEZONE
BEGIN:VEVENT
DTSTART;TZID=Pacific/Honolulu:20260604T160000
DTEND;TZID=Pacific/Honolulu:20260604T190000
DTSTAMP:20260420T033246
CREATED:20260119T232745Z
LAST-MODIFIED:20260120T041804Z
UID:10016153-1780588800-1780599600@kauaifestivals.com
SUMMARY:Free Hula Show & Craft Fair with Tamatea Nui O Kaua’i Every Thursday
DESCRIPTION:Tamatea Nui O Kaua’i brings to you a FREE Hula Show along with some of the Best Artists and Craft Vendors on Kauai! \nEnjoy a Free Hula show!  Watch the beautiful dancers perform to live Ukulele\, Singing and Talk a Little Story about Hawaiian History and Culture while shopping for Gifts and Souvenirs! \nOpen to Guests and Locals!  This is one of the BEST Events to find that perfect something for yourself or somone on your list\, any time of year!  From Artists to Jewelry\, Wood works to Clothing and Special Treats\, this weekly Fair has everything you need and more! \nEvery Thursday Evening from 4pm tp 7pm with the FREE Hula Show starting at 5:30pm. \nThis is an open to All ages event with Handicap access and is held rain or shine. \nEvent happens in the Lobby of the Hilton Garden Inn\, Wailua Bay  3-5920 Kuhio Highway\, Kapaa \nPull in\, Park and Play!!
URL:https://kauaifestivals.com/festival/free-hula-show-craft-fair-with-tamatea-nui-o-kauai-every-thursday/2026-06-04/
LOCATION:HILTON GARDEN IN WAILUA BAY\, KAPAA KAUAI\, 3-5920 Kuhio Hwy\, KAPAA\, 96746
CATEGORIES:Island Happenings
ATTACH;FMTTYPE=image/png:https://kauaifestivals.com/wp-content/uploads/2026/01/HILTON-THURSDAY-WEEKLY-PNG-1.png
ORGANIZER;CN="HO%27OHIWAHIWA%20FAIR":MAILTO:hoohiwahiwahgi@gmail.com
GEO:22.0427204;-159.3361068
X-APPLE-STRUCTURED-LOCATION;VALUE=URI;X-ADDRESS=HILTON GARDEN IN WAILUA BAY KAPAA KAUAI 3-5920 Kuhio Hwy KAPAA 96746;X-APPLE-RADIUS=500;X-TITLE=3-5920 Kuhio Hwy:geo:-159.3361068,22.0427204
END:VEVENT
BEGIN:VEVENT
DTSTART;TZID=Pacific/Honolulu:20260611T160000
DTEND;TZID=Pacific/Honolulu:20260611T190000
DTSTAMP:20260420T033246
CREATED:20260119T232745Z
LAST-MODIFIED:20260120T041804Z
UID:10016154-1781193600-1781204400@kauaifestivals.com
SUMMARY:Free Hula Show & Craft Fair with Tamatea Nui O Kaua’i Every Thursday
DESCRIPTION:Tamatea Nui O Kaua’i brings to you a FREE Hula Show along with some of the Best Artists and Craft Vendors on Kauai! \nEnjoy a Free Hula show!  Watch the beautiful dancers perform to live Ukulele\, Singing and Talk a Little Story about Hawaiian History and Culture while shopping for Gifts and Souvenirs! \nOpen to Guests and Locals!  This is one of the BEST Events to find that perfect something for yourself or somone on your list\, any time of year!  From Artists to Jewelry\, Wood works to Clothing and Special Treats\, this weekly Fair has everything you need and more! \nEvery Thursday Evening from 4pm tp 7pm with the FREE Hula Show starting at 5:30pm. \nThis is an open to All ages event with Handicap access and is held rain or shine. \nEvent happens in the Lobby of the Hilton Garden Inn\, Wailua Bay  3-5920 Kuhio Highway\, Kapaa \nPull in\, Park and Play!!
URL:https://kauaifestivals.com/festival/free-hula-show-craft-fair-with-tamatea-nui-o-kauai-every-thursday/2026-06-11/
LOCATION:HILTON GARDEN IN WAILUA BAY\, KAPAA KAUAI\, 3-5920 Kuhio Hwy\, KAPAA\, 96746
CATEGORIES:Island Happenings
ATTACH;FMTTYPE=image/png:https://kauaifestivals.com/wp-content/uploads/2026/01/HILTON-THURSDAY-WEEKLY-PNG-1.png
ORGANIZER;CN="HO%27OHIWAHIWA%20FAIR":MAILTO:hoohiwahiwahgi@gmail.com
GEO:22.0427204;-159.3361068
X-APPLE-STRUCTURED-LOCATION;VALUE=URI;X-ADDRESS=HILTON GARDEN IN WAILUA BAY KAPAA KAUAI 3-5920 Kuhio Hwy KAPAA 96746;X-APPLE-RADIUS=500;X-TITLE=3-5920 Kuhio Hwy:geo:-159.3361068,22.0427204
END:VEVENT
BEGIN:VEVENT
DTSTART;TZID=Pacific/Honolulu:20260613T090000
DTEND;TZID=Pacific/Honolulu:20260613T140000
DTSTAMP:20260420T033246
CREATED:20260306T153611Z
LAST-MODIFIED:20260306T153611Z
UID:10016341-1781341200-1781359200@kauaifestivals.com
SUMMARY:2026 KAUAʻI KINGS PARADE AND HOʻOLAULEʻA
DESCRIPTION:2026 Kauaʻi King’s Parade & Hoʻolauleʻa \nJoin the community in celebrating Hawaiian culture at the 2026 Kauaʻi King’s Parade & Hoʻolauleʻa in Līhuʻe. The parade begins at 9:00 AM on Rice Street\, starting at Vidinha Stadium and ending at the Historic County Lawn. Following the parade\, the Hoʻolauleʻa begins and continues until 2:00 PM\, featuring food vendors\, crafts\, cultural demonstrations\, and entertainment for the whole ʻohana.
URL:https://kauaifestivals.com/festival/2026-kaua%ca%bbi-kings-parade-and-ho%ca%bbolaule%ca%bba/
LOCATION:Historic County Lawn\, 4396 Rice St\, Lihue\, HI\, 96766\, United States
CATEGORIES:Featured Events,Island Happenings
ATTACH;FMTTYPE=image/jpeg:https://kauaifestivals.com/wp-content/uploads/2026/03/Kauaʻi-Kingʻs-Parade-Hoʻolauleʻa.jpeg
ORGANIZER;CN="Kaua%CA%BBi%20Kings%20Parade":MAILTO:kkcc.kauai@gmail.com
GEO:21.9751055;-159.3672007
X-APPLE-STRUCTURED-LOCATION;VALUE=URI;X-ADDRESS=Historic County Lawn 4396 Rice St Lihue HI 96766 United States;X-APPLE-RADIUS=500;X-TITLE=4396 Rice St:geo:-159.3672007,21.9751055
END:VEVENT
BEGIN:VEVENT
DTSTART;TZID=Pacific/Honolulu:20260618T160000
DTEND;TZID=Pacific/Honolulu:20260618T190000
DTSTAMP:20260420T033246
CREATED:20260119T232745Z
LAST-MODIFIED:20260120T041804Z
UID:10016155-1781798400-1781809200@kauaifestivals.com
SUMMARY:Free Hula Show & Craft Fair with Tamatea Nui O Kaua’i Every Thursday
DESCRIPTION:Tamatea Nui O Kaua’i brings to you a FREE Hula Show along with some of the Best Artists and Craft Vendors on Kauai! \nEnjoy a Free Hula show!  Watch the beautiful dancers perform to live Ukulele\, Singing and Talk a Little Story about Hawaiian History and Culture while shopping for Gifts and Souvenirs! \nOpen to Guests and Locals!  This is one of the BEST Events to find that perfect something for yourself or somone on your list\, any time of year!  From Artists to Jewelry\, Wood works to Clothing and Special Treats\, this weekly Fair has everything you need and more! \nEvery Thursday Evening from 4pm tp 7pm with the FREE Hula Show starting at 5:30pm. \nThis is an open to All ages event with Handicap access and is held rain or shine. \nEvent happens in the Lobby of the Hilton Garden Inn\, Wailua Bay  3-5920 Kuhio Highway\, Kapaa \nPull in\, Park and Play!!
URL:https://kauaifestivals.com/festival/free-hula-show-craft-fair-with-tamatea-nui-o-kauai-every-thursday/2026-06-18/
LOCATION:HILTON GARDEN IN WAILUA BAY\, KAPAA KAUAI\, 3-5920 Kuhio Hwy\, KAPAA\, 96746
CATEGORIES:Island Happenings
ATTACH;FMTTYPE=image/png:https://kauaifestivals.com/wp-content/uploads/2026/01/HILTON-THURSDAY-WEEKLY-PNG-1.png
ORGANIZER;CN="HO%27OHIWAHIWA%20FAIR":MAILTO:hoohiwahiwahgi@gmail.com
GEO:22.0427204;-159.3361068
X-APPLE-STRUCTURED-LOCATION;VALUE=URI;X-ADDRESS=HILTON GARDEN IN WAILUA BAY KAPAA KAUAI 3-5920 Kuhio Hwy KAPAA 96746;X-APPLE-RADIUS=500;X-TITLE=3-5920 Kuhio Hwy:geo:-159.3361068,22.0427204
END:VEVENT
BEGIN:VEVENT
DTSTART;TZID=Pacific/Honolulu:20260620T150000
DTEND;TZID=Pacific/Honolulu:20260916T210000
DTSTAMP:20260420T033246
CREATED:20260324T170009Z
LAST-MODIFIED:20260324T170009Z
UID:10016536-1781967600-1789592400@kauaifestivals.com
SUMMARY:Southside Music & Arts Festival
DESCRIPTION:The annual Southside Music and Arts Festival celebrates the cultural diversity of Kauai with a night full of fantastic art\, live music\, and creativity on Kauai’s South Side.  \nOn Saturday\, June 20th Old Koloa Town will come to life with over 50 local artists\, food trucks\, and 4 bands. We invite you to dance the night away to live music\, or wander beneath the towering trees and discover art installations and interactive booths. Grab some excellent dinner or snacks\, and complete the night with shopping at local artisans booths. There’s something for everyone at the 3rd annual Southside Music and Arts Festival.  \nThe festival begins with live music and vendors in Waikomo Courtyard\, before moving across the street towards the Sugar Monument. Here you’ll find the festival main stage\, art installations\, and more artists and vendors. Lawn chairs and blankets are encouraged for attendees.  \nThis family friendly festival is free to attend\, thanks to our sponsors Old Koloa Town and Fish Eye Gallery.  \nThe Southside Music and Arts festival is produced by the non profit Southside Arts Initiative. For information on our mission\, or our music line-up and vendors\, please visit www.SouthsideArtsInitiative.com or follow us on instagram @southsidemusicandart. 
URL:https://kauaifestivals.com/festival/southside-music-arts-festival/
LOCATION:Old Koloa Town\, 5330 Koloa Road\, Koloa\, 96756
CATEGORIES:Featured Events,Island Happenings
ATTACH;FMTTYPE=image/jpeg:https://kauaifestivals.com/wp-content/uploads/2026/03/SSMAF_2026_flyerlowres-scaled.jpg
ORGANIZER;CN="Southside%20Arts%20Initiative":MAILTO:southsidemusicandarts@gmail.com
GEO:21.9036226;-159.4660475
X-APPLE-STRUCTURED-LOCATION;VALUE=URI;X-ADDRESS=Old Koloa Town 5330 Koloa Road Koloa 96756;X-APPLE-RADIUS=500;X-TITLE=5330 Koloa Road:geo:-159.4660475,21.9036226
END:VEVENT
BEGIN:VEVENT
DTSTART;TZID=Pacific/Honolulu:20260621T080000
DTEND;TZID=Pacific/Honolulu:20260621T170000
DTSTAMP:20260420T033246
CREATED:20250924T063010Z
LAST-MODIFIED:20260409T234342Z
UID:10016690-1782028800-1782061200@kauaifestivals.com
SUMMARY:Beach House Restaurant Craft Fair
DESCRIPTION:A beautiful setting in Poipu just outside the Beach House Restaurant.  More than 40 vendors offering quality handcrafted items including a wide variety of Kauai Keepsakes including Heritage Crafts\, Clothing\, Jewelry\, Photographs\, Art\, Snacks\, and more!  Something for everyone!
URL:https://kauaifestivals.com/festival/beach-house-restaurant-craft-fair/2026-06-21/
LOCATION:Beach House Restaurant\, 5022 Lawai Rd.\, Koloa\, 96756
CATEGORIES:Island Happenings
ATTACH;FMTTYPE=image/jpeg:https://kauaifestivals.com/wp-content/uploads/2025/09/Beach-House-Craft-fair-image-4.jpg
ORGANIZER;CN="Jeannine%20Marin%2FEdwin%20Vea":MAILTO:mailto:jeannine@thebeachhousekauai.com
GEO:21.8811335;-159.4753815
X-APPLE-STRUCTURED-LOCATION;VALUE=URI;X-ADDRESS=Beach House Restaurant 5022 Lawai Rd. Koloa 96756;X-APPLE-RADIUS=500;X-TITLE=5022 Lawai Rd.:geo:-159.4753815,21.8811335
END:VEVENT
BEGIN:VEVENT
DTSTART;TZID=Pacific/Honolulu:20260625T160000
DTEND;TZID=Pacific/Honolulu:20260625T190000
DTSTAMP:20260420T033246
CREATED:20260119T232745Z
LAST-MODIFIED:20260120T041804Z
UID:10016156-1782403200-1782414000@kauaifestivals.com
SUMMARY:Free Hula Show & Craft Fair with Tamatea Nui O Kaua’i Every Thursday
DESCRIPTION:Tamatea Nui O Kaua’i brings to you a FREE Hula Show along with some of the Best Artists and Craft Vendors on Kauai! \nEnjoy a Free Hula show!  Watch the beautiful dancers perform to live Ukulele\, Singing and Talk a Little Story about Hawaiian History and Culture while shopping for Gifts and Souvenirs! \nOpen to Guests and Locals!  This is one of the BEST Events to find that perfect something for yourself or somone on your list\, any time of year!  From Artists to Jewelry\, Wood works to Clothing and Special Treats\, this weekly Fair has everything you need and more! \nEvery Thursday Evening from 4pm tp 7pm with the FREE Hula Show starting at 5:30pm. \nThis is an open to All ages event with Handicap access and is held rain or shine. \nEvent happens in the Lobby of the Hilton Garden Inn\, Wailua Bay  3-5920 Kuhio Highway\, Kapaa \nPull in\, Park and Play!!
URL:https://kauaifestivals.com/festival/free-hula-show-craft-fair-with-tamatea-nui-o-kauai-every-thursday/2026-06-25/
LOCATION:HILTON GARDEN IN WAILUA BAY\, KAPAA KAUAI\, 3-5920 Kuhio Hwy\, KAPAA\, 96746
CATEGORIES:Island Happenings
ATTACH;FMTTYPE=image/png:https://kauaifestivals.com/wp-content/uploads/2026/01/HILTON-THURSDAY-WEEKLY-PNG-1.png
ORGANIZER;CN="HO%27OHIWAHIWA%20FAIR":MAILTO:hoohiwahiwahgi@gmail.com
GEO:22.0427204;-159.3361068
X-APPLE-STRUCTURED-LOCATION;VALUE=URI;X-ADDRESS=HILTON GARDEN IN WAILUA BAY KAPAA KAUAI 3-5920 Kuhio Hwy KAPAA 96746;X-APPLE-RADIUS=500;X-TITLE=3-5920 Kuhio Hwy:geo:-159.3361068,22.0427204
END:VEVENT
END:VCALENDAR