BEGIN:VCALENDAR
VERSION:2.0
PRODID:-//Kaua‘i Festivals &amp; Events - ECPv6.0.12//NONSGML v1.0//EN
CALSCALE:GREGORIAN
METHOD:PUBLISH
X-WR-CALNAME:Kaua‘i Festivals &amp; Events
X-ORIGINAL-URL:https://kauaifestivals.com
X-WR-CALDESC:Events for Kaua‘i Festivals &amp; Events
REFRESH-INTERVAL;VALUE=DURATION:PT1H
X-Robots-Tag:noindex
X-PUBLISHED-TTL:PT1H
BEGIN:VTIMEZONE
TZID:Pacific/Honolulu
BEGIN:STANDARD
TZOFFSETFROM:-1000
TZOFFSETTO:-1000
TZNAME:HST
DTSTART:20250101T000000
END:STANDARD
END:VTIMEZONE
BEGIN:VEVENT
DTSTART;TZID=Pacific/Honolulu:20251214T160000
DTEND;TZID=Pacific/Honolulu:20251214T200000
DTSTAMP:20260419T034840
CREATED:20240918T232428Z
LAST-MODIFIED:20251004T210544Z
UID:10015713-1765728000-1765742400@kauaifestivals.com
SUMMARY:Princeville Night Market
DESCRIPTION:Connect with 45 of Kauai’s best artisans at this monthly market. Food trucks\, restaurants\, and several musicians make it a market to remember! \nOur exact vendor line-up changes regularly\, but you’re sure to find paintings\, ceramics\, photography\, jewelry\, soaps & more\, plus meet the local artists who make it all. Three different music tents create a lively atmosphere\, and the food trucks and dessert options aren’t to be missed. \nThis free and family friendly event has been proudly running since 2015. You’ll find us on the Second Sunday of each month from 4-8pm\, only at the Princeville Shopping Center. Our open-air outdoor market is a rain or shine event. We hope to see you there! \nFollow us on instagram! @PrincevilleNightMarket
URL:https://kauaifestivals.com/festival/princeville-night-market/2025-12-14/
LOCATION:Princeville Shopping Center\, 5-4280 Kuhio Hwy\, Princeville\, HI\, 96722\, United States
CATEGORIES:Island Happenings
ATTACH;FMTTYPE=image/jpeg:https://kauaifestivals.com/wp-content/uploads/2024/09/Julie.jpg
ORGANIZER;CN="Princeville%20Night%20Market":MAILTO:PrincevilleNightMarket@gmail.com
GEO:19.8967662;-155.5827818
X-APPLE-STRUCTURED-LOCATION;VALUE=URI;X-ADDRESS=Princeville Shopping Center 5-4280 Kuhio Hwy Princeville HI 96722 United States;X-APPLE-RADIUS=500;X-TITLE=5-4280 Kuhio Hwy:geo:-155.5827818,19.8967662
END:VEVENT
BEGIN:VEVENT
DTSTART;TZID=Pacific/Honolulu:20251214T173000
DTEND;TZID=Pacific/Honolulu:20251214T210000
DTSTAMP:20260419T034840
CREATED:20250910T213723Z
LAST-MODIFIED:20250910T213723Z
UID:10015473-1765733400-1765746000@kauaifestivals.com
SUMMARY:Jake Shimabukuro's Holiday in Hawai'i: December 14
DESCRIPTION:Celebrate the Holiday Season with Jake Shimabukuro’s Spectacular Show: Holidays in Hawai’i! Tickets Here\nShow Dates\nThis show is being presented at two locations on two dates. Please verify you are selecting the correct location and date before booking your tickets. \nSunday\, December 14\nThe Performing Arts Center at KCC – Lihue Campus \nJake Shimabukuro\nGet ready to immerse yourself in the magical spirit of the holidays as the ukulele virtuoso and beloved ambassador of aloha\, Jake Shimabukuro\, presents his highly anticipated seasonal extravaganza: Jake Shimabukuro\, Holidays in Hawai’i! This festive show promises to be a sensational gift to music lovers worldwide\, delivering an unforgettable experience filled with joy\, warmth\, and the infectious charm of the ukulele. \nJake Shimabukuro’s unparalleled talent on the ukulele has captivated audiences around the globe\, and now he’s here to spread his unique brand of holiday cheer. Prepare to be enchanted as he strums his way through a dynamic repertoire that combines his signature show favorites with a vibrant collection of holiday classics. From the timeless melodies of “We Three Kings” and “O Holy Night” to the playful tunes of “All I Want For Christmas Is You” and “I’ll Be Home For Christmas\,” Jake will transport you to a musical wonderland\, reimagining these beloved songs in his own inimitable style. \nBut that’s not all! As a special treat\, Jake will also showcase selections from his new album “Grateful\,” which is the follow-up to the critically acclaimed duets album with artists from Willie Nelson\, Ziggy Marley and Bette Midler to Jimmy Buffett\, Jack Johnson\, and Kenny Loggins. It was these collaborations that inspired him to go back to the beginning and play with the musicians who first inspired him as he was growing up in Hawai`i. Jake shares a connection with each and every artist on this album. \nJoining Jake Shimabukuro on stage will be the talented bassist Jackson Waldhoff\, whose rhythmic prowess will provide the perfect foundation for the melodic brilliance of the ukulele. Additionally\, the show will feature the soulful and captivating voice of special guest singer-songwriter Justin Kawika Young. Together\, this exceptional ensemble will create an atmosphere of pure merriment\, ensuring that spirits remain bright throughout the entire performance. \nJake Shimabukuro\, Holidays in Hawai’i is not just a concert; it’s a celebration of the holiday season\, a fusion of musical excellence\, and a testament to the power of harmonious unity. So\, gather your loved ones\, embrace the magic of the ukulele\, and let Jake Shimabukuro transport you to a world where music and the spirit of aloha intertwine to create an unforgettable holiday experience. Don’t miss your chance to be part of this extraordinary celebration – book your tickets now and prepare to embark on a musical journey like no other! \n\n\n\nWhat’s included\n\nThis is a tiered ticketing level show with two show locations. Please verify you are selecting the correct concert location and date. \nVIP Seating includes access to the first two rows of seats in the theater. The first two rows of seating will be reserved for VIP Ticket Holders. Seating will be available on a first come first serve basis for VIP ticket holders. All patrons\, regardless of age require a ticket to sit in this section. \nGA Theater Seating includes access to our padded theater chairs on a first come first serve basis. Fully weather protected for a comfortable show experience. Children 6 and Under Free.
URL:https://kauaifestivals.com/festival/jake-shimabukuros-holiday-in-hawaii-december-14/
LOCATION:United States
CATEGORIES:Featured Events,Island Happenings
ATTACH;FMTTYPE=image/png:https://kauaifestivals.com/wp-content/uploads/2025/09/Jake-Shimabukruo-IG-Square-Lihue-copy.png
ORGANIZER;CN="Anaina%20Hou%20Community%20Park":MAILTO:community@anainahou.org
END:VEVENT
END:VCALENDAR