BEGIN:VCALENDAR
VERSION:2.0
PRODID:-//Kaua‘i Festivals &amp; Events - ECPv6.0.12//NONSGML v1.0//EN
CALSCALE:GREGORIAN
METHOD:PUBLISH
X-WR-CALNAME:Kaua‘i Festivals &amp; Events
X-ORIGINAL-URL:https://kauaifestivals.com
X-WR-CALDESC:Events for Kaua‘i Festivals &amp; Events
REFRESH-INTERVAL;VALUE=DURATION:PT1H
X-Robots-Tag:noindex
X-PUBLISHED-TTL:PT1H
BEGIN:VTIMEZONE
TZID:Pacific/Honolulu
BEGIN:STANDARD
TZOFFSETFROM:-1000
TZOFFSETTO:-1000
TZNAME:HST
DTSTART:20250101T000000
END:STANDARD
END:VTIMEZONE
BEGIN:VEVENT
DTSTART;TZID=Pacific/Honolulu:20251213T173000
DTEND;TZID=Pacific/Honolulu:20251213T210000
DTSTAMP:20260419T034839
CREATED:20250910T213622Z
LAST-MODIFIED:20250910T213622Z
UID:10015472-1765647000-1765659600@kauaifestivals.com
SUMMARY:Jake Shimabukuro's Holiday in Hawai'i: December 13
DESCRIPTION:Celebrate the Holiday Season with Jake Shimabukuro’s Spectacular Show: Holidays in Hawai’i! – Tickets Here\nShow Dates\nThis show is being presented at two locations on two dates. Please verify you are selecting the correct location and date before booking your tickets. \nSaturday\, December 13\nThe Porter Pavilion at Anaina Hou Community Park – Kilauea \nJake Shimabukuro\nGet ready to immerse yourself in the magical spirit of the holidays as the ukulele virtuoso and beloved ambassador of aloha\, Jake Shimabukuro\, presents his highly anticipated seasonal extravaganza: Jake Shimabukuro\, Holidays in Hawai’i! This festive show promises to be a sensational gift to music lovers worldwide\, delivering an unforgettable experience filled with joy\, warmth\, and the infectious charm of the ukulele. \nJake Shimabukuro’s unparalleled talent on the ukulele has captivated audiences around the globe\, and now he’s here to spread his unique brand of holiday cheer. Prepare to be enchanted as he strums his way through a dynamic repertoire that combines his signature show favorites with a vibrant collection of holiday classics. From the timeless melodies of “We Three Kings” and “O Holy Night” to the playful tunes of “All I Want For Christmas Is You” and “I’ll Be Home For Christmas\,” Jake will transport you to a musical wonderland\, reimagining these beloved songs in his own inimitable style. \nBut that’s not all! As a special treat\, Jake will also showcase selections from his new album “Grateful\,” which is the follow-up to the critically acclaimed duets album with artists from Willie Nelson\, Ziggy Marley and Bette Midler to Jimmy Buffett\, Jack Johnson\, and Kenny Loggins. It was these collaborations that inspired him to go back to the beginning and play with the musicians who first inspired him as he was growing up in Hawai`i. Jake shares a connection with each and every artist on this album. \nJoining Jake Shimabukuro on stage will be the talented bassist Jackson Waldhoff\, whose rhythmic prowess will provide the perfect foundation for the melodic brilliance of the ukulele. Additionally\, the show will feature the soulful and captivating voice of special guest singer-songwriter Justin Kawika Young. Together\, this exceptional ensemble will create an atmosphere of pure merriment\, ensuring that spirits remain bright throughout the entire performance. \nJake Shimabukuro\, Holidays in Hawai’i is not just a concert; it’s a celebration of the holiday season\, a fusion of musical excellence\, and a testament to the power of harmonious unity. So\, gather your loved ones\, embrace the magic of the ukulele\, and let Jake Shimabukuro transport you to a world where music and the spirit of aloha intertwine to create an unforgettable holiday experience. Don’t miss your chance to be part of this extraordinary celebration – book your tickets now and prepare to embark on a musical journey like no other! \n\n\n\nWhat’s included\n\nThis is a tiered ticketing level show with two show locations. Please verify you are selecting the correct concert location and date. \nVIP Pavilion Seating includes access to the front row of seats in the pavilion. The first row of seating will be reserved for VIP Ticket Holders. Seating will be available on a first come first serve basis for VIP ticket holders. All patrons\, regardless of age require a ticket to sit in this section. \nVIP Super Loft includes 6 tickets and access to our raised loft seating area. Seating for this section includes a couch and padded chairs as well as convenient tables for concessions and drinks during the show. This section is located conveniently towards the rear of the pavilion with easy entrance and exit as well as excellent site lines to the stage. \nPavilion Seating includes access to our padded theater chairs on a first come first serve basis. Fully weather protected for a comfortable show experience. All patrons\, regardless of age require a ticket to sit in this section. \nLawn Seating is BYOC (Bring your own chair or blanket). We have some scattered raised seating around the perimeter of the lawn available on a first come first serve basis. Lawn chairs strongly recommended for this ticket tier.
URL:https://kauaifestivals.com/festival/jake-shimabukuros-holiday-in-hawaii-december-13/
LOCATION:Anaina Hou Porter Pavilion\, 5-2723 Kuhio Highway\, Kilauea\, 96754
CATEGORIES:Featured Events,Island Happenings
ATTACH;FMTTYPE=image/png:https://kauaifestivals.com/wp-content/uploads/2025/09/Jake-Shimabukuro-Dec-13-IG-Square-copy-2.png
ORGANIZER;CN="Anaina%20Hou%20Community%20Park":MAILTO:community@anainahou.org
GEO:22.2109763;-159.4160471
X-APPLE-STRUCTURED-LOCATION;VALUE=URI;X-ADDRESS=Anaina Hou Porter Pavilion 5-2723 Kuhio Highway Kilauea 96754;X-APPLE-RADIUS=500;X-TITLE=5-2723 Kuhio Highway:geo:-159.4160471,22.2109763
END:VEVENT
END:VCALENDAR