BEGIN:VCALENDAR
VERSION:2.0
PRODID:-//Kaua‘i Festivals &amp; Events - ECPv6.0.12//NONSGML v1.0//EN
CALSCALE:GREGORIAN
METHOD:PUBLISH
X-ORIGINAL-URL:https://kauaifestivals.com
X-WR-CALDESC:Events for Kaua‘i Festivals &amp; Events
REFRESH-INTERVAL;VALUE=DURATION:PT1H
X-Robots-Tag:noindex
X-PUBLISHED-TTL:PT1H
BEGIN:VTIMEZONE
TZID:Pacific/Honolulu
BEGIN:STANDARD
TZOFFSETFROM:-1000
TZOFFSETTO:-1000
TZNAME:HST
DTSTART:20260101T000000
END:STANDARD
END:VTIMEZONE
BEGIN:VEVENT
DTSTART;TZID=Pacific/Honolulu:20260301T090000
DTEND;TZID=Pacific/Honolulu:20260301T130000
DTSTAMP:20260419T022413
CREATED:20250924T063010Z
LAST-MODIFIED:20260409T234342Z
UID:10015971-1772355600-1772370000@kauaifestivals.com
SUMMARY:Beach House Restaurant Craft Fair
DESCRIPTION:A beautiful setting in Poipu just outside the Beach House Restaurant.  More than 40 vendors offering quality handcrafted items including a wide variety of Kauai Keepsakes including Heritage Crafts\, Clothing\, Jewelry\, Photographs\, Art\, Snacks\, and more!  Something for everyone!
URL:https://kauaifestivals.com/festival/beach-house-restaurant-craft-fair/2026-03-01/
LOCATION:Beach House Restaurant\, 5022 Lawai Rd.\, Koloa\, 96756
CATEGORIES:Island Happenings
ATTACH;FMTTYPE=image/jpeg:https://kauaifestivals.com/wp-content/uploads/2025/09/Beach-House-Craft-fair-image-4.jpg
ORGANIZER;CN="Jeannine%20Marin%2FEdwin%20Vea":MAILTO:mailto:jeannine@thebeachhousekauai.com
GEO:21.8811335;-159.4753815
X-APPLE-STRUCTURED-LOCATION;VALUE=URI;X-ADDRESS=Beach House Restaurant 5022 Lawai Rd. Koloa 96756;X-APPLE-RADIUS=500;X-TITLE=5022 Lawai Rd.:geo:-159.4753815,21.8811335
END:VEVENT
BEGIN:VEVENT
DTSTART;TZID=Pacific/Honolulu:20260314T160000
DTEND;TZID=Pacific/Honolulu:20260314T200000
DTSTAMP:20260419T022413
CREATED:20251111T184502Z
LAST-MODIFIED:20260328T015215Z
UID:10016663-1773504000-1773518400@kauaifestivals.com
SUMMARY:Downtown Lihue 2nd Saturday Night Market
DESCRIPTION:Join us on Kress Street for Downtown Lihue’s 2nd Saturday Night Market. Locally made crafts\, gifts\, food trucks\, baked goods\, live entertainment\, and much more! With over 40 local vendors we’re sure that there’s something for you to enjoy. \nThis event is free to attend\, family friendly\, and an outdoor open to the public. Hosted by the Hawaiʻi Tourism Authority and Alakoko Shop.\nIf you are an interested vendor\, register at www.downtownlihue.com/night-market-details
URL:https://kauaifestivals.com/festival/downtown-lihue-2nd-saturday-night-market/2026-03-14/
LOCATION:Kress Street\, Kress Street\, Lihue\, 96766
CATEGORIES:Featured Events,Island Happenings
ATTACH;FMTTYPE=image/jpeg:https://kauaifestivals.com/wp-content/uploads/2025/11/2026-DLNM.jpg
ORGANIZER;CN="Rice%20Street%20Business%20Association":MAILTO:kauairsba@gmail.com
GEO:21.9719121;-159.3658532
X-APPLE-STRUCTURED-LOCATION;VALUE=URI;X-ADDRESS=Kress Street Kress Street Lihue 96766;X-APPLE-RADIUS=500;X-TITLE=Kress Street:geo:-159.3658532,21.9719121
END:VEVENT
BEGIN:VEVENT
DTSTART;TZID=Pacific/Honolulu:20260315T090000
DTEND;TZID=Pacific/Honolulu:20260315T130000
DTSTAMP:20260419T022413
CREATED:20250924T063010Z
LAST-MODIFIED:20260409T234342Z
UID:10015972-1773565200-1773579600@kauaifestivals.com
SUMMARY:Beach House Restaurant Craft Fair
DESCRIPTION:A beautiful setting in Poipu just outside the Beach House Restaurant.  More than 40 vendors offering quality handcrafted items including a wide variety of Kauai Keepsakes including Heritage Crafts\, Clothing\, Jewelry\, Photographs\, Art\, Snacks\, and more!  Something for everyone!
URL:https://kauaifestivals.com/festival/beach-house-restaurant-craft-fair/2026-03-15/
LOCATION:Beach House Restaurant\, 5022 Lawai Rd.\, Koloa\, 96756
CATEGORIES:Island Happenings
ATTACH;FMTTYPE=image/jpeg:https://kauaifestivals.com/wp-content/uploads/2025/09/Beach-House-Craft-fair-image-4.jpg
ORGANIZER;CN="Jeannine%20Marin%2FEdwin%20Vea":MAILTO:mailto:jeannine@thebeachhousekauai.com
GEO:21.8811335;-159.4753815
X-APPLE-STRUCTURED-LOCATION;VALUE=URI;X-ADDRESS=Beach House Restaurant 5022 Lawai Rd. Koloa 96756;X-APPLE-RADIUS=500;X-TITLE=5022 Lawai Rd.:geo:-159.4753815,21.8811335
END:VEVENT
BEGIN:VEVENT
DTSTART;TZID=Pacific/Honolulu:20260328T093000
DTEND;TZID=Pacific/Honolulu:20260328T123000
DTSTAMP:20260419T022413
CREATED:20260306T054406Z
LAST-MODIFIED:20260306T054406Z
UID:10016343-1774690200-1774701000@kauaifestivals.com
SUMMARY:Women's History Month Craft Fair
DESCRIPTION:Women’s History Month Craft Fair! \nCome help us celebrate women owned Kauai businesses. \nSupport local crafters & makers!
URL:https://kauaifestivals.com/festival/womens-history-month-craft-fair/
LOCATION:Grove Farm Park\, Puhi\, HI\, United States
CATEGORIES:Island Happenings
ATTACH;FMTTYPE=image/jpeg:https://kauaifestivals.com/wp-content/uploads/2026/03/Kauai-Made-Womens-History-Month-flyer-8.5-x-11-rbg-scaled.jpg
GEO:21.9686111;-159.3994444
END:VEVENT
END:VCALENDAR