BEGIN:VCALENDAR
VERSION:2.0
PRODID:-//Kaua‘i Festivals &amp; Events - ECPv6.0.12//NONSGML v1.0//EN
CALSCALE:GREGORIAN
METHOD:PUBLISH
X-WR-CALNAME:Kaua‘i Festivals &amp; Events
X-ORIGINAL-URL:https://kauaifestivals.com
X-WR-CALDESC:Events for Kaua‘i Festivals &amp; Events
REFRESH-INTERVAL;VALUE=DURATION:PT1H
X-Robots-Tag:noindex
X-PUBLISHED-TTL:PT1H
BEGIN:VTIMEZONE
TZID:Pacific/Honolulu
BEGIN:STANDARD
TZOFFSETFROM:-1000
TZOFFSETTO:-1000
TZNAME:HST
DTSTART:20260101T000000
END:STANDARD
END:VTIMEZONE
BEGIN:VEVENT
DTSTART;TZID=Pacific/Honolulu:20261003T150000
DTEND;TZID=Pacific/Honolulu:20261003T180000
DTSTAMP:20260419T024155
CREATED:20251125T220550Z
LAST-MODIFIED:20260310T224314Z
UID:10015872-1791039600-1791050400@kauaifestivals.com
SUMMARY:Kaua’i Brewers Festival
DESCRIPTION:Join us for Kaua’i Brewers Festival\, Block Party Edition. Entry tickets are $50 presale for all ages (12 and under free)\, add all access to the beer garden (21 and over only\, must have physical license to enter garden) for an additional $50.
URL:https://kauaifestivals.com/festival/kauai-brewers-festival/
LOCATION:Kress Street\, Kress Street\, Lihue\, 96766
CATEGORIES:Featured Events,Island Happenings
ATTACH;FMTTYPE=image/png:https://kauaifestivals.com/wp-content/uploads/2025/11/2026_KBF-2.png
ORGANIZER;CN="Rice%20Street%20Business%20Association":MAILTO:kauairsba@gmail.com
GEO:21.9719121;-159.3658532
X-APPLE-STRUCTURED-LOCATION;VALUE=URI;X-ADDRESS=Kress Street Kress Street Lihue 96766;X-APPLE-RADIUS=500;X-TITLE=Kress Street:geo:-159.3658532,21.9719121
END:VEVENT
END:VCALENDAR