BEGIN:VCALENDAR
VERSION:2.0
PRODID:-//Kaua‘i Festivals &amp; Events - ECPv6.0.12//NONSGML v1.0//EN
CALSCALE:GREGORIAN
METHOD:PUBLISH
X-ORIGINAL-URL:https://kauaifestivals.com
X-WR-CALDESC:Events for Kaua‘i Festivals &amp; Events
REFRESH-INTERVAL;VALUE=DURATION:PT1H
X-Robots-Tag:noindex
X-PUBLISHED-TTL:PT1H
BEGIN:VTIMEZONE
TZID:Pacific/Honolulu
BEGIN:STANDARD
TZOFFSETFROM:-1000
TZOFFSETTO:-1000
TZNAME:HST
DTSTART:20250101T000000
END:STANDARD
END:VTIMEZONE
BEGIN:VEVENT
DTSTART;TZID=Pacific/Honolulu:20250808T080000
DTEND;TZID=Pacific/Honolulu:20250808T110000
DTSTAMP:20260419T100455
CREATED:20250711T023731Z
LAST-MODIFIED:20250711T023731Z
UID:10015427-1754640000-1754650800@kauaifestivals.com
SUMMARY:Gabby Ahuliʻi Book signing and Reading
DESCRIPTION:Join us for a free ʻohana event for keiki of all ages. Author Gabby will be reading her keiki books and doing book signings.
URL:https://kauaifestivals.com/festival/gabby-ahuli%ca%bbi-book-signing-and-reading/
LOCATION:Hale Lihue\, 4286 Rice Street\, Lihue\, HI\, 96766\, United States
CATEGORIES:Island Happenings
ATTACH;FMTTYPE=image/png:https://kauaifestivals.com/wp-content/uploads/2025/07/GabbyHoltBookSigning_Aug11-2.png
ORGANIZER;CN="Rice%20Street%20Business%20Association":MAILTO:kauairsba@gmail.com
GEO:21.9728519;-159.365047
X-APPLE-STRUCTURED-LOCATION;VALUE=URI;X-ADDRESS=Hale Lihue 4286 Rice Street Lihue HI 96766 United States;X-APPLE-RADIUS=500;X-TITLE=4286 Rice Street:geo:-159.365047,21.9728519
END:VEVENT
END:VCALENDAR