BEGIN:VCALENDAR
VERSION:2.0
PRODID:-//Kaua‘i Festivals &amp; Events - ECPv6.0.12//NONSGML v1.0//EN
CALSCALE:GREGORIAN
METHOD:PUBLISH
X-ORIGINAL-URL:https://kauaifestivals.com
X-WR-CALDESC:Events for Kaua‘i Festivals &amp; Events
REFRESH-INTERVAL;VALUE=DURATION:PT1H
X-Robots-Tag:noindex
X-PUBLISHED-TTL:PT1H
BEGIN:VTIMEZONE
TZID:Pacific/Honolulu
BEGIN:STANDARD
TZOFFSETFROM:-1000
TZOFFSETTO:-1000
TZNAME:HST
DTSTART:20250101T000000
END:STANDARD
END:VTIMEZONE
BEGIN:VEVENT
DTSTART;TZID=Pacific/Honolulu:20250720T160000
DTEND;TZID=Pacific/Honolulu:20250720T190000
DTSTAMP:20260419T113735
CREATED:20250705T000914Z
LAST-MODIFIED:20250705T000914Z
UID:10015400-1753027200-1753038000@kauaifestivals.com
SUMMARY:July 20 Sunday: Pop up Speakeasy\, Live Jazz with Lady Ipo and Friends. Whiskey tasting and ono food.
DESCRIPTION:Pop up Speakeasy Live jazz with Lady Ipo\, libations and ono food. Reserved seating available online. Doors open at 4pm\, bar and food available. 5pm live music begins. Get your tickets now!
URL:https://kauaifestivals.com/festival/july-20-sunday-pop-up-speakeasy-live-jazz-with-lady-ipo-and-friends-whiskey-tasting-and-ono-food/
LOCATION:Hale Lihue\, 4286 Rice Street\, Lihue\, HI\, 96766\, United States
CATEGORIES:Island Happenings
ATTACH;FMTTYPE=image/png:https://kauaifestivals.com/wp-content/uploads/2025/07/PopUp-Speakeasy-3rdSundays.png
ORGANIZER;CN="Rice%20Street%20Business%20Association":MAILTO:kauairsba@gmail.com
GEO:21.9728519;-159.365047
X-APPLE-STRUCTURED-LOCATION;VALUE=URI;X-ADDRESS=Hale Lihue 4286 Rice Street Lihue HI 96766 United States;X-APPLE-RADIUS=500;X-TITLE=4286 Rice Street:geo:-159.365047,21.9728519
END:VEVENT
END:VCALENDAR