BEGIN:VCALENDAR
VERSION:2.0
PRODID:-//Kaua‘i Festivals &amp; Events - ECPv6.0.12//NONSGML v1.0//EN
CALSCALE:GREGORIAN
METHOD:PUBLISH
X-WR-CALNAME:Kaua‘i Festivals &amp; Events
X-ORIGINAL-URL:https://kauaifestivals.com
X-WR-CALDESC:Events for Kaua‘i Festivals &amp; Events
REFRESH-INTERVAL;VALUE=DURATION:PT1H
X-Robots-Tag:noindex
X-PUBLISHED-TTL:PT1H
BEGIN:VTIMEZONE
TZID:Pacific/Honolulu
BEGIN:STANDARD
TZOFFSETFROM:-1000
TZOFFSETTO:-1000
TZNAME:HST
DTSTART:20250101T000000
END:STANDARD
END:VTIMEZONE
BEGIN:VEVENT
DTSTART;TZID=Pacific/Honolulu:20250704T173000
DTEND;TZID=Pacific/Honolulu:20250704T233000
DTSTAMP:20260419T022040
CREATED:20250701T023732Z
LAST-MODIFIED:20250701T023732Z
UID:10015390-1751650200-1751671800@kauaifestivals.com
SUMMARY:4th of July Celebration
DESCRIPTION:4th of July Celebration at The Cabana Bar & Grill! 🇺🇸Located inside Poipu Beach Athletic Club \nGet ready to light up your Independence Day at The Cabana Bar & Grill with food\, drinks\, live music\, and dancing under the stars! \n🌟 LIVE MUSIC by Kyle Labenz | 5:30 – 8:30 PMKick off the evening with the soulful sounds of Kyle Labenz – island vibes\, acoustic jams\, and good times guaranteed. \n🕺 DJ Dance Party | Starts at 9:00 PMWhen the sun goes down\, the party turns up! Hit the dance floor and celebrate freedom with your favorite beats spun by our live DJ.💵 $10 Cover Charge After 9PM \n🍹 Delicious food & drink specials🏝️ Open-air fun in a beautiful tropical setting🎉 No better place to be this 4th of July! \nCome early\, stay late\, and celebrate all night long!📍 The Cabana Bar & Grill – inside Poipu Beach Athletic Club
URL:https://kauaifestivals.com/festival/4th-of-july-celebration/
LOCATION:The Cabana Bar & Grill\, 2290 Poipu Rd\, Koloa\, HI 96756\, Koloa\, 96756
CATEGORIES:Island Happenings
ATTACH;FMTTYPE=image/jpeg:https://kauaifestivals.com/wp-content/uploads/2025/06/4th-of-July-2025-.jpg
ORGANIZER;CN="Cabana%20Bar%20%26amp%3B%20Grill":MAILTO:thecabanakauai@gmail.com
GEO:21.8791567;-159.4559227
X-APPLE-STRUCTURED-LOCATION;VALUE=URI;X-ADDRESS=The Cabana Bar & Grill 2290 Poipu Rd Koloa HI 96756 Koloa 96756;X-APPLE-RADIUS=500;X-TITLE=2290 Poipu Rd\, Koloa\, HI 96756:geo:-159.4559227,21.8791567
END:VEVENT
BEGIN:VEVENT
DTSTART;TZID=Pacific/Honolulu:20250719T090000
DTEND;TZID=Pacific/Honolulu:20250719T120000
DTSTAMP:20260419T022040
CREATED:20250706T200349Z
LAST-MODIFIED:20250706T200349Z
UID:10015404-1752915600-1752926400@kauaifestivals.com
SUMMARY:HAWAIIAN SPIRITUALITY AND HERBAL MEDICINE WORKSHOP
DESCRIPTION:Experience the heart of Hawaiian culture and its herbal medicine tradition at a special event on Saturday\, July 19 at the Lawai International Center in Kalaheo. \nThis extremely popular workshop will be led by Sean Chun\, a renowned Hawaiian cultural practitioner from 9:00 am to 12:00 pm. Chun will discuss Hawaiian healing methodology and philosophy\, including the use of la’au and ho’oponopono.  La’au is healing with spirituality and herbs that addresses the body\, mind\, and spirit.  Ho’oponopono is a Hawaiian practice of  \nreconciliation and forgiveness.  \n“We will talk about an overview of traditional Hawaiian healing\, history\, and about various arts that are practiced\,” Chun said.  “A lot that’s out there today isn’t really traditional. I’ll try to bring more awareness.”  \nThe cost is $50 donation per person. Light refreshments will be served. For reservations visit www.lawaicenter.org; call (808) 639-5952; email info@lawaicenter.org  The workshop address is 3381 Wawae Road in Kalaheo.  \nChun is the island coordinator of Kaua’i Kupuna Council of Traditional Healers\, the cultural resource coordinator for H’ola Lahui Hawa’ii\, and coordinator of Pihana Ka ‘Ikena\, perpetuating the Hawaiian culture.  \nThe mission of the Lawai International Center is to preserve and nurture the land and its rich cultural heritage by extending a heartfelt invitation to all who wish to experience its essence through the spirit of compassion and aloha.
URL:https://kauaifestivals.com/festival/hawaiian-spirituality-and-herbal-medicine-workshop/
LOCATION:Lawai International Center\, Omao\, HI\, United States
CATEGORIES:Island Happenings
ATTACH;FMTTYPE=image/jpeg:https://kauaifestivals.com/wp-content/uploads/2025/07/SeanChun.jpg
ORGANIZER;CN="Lawai%20International%20Center":MAILTO:info@lawaicenter.org
GEO:21.925534;-159.4875264
END:VEVENT
END:VCALENDAR