BEGIN:VCALENDAR
VERSION:2.0
PRODID:-//Kaua‘i Festivals &amp; Events - ECPv6.0.12//NONSGML v1.0//EN
CALSCALE:GREGORIAN
METHOD:PUBLISH
X-ORIGINAL-URL:https://kauaifestivals.com
X-WR-CALDESC:Events for Kaua‘i Festivals &amp; Events
REFRESH-INTERVAL;VALUE=DURATION:PT1H
X-Robots-Tag:noindex
X-PUBLISHED-TTL:PT1H
BEGIN:VTIMEZONE
TZID:Pacific/Honolulu
BEGIN:STANDARD
TZOFFSETFROM:-1000
TZOFFSETTO:-1000
TZNAME:HST
DTSTART:20250101T000000
END:STANDARD
END:VTIMEZONE
BEGIN:VEVENT
DTSTART;TZID=Pacific/Honolulu:20251121T163000
DTEND;TZID=Pacific/Honolulu:20251121T183000
DTSTAMP:20260420T092823
CREATED:20251103T184837Z
LAST-MODIFIED:20251103T184837Z
UID:10015758-1763742600-1763749800@kauaifestivals.com
SUMMARY:Capstone Pau Hana
DESCRIPTION:Kuleana AI Lab proudly presents our Capstone Pau Hana—an informal\, community celebration for the first cohort of the Kuleana AI Lab AI Accelerator\, run in partnership with the Hawai‘i Technology Development Corporation (HTDC). \nOver the past months we’ve worked with 6 Kaua‘i small business owners to level up their AI savvy. This capstone highlights what participants built\, what they learned\, and where they’re headed next. \nWhen & Where\nFriday\, November 21\, 4:30–6:30 PM (HST)\nKuleana.work Coworking Space & AI Lab\nKukui Grove Center\, Suite 1650 \nPupus and refreshments served \nWho Should Come\nSmall business owners\, educators\, community organizers\, and anyone curious about how AI is already showing up in real\, local workflows.\nFree and open to the public. \nRSVP\nSpace is limited. Please RSVP by email: info@kuleana.work.
URL:https://kauaifestivals.com/festival/capstone-pau-hana/
LOCATION:Kuleana AI Lab – Kukui Grove Shopping Center\, 3-2600 KAUMUALII HWY - Suite 1650\, Lihue\, HI\, 96766\, United States
CATEGORIES:Island Happenings
ATTACH;FMTTYPE=image/jpeg:https://kauaifestivals.com/wp-content/uploads/2025/11/SocialMediacapstone-pau-hana-REV-1.jpg
ORGANIZER;CN="Kuleana%20AI%20Lab":MAILTO:info@kuleana.work
GEO:21.9701471;-159.3803377
X-APPLE-STRUCTURED-LOCATION;VALUE=URI;X-ADDRESS=Kuleana AI Lab – Kukui Grove Shopping Center 3-2600 KAUMUALII HWY - Suite 1650 Lihue HI 96766 United States;X-APPLE-RADIUS=500;X-TITLE=3-2600 KAUMUALII HWY - Suite 1650:geo:-159.3803377,21.9701471
END:VEVENT
END:VCALENDAR