BEGIN:VCALENDAR
VERSION:2.0
PRODID:-//Kaua‘i Festivals &amp; Events - ECPv6.0.12//NONSGML v1.0//EN
CALSCALE:GREGORIAN
METHOD:PUBLISH
X-WR-CALNAME:Kaua‘i Festivals &amp; Events
X-ORIGINAL-URL:https://kauaifestivals.com
X-WR-CALDESC:Events for Kaua‘i Festivals &amp; Events
REFRESH-INTERVAL;VALUE=DURATION:PT1H
X-Robots-Tag:noindex
X-PUBLISHED-TTL:PT1H
BEGIN:VTIMEZONE
TZID:Pacific/Honolulu
BEGIN:STANDARD
TZOFFSETFROM:-1000
TZOFFSETTO:-1000
TZNAME:HST
DTSTART:20260101T000000
END:STANDARD
END:VTIMEZONE
BEGIN:VEVENT
DTSTART;TZID=Pacific/Honolulu:20260124T173000
DTEND;TZID=Pacific/Honolulu:20260124T200000
DTSTAMP:20260420T060203
CREATED:20260119T232337Z
LAST-MODIFIED:20260119T232337Z
UID:10016132-1769275800-1769284800@kauaifestivals.com
SUMMARY:The Big Easy Pop Up Restaurant
DESCRIPTION:Experience a one night special event! The Big Easy Cajun/Creole pop up restaurant in Hanapēpē at Unko’s restaurant. Chef Sean Hartigan and the chef’s collective bring you a Mardi Gras night featuring authentic Nee Orleans style cuisine. Four Course Prix Fix menu all inclusive. Chef Sean Hartigan is an award winning Cajun/Creole chef and a resident of Kauai. In partnership with Unko’s restaurant and his chef collective he brings the authentic tastes of New Orleans to Kauai with dishes including seafood jambalaya\, seafood gumbo\, crawfish etouffee\, beignets and Bread pudding. \nMake reservations at: \nhttps://www.opentable.com/booking/experiences-availability?rid=1488946&restref=1488946&experienceId=632103&utm_source=external&utm_medium=referral&utm_campaign=shared
URL:https://kauaifestivals.com/festival/the-big-easy-pop-up-restaurant/
LOCATION:Unko’s Kitchen\, 13749 Kaumualii Hwy\, Hanapepe\, HI\, 96716\, United States
CATEGORIES:Island Happenings
ATTACH;FMTTYPE=image/jpeg:https://kauaifestivals.com/wp-content/uploads/2026/01/creole.jpg
ORGANIZER;CN="Kauai%20Chef%27s%20Collective":MAILTO:seanhartigan62@gmail.com
GEO:21.909475;-159.5892981
X-APPLE-STRUCTURED-LOCATION;VALUE=URI;X-ADDRESS=Unko’s Kitchen 13749 Kaumualii Hwy Hanapepe HI 96716 United States;X-APPLE-RADIUS=500;X-TITLE=13749 Kaumualii Hwy:geo:-159.5892981,21.909475
END:VEVENT
END:VCALENDAR