BEGIN:VCALENDAR
VERSION:2.0
PRODID:-//Kaua‘i Festivals &amp; Events - ECPv6.0.12//NONSGML v1.0//EN
CALSCALE:GREGORIAN
METHOD:PUBLISH
X-WR-CALNAME:Kaua‘i Festivals &amp; Events
X-ORIGINAL-URL:https://kauaifestivals.com
X-WR-CALDESC:Events for Kaua‘i Festivals &amp; Events
REFRESH-INTERVAL;VALUE=DURATION:PT1H
X-Robots-Tag:noindex
X-PUBLISHED-TTL:PT1H
BEGIN:VTIMEZONE
TZID:Pacific/Honolulu
BEGIN:STANDARD
TZOFFSETFROM:-1000
TZOFFSETTO:-1000
TZNAME:HST
DTSTART:20260101T000000
END:STANDARD
END:VTIMEZONE
BEGIN:VEVENT
DTSTART;TZID=Pacific/Honolulu:20260613T090000
DTEND;TZID=Pacific/Honolulu:20260613T140000
DTSTAMP:20260420T013955
CREATED:20260306T153611Z
LAST-MODIFIED:20260306T153611Z
UID:10016341-1781341200-1781359200@kauaifestivals.com
SUMMARY:2026 KAUAʻI KINGS PARADE AND HOʻOLAULEʻA
DESCRIPTION:2026 Kauaʻi King’s Parade & Hoʻolauleʻa \nJoin the community in celebrating Hawaiian culture at the 2026 Kauaʻi King’s Parade & Hoʻolauleʻa in Līhuʻe. The parade begins at 9:00 AM on Rice Street\, starting at Vidinha Stadium and ending at the Historic County Lawn. Following the parade\, the Hoʻolauleʻa begins and continues until 2:00 PM\, featuring food vendors\, crafts\, cultural demonstrations\, and entertainment for the whole ʻohana.
URL:https://kauaifestivals.com/festival/2026-kaua%ca%bbi-kings-parade-and-ho%ca%bbolaule%ca%bba/
LOCATION:Historic County Lawn\, 4396 Rice St\, Lihue\, HI\, 96766\, United States
CATEGORIES:Featured Events,Island Happenings
ATTACH;FMTTYPE=image/jpeg:https://kauaifestivals.com/wp-content/uploads/2026/03/Kauaʻi-Kingʻs-Parade-Hoʻolauleʻa.jpeg
ORGANIZER;CN="Kaua%CA%BBi%20Kings%20Parade":MAILTO:kkcc.kauai@gmail.com
GEO:21.9751055;-159.3672007
X-APPLE-STRUCTURED-LOCATION;VALUE=URI;X-ADDRESS=Historic County Lawn 4396 Rice St Lihue HI 96766 United States;X-APPLE-RADIUS=500;X-TITLE=4396 Rice St:geo:-159.3672007,21.9751055
END:VEVENT
BEGIN:VEVENT
DTSTART;TZID=Pacific/Honolulu:20260613T160000
DTEND;TZID=Pacific/Honolulu:20260613T200000
DTSTAMP:20260420T013955
CREATED:20251111T184502Z
LAST-MODIFIED:20260328T015215Z
UID:10016666-1781366400-1781380800@kauaifestivals.com
SUMMARY:Downtown Lihue 2nd Saturday Night Market
DESCRIPTION:Join us on Kress Street for Downtown Lihue’s 2nd Saturday Night Market. Locally made crafts\, gifts\, food trucks\, baked goods\, live entertainment\, and much more! With over 40 local vendors we’re sure that there’s something for you to enjoy. \nThis event is free to attend\, family friendly\, and an outdoor open to the public. Hosted by the Hawaiʻi Tourism Authority and Alakoko Shop.\nIf you are an interested vendor\, register at www.downtownlihue.com/night-market-details
URL:https://kauaifestivals.com/festival/downtown-lihue-2nd-saturday-night-market/2026-06-13/
LOCATION:Kress Street\, Kress Street\, Lihue\, 96766
CATEGORIES:Featured Events,Island Happenings
ATTACH;FMTTYPE=image/jpeg:https://kauaifestivals.com/wp-content/uploads/2025/11/2026-DLNM.jpg
ORGANIZER;CN="Rice%20Street%20Business%20Association":MAILTO:kauairsba@gmail.com
GEO:21.9719121;-159.3658532
X-APPLE-STRUCTURED-LOCATION;VALUE=URI;X-ADDRESS=Kress Street Kress Street Lihue 96766;X-APPLE-RADIUS=500;X-TITLE=Kress Street:geo:-159.3658532,21.9719121
END:VEVENT
BEGIN:VEVENT
DTSTART;TZID=Pacific/Honolulu:20260614T160000
DTEND;TZID=Pacific/Honolulu:20260614T200000
DTSTAMP:20260420T013955
CREATED:20240918T232428Z
LAST-MODIFIED:20251004T210544Z
UID:10015719-1781452800-1781467200@kauaifestivals.com
SUMMARY:Princeville Night Market
DESCRIPTION:Connect with 45 of Kauai’s best artisans at this monthly market. Food trucks\, restaurants\, and several musicians make it a market to remember! \nOur exact vendor line-up changes regularly\, but you’re sure to find paintings\, ceramics\, photography\, jewelry\, soaps & more\, plus meet the local artists who make it all. Three different music tents create a lively atmosphere\, and the food trucks and dessert options aren’t to be missed. \nThis free and family friendly event has been proudly running since 2015. You’ll find us on the Second Sunday of each month from 4-8pm\, only at the Princeville Shopping Center. Our open-air outdoor market is a rain or shine event. We hope to see you there! \nFollow us on instagram! @PrincevilleNightMarket
URL:https://kauaifestivals.com/festival/princeville-night-market/2026-06-14/
LOCATION:Princeville Shopping Center\, 5-4280 Kuhio Hwy\, Princeville\, HI\, 96722\, United States
CATEGORIES:Island Happenings
ATTACH;FMTTYPE=image/jpeg:https://kauaifestivals.com/wp-content/uploads/2024/09/Julie.jpg
ORGANIZER;CN="Princeville%20Night%20Market":MAILTO:PrincevilleNightMarket@gmail.com
GEO:19.8967662;-155.5827818
X-APPLE-STRUCTURED-LOCATION;VALUE=URI;X-ADDRESS=Princeville Shopping Center 5-4280 Kuhio Hwy Princeville HI 96722 United States;X-APPLE-RADIUS=500;X-TITLE=5-4280 Kuhio Hwy:geo:-155.5827818,19.8967662
END:VEVENT
BEGIN:VEVENT
DTSTART;TZID=Pacific/Honolulu:20260619T180000
DTEND;TZID=Pacific/Honolulu:20260619T220000
DTSTAMP:20260420T013955
CREATED:20260321T011534Z
LAST-MODIFIED:20260321T011534Z
UID:10016522-1781892000-1781906400@kauaifestivals.com
SUMMARY:Lihue Hongwanji Mission Bon Dance
DESCRIPTION:Bon dance festivals in Hawaii are traditional Buddhist celebrations to honor our ancestors.  All are welcome to join the dancing to Japanese and Okinawan music accompanied by Taiko drummers around a Yagura.  At Lihue Hongwanji\, the Food Booth and Country Store open at 6PM and the dancing begins at 7:30PM.
URL:https://kauaifestivals.com/festival/lihue-hongwanji-mission-bon-dance/2026-06-19/
LOCATION:Lihue Hongwanji Buddhist Temple\, Across from Kapaia Stitchery
CATEGORIES:Featured Events,Island Happenings
ATTACH;FMTTYPE=image/jpeg:https://kauaifestivals.com/wp-content/uploads/2026/03/IMG_3054-scaled.jpg
ORGANIZER;CN="Lihue%20Hongwanji%20Buddhist%20Temple":MAILTO:lihuehongwanjimission@gmail.com
GEO:21.990491;-159.3665751
X-APPLE-STRUCTURED-LOCATION;VALUE=URI;X-ADDRESS=Lihue Hongwanji Buddhist Temple Across from Kapaia Stitchery;X-APPLE-RADIUS=500;X-TITLE=Across from Kapaia Stitchery:geo:-159.3665751,21.990491
END:VEVENT
BEGIN:VEVENT
DTSTART;TZID=Pacific/Honolulu:20260620T150000
DTEND;TZID=Pacific/Honolulu:20260916T210000
DTSTAMP:20260420T013955
CREATED:20260324T170009Z
LAST-MODIFIED:20260324T170009Z
UID:10016536-1781967600-1789592400@kauaifestivals.com
SUMMARY:Southside Music & Arts Festival
DESCRIPTION:The annual Southside Music and Arts Festival celebrates the cultural diversity of Kauai with a night full of fantastic art\, live music\, and creativity on Kauai’s South Side.  \nOn Saturday\, June 20th Old Koloa Town will come to life with over 50 local artists\, food trucks\, and 4 bands. We invite you to dance the night away to live music\, or wander beneath the towering trees and discover art installations and interactive booths. Grab some excellent dinner or snacks\, and complete the night with shopping at local artisans booths. There’s something for everyone at the 3rd annual Southside Music and Arts Festival.  \nThe festival begins with live music and vendors in Waikomo Courtyard\, before moving across the street towards the Sugar Monument. Here you’ll find the festival main stage\, art installations\, and more artists and vendors. Lawn chairs and blankets are encouraged for attendees.  \nThis family friendly festival is free to attend\, thanks to our sponsors Old Koloa Town and Fish Eye Gallery.  \nThe Southside Music and Arts festival is produced by the non profit Southside Arts Initiative. For information on our mission\, or our music line-up and vendors\, please visit www.SouthsideArtsInitiative.com or follow us on instagram @southsidemusicandart. 
URL:https://kauaifestivals.com/festival/southside-music-arts-festival/
LOCATION:Old Koloa Town\, 5330 Koloa Road\, Koloa\, 96756
CATEGORIES:Featured Events,Island Happenings
ATTACH;FMTTYPE=image/jpeg:https://kauaifestivals.com/wp-content/uploads/2026/03/SSMAF_2026_flyerlowres-scaled.jpg
ORGANIZER;CN="Southside%20Arts%20Initiative":MAILTO:southsidemusicandarts@gmail.com
GEO:21.9036226;-159.4660475
X-APPLE-STRUCTURED-LOCATION;VALUE=URI;X-ADDRESS=Old Koloa Town 5330 Koloa Road Koloa 96756;X-APPLE-RADIUS=500;X-TITLE=5330 Koloa Road:geo:-159.4660475,21.9036226
END:VEVENT
BEGIN:VEVENT
DTSTART;TZID=Pacific/Honolulu:20260620T180000
DTEND;TZID=Pacific/Honolulu:20260620T220000
DTSTAMP:20260420T013955
CREATED:20260321T011534Z
LAST-MODIFIED:20260321T011534Z
UID:10016523-1781978400-1781992800@kauaifestivals.com
SUMMARY:Lihue Hongwanji Mission Bon Dance
DESCRIPTION:Bon dance festivals in Hawaii are traditional Buddhist celebrations to honor our ancestors.  All are welcome to join the dancing to Japanese and Okinawan music accompanied by Taiko drummers around a Yagura.  At Lihue Hongwanji\, the Food Booth and Country Store open at 6PM and the dancing begins at 7:30PM.
URL:https://kauaifestivals.com/festival/lihue-hongwanji-mission-bon-dance/2026-06-20/
LOCATION:Lihue Hongwanji Buddhist Temple\, Across from Kapaia Stitchery
CATEGORIES:Featured Events,Island Happenings
ATTACH;FMTTYPE=image/jpeg:https://kauaifestivals.com/wp-content/uploads/2026/03/IMG_3054-scaled.jpg
ORGANIZER;CN="Lihue%20Hongwanji%20Buddhist%20Temple":MAILTO:lihuehongwanjimission@gmail.com
GEO:21.990491;-159.3665751
X-APPLE-STRUCTURED-LOCATION;VALUE=URI;X-ADDRESS=Lihue Hongwanji Buddhist Temple Across from Kapaia Stitchery;X-APPLE-RADIUS=500;X-TITLE=Across from Kapaia Stitchery:geo:-159.3665751,21.990491
END:VEVENT
END:VCALENDAR