BEGIN:VCALENDAR
VERSION:2.0
PRODID:-//Kaua‘i Festivals &amp; Events - ECPv6.0.12//NONSGML v1.0//EN
CALSCALE:GREGORIAN
METHOD:PUBLISH
X-WR-CALNAME:Kaua‘i Festivals &amp; Events
X-ORIGINAL-URL:https://kauaifestivals.com
X-WR-CALDESC:Events for Kaua‘i Festivals &amp; Events
REFRESH-INTERVAL;VALUE=DURATION:PT1H
X-Robots-Tag:noindex
X-PUBLISHED-TTL:PT1H
BEGIN:VTIMEZONE
TZID:Pacific/Honolulu
BEGIN:STANDARD
TZOFFSETFROM:-1000
TZOFFSETTO:-1000
TZNAME:HST
DTSTART:20250101T000000
END:STANDARD
END:VTIMEZONE
BEGIN:VEVENT
DTSTART;TZID=Pacific/Honolulu:20250920T080000
DTEND;TZID=Pacific/Honolulu:20250920T140000
DTSTAMP:20260420T133407
CREATED:20250113T232856Z
LAST-MODIFIED:20250722T212435Z
UID:10014927-1758355200-1758376800@kauaifestivals.com
SUMMARY:Kauai Island Crafters Fair
DESCRIPTION:🌺 Artisans & Crafters Fair hosted by Kauai Island Crafters Fair! 🌺 \nEmbark on a journey of creativity and culture at the Kauai Island Crafters Fair\, a celebrated event with a 15-year tradition of bringing together the best of Kauai’s local artisans and crafters.  Nestled in the heart of this breathtaking island\, our fair showcases the essence of Kauai’s craftsmanship\, offering a unique opportunity for both visitors and locals to connect with the vibrant artistic spirit of the community.  Step into a world where every item tells a story\, as skilled Kauai artisans proudly display their locally handmade treasures.  Immerse yourself in a shopping experience where each handcrafted product is a piece of Kauai’s soul\, inviting you to take home a special memento of your island vacation. \n✨ Event Highlights: \n\nShop Handmade: Explore a diverse selection of locally crafted items\, from jewelry to home décor\, art\, clothing\, sewn textiles\, and more.\nMeet the Makers: Get to know the talented artisans behind the creations and hear the stories that inspire their work.\nSupport Local: By attending\, you’re helping small Kauai businesses thrive and preserving the island’s rich cultural artistry.\n\n📍 Location: Indoors with convenient outdoor parking. \nBring your family and friends and immerse yourself in the warmth and creativity of Kauai’s local community. Don’t miss this opportunity to discover that perfect handmade treasure! \n📣 Interested vendors can reach out to kauaiislandcraftersfair@gmail.com.  Spread the word\, tag your friends\, and follow @kauaiislandcraftersfair – Let’s support Kauai’s local artisans together! \n#KauaiIslandCraftersFair #ShopLocalKauai #SupportSmallBusiness #HandmadeOnKauai #kauaicraftfair #kauaishopping #koloaneighborhoodcenter #kauaihandmadegifts #kauaisouvenirs #kauaivacation #kauaihawaii
URL:https://kauaifestivals.com/festival/kauai-island-crafters-fair-27/2025-09-20/
LOCATION:Koloa Neighborhood Center\, 3461B Weliweli Rd.\, Koloa\, 96756
CATEGORIES:Island Happenings
ATTACH;FMTTYPE=image/jpeg:https://kauaifestivals.com/wp-content/uploads/2025/01/Jocks-Fine-Photo-JGoodman-2024-2.jpg
ORGANIZER;CN="Debbie%20Yanagihara":MAILTO:kauaiislandcf@hotmail.com
GEO:21.9035095;-159.4639758
X-APPLE-STRUCTURED-LOCATION;VALUE=URI;X-ADDRESS=Koloa Neighborhood Center 3461B Weliweli Rd. Koloa 96756;X-APPLE-RADIUS=500;X-TITLE=3461B Weliweli Rd.:geo:-159.4639758,21.9035095
END:VEVENT
BEGIN:VEVENT
DTSTART;TZID=Pacific/Honolulu:20250920T173000
DTEND;TZID=Pacific/Honolulu:20250920T213000
DTSTAMP:20260420T133407
CREATED:20250830T020007Z
LAST-MODIFIED:20250830T020007Z
UID:10015460-1758389400-1758403800@kauaifestivals.com
SUMMARY:Kenny Endo: 2X25 Tour: Celebrating 50 Years in Taiko
DESCRIPTION:Kenny Endo: 2X25 Tour – Tickets Here\nCelebrating 50 Years in Taiko \nShow Date\nSaturday\, September 20th\, 2025 \nKenny Endo\nCelebrating 50 years in Taiko with the Golden 2×25 Tour in Fall 2025\, Kenny Endo stands at the vanguard of the taiko genre\, as one of the leading personas in contemporary percussion and rhythm in North America and in Japan. For 5 decades\, he has led the way in this Japanese style of drumming in the U.S.\, and will be touring with his Contemporary Ensemble. \nAs jazz percussionist and early innovator in Japanese taiko\, Kenny Endo embodies the history of taiko in the U.S. His adventurous spirit continues to stretch the taiko genre\, incorporating influences like funk\, jazz\, Afro-Cuban & Hawaiian\, with roots firmly grounded in tradition. His performances are nuanced\, brilliant\, exciting! \n“… the concert was absolutely amazing. Each performer was a master soloist in their own right\, and you all came together in a very special ensemble … all blended into a modern approach to percussion that I believe is unique in the world today.” –Chair\, Dept of Music\, Lafayette College \nEndo tours with his Contemporary Ensemble – taiko\, vibes\, drums\, ‘ukulele\, flute\, koto (or shamisen) performed by renowned performers from the U.S. and Japan. He has received numerous awards and accolades\, including special recognition in Japan—he was the first non-national to be honored with a “natori\,” a stage name\, in Japanese classical drumming. \n\n\n\nWhat’s included\n\nThis is GA seated show with different ticket tiered sections. If you have a Pavilion seat (VIP or General Admission)\, you will be able to pick a seat on a first come first serve basis. If you have a lawn ticket\, you are welcome to bring your own lawn chair or blanket. There is no re-entry so grab your stuff from the car before entering the venue. \nWe will have some covered raised tables available around the perimeter of the lawned area. \n\n\n\nItinerary\n\n5:30 PM Doors Open\n6:30 PM Music Programming Begins \n\n\n\nHighlights\n\nThis show is part of Anaina Hou Community Park’s “Concerts with a Cause” Series.
URL:https://kauaifestivals.com/festival/kenny-endo-2x25-tour-celebrating-50-years-in-taiko/
LOCATION:Anaina Hou Porter Pavilion\, 5-2723 Kuhio Highway\, Kilauea\, 96754
CATEGORIES:Island Happenings
ATTACH;FMTTYPE=image/png:https://kauaifestivals.com/wp-content/uploads/2025/08/Kenny-Endo-IG-Square.png
ORGANIZER;CN="Anaina%20Hou%20Community%20Park":MAILTO:community@anainahou.org
GEO:22.2109763;-159.4160471
X-APPLE-STRUCTURED-LOCATION;VALUE=URI;X-ADDRESS=Anaina Hou Porter Pavilion 5-2723 Kuhio Highway Kilauea 96754;X-APPLE-RADIUS=500;X-TITLE=5-2723 Kuhio Highway:geo:-159.4160471,22.2109763
END:VEVENT
END:VCALENDAR