BEGIN:VCALENDAR
VERSION:2.0
PRODID:-//Kaua‘i Festivals &amp; Events - ECPv6.0.12//NONSGML v1.0//EN
CALSCALE:GREGORIAN
METHOD:PUBLISH
X-ORIGINAL-URL:https://kauaifestivals.com
X-WR-CALDESC:Events for Kaua‘i Festivals &amp; Events
REFRESH-INTERVAL;VALUE=DURATION:PT1H
X-Robots-Tag:noindex
X-PUBLISHED-TTL:PT1H
BEGIN:VTIMEZONE
TZID:Pacific/Honolulu
BEGIN:STANDARD
TZOFFSETFROM:-1000
TZOFFSETTO:-1000
TZNAME:HST
DTSTART:20250101T000000
END:STANDARD
END:VTIMEZONE
BEGIN:VEVENT
DTSTART;TZID=Pacific/Honolulu:20250815T100000
DTEND;TZID=Pacific/Honolulu:20250823T170000
DTSTAMP:20260420T151015
CREATED:20250318T171609Z
LAST-MODIFIED:20250318T171609Z
UID:10015050-1755252000-1755968400@kauaifestivals.com
SUMMARY:Garden Isle Quilters Exhibit & Sale 2025
DESCRIPTION:Garden Isle Quilters Quilt Exhibit & Sale August 15-23\, 2025 \nat the KSA Gallery in Kukui Grove Center\, Lihue\, Kaua’i       FREE ADMISSION \nOpen Daily from 10AM to 5PM  (On Friday Aug.15 from 10AM to 7PM- Artist Reception 5-7PM \nThere will be a diverse display from everyday to fine art quilts for purchase.  Ready to carry away \nCredit Cards accepted &  Shipping is available. \nThe Garden Isle Quilters is a non-profit group of five women who get together to show and sell their quilts & hand works and also to raise money for Kaua’i organizations that give back to our community.  This year we are focusing on The Mokihana Club which supports our local  college Nursing Programs by awarding Scholarships to students. And\, we are also focusing on the Hawaii Children’s Theatre (HCT) to award Scholarships to their summer program for children which puts on amazing plays each summer.  Two great local Non-Profits. \nThe Garden Isle Quilters are:  m.Lea Ingram\, Toni Wass\, Lesley Morris\, Linda Mathews & Lucinda Tardiff \nLook for us on Facebook or Instagram:  GardenIsleQuilters   Website:GardenIsleQuilters.com \n 
URL:https://kauaifestivals.com/festival/garden-isle-quilters-exhibit-sale-2025/
LOCATION:KSA Gallery\, Kukui Grove Shopping Center\, 3-2600 Kaumualii Hwy.\, Lihue\, 96766
CATEGORIES:Island Happenings
ATTACH;FMTTYPE=image/jpeg:https://kauaifestivals.com/wp-content/uploads/2025/03/GIQ-2024-Group-Photo.jpeg
ORGANIZER;CN="Garden%20Isle%20Quilters":MAILTO:leaingram.artist@gmail.com
GEO:21.969756;-159.3786872
X-APPLE-STRUCTURED-LOCATION;VALUE=URI;X-ADDRESS=KSA Gallery Kukui Grove Shopping Center 3-2600 Kaumualii Hwy. Lihue 96766;X-APPLE-RADIUS=500;X-TITLE=3-2600 Kaumualii Hwy.:geo:-159.3786872,21.969756
END:VEVENT
BEGIN:VEVENT
DTSTART;TZID=Pacific/Honolulu:20250816T080000
DTEND;TZID=Pacific/Honolulu:20250816T140000
DTSTAMP:20260420T151015
CREATED:20250731T180049Z
LAST-MODIFIED:20250731T180049Z
UID:10015432-1755331200-1755352800@kauaifestivals.com
SUMMARY:Kauai Island Crafters Fair
DESCRIPTION:🌺 Artisans & Crafters Fair hosted by Kauai Island Crafters Fair! 🌺 \nEmbark on a journey of creativity and culture at the Kauai Island Crafters Fair\, a celebrated event with a 15-year tradition of bringing together the best of Kauai’s local artisans and crafters.  Nestled in the heart of this breathtaking island\, our fair showcases the essence of Kauai’s craftsmanship\, offering a unique opportunity for both visitors and locals to connect with the vibrant artistic spirit of the community.  Step into a world where every item tells a story\, as skilled Kauai artisans proudly display their locally handmade treasures.  Immerse yourself in a shopping experience where each handcrafted product is a piece of Kauai’s soul\, inviting you to take home a special memento of your island vacation. \n✨ Event Highlights: \n\nShop Handmade: Explore a diverse selection of locally crafted items\, from jewelry to home décor\, art\, clothing\, sewn textiles\, and more.\nMeet the Makers: Get to know the talented artisans behind the creations and hear the stories that inspire their work.\nSupport Local: By attending\, you’re helping small Kauai businesses thrive and preserving the island’s rich cultural artistry.\n\n📍 Location: Indoors with convenient outdoor parking. \nBring your family and friends and immerse yourself in the warmth and creativity of Kauai’s local community. Don’t miss this opportunity to discover that perfect handmade treasure! \n📣 Interested vendors can reach out to kauaiislandcraftersfair@gmail.com.  Spread the word\, tag your friends\, and follow @kauaiislandcraftersfair – Let’s support Kauai’s local artisans together! \n#KauaiIslandCraftersFair #ShopLocalKauai #SupportSmallBusiness #HandmadeOnKauai #kauaicraftfair #kauaishopping #koloaneighborhoodcenter #kauaihandmadegifts #kauaisouvenirs #kauaivacation #kauaihawaii
URL:https://kauaifestivals.com/festival/kauai-island-crafters-fair/
LOCATION:Koloa Neighborhood Center\, 3461B Weliweli Rd.\, Koloa\, 96756
CATEGORIES:Island Happenings
ATTACH;FMTTYPE=image/jpeg:https://kauaifestivals.com/wp-content/uploads/2025/07/Key-Fobs-and-Hand-Towel--rotated.jpg
ORGANIZER;CN="Debbie%20Yanagihara":MAILTO:kauaiislandcf@hotmail.com
GEO:21.9035095;-159.4639758
X-APPLE-STRUCTURED-LOCATION;VALUE=URI;X-ADDRESS=Koloa Neighborhood Center 3461B Weliweli Rd. Koloa 96756;X-APPLE-RADIUS=500;X-TITLE=3461B Weliweli Rd.:geo:-159.4639758,21.9035095
END:VEVENT
BEGIN:VEVENT
DTSTART;TZID=Pacific/Honolulu:20250816T160000
DTEND;TZID=Pacific/Honolulu:20250816T210000
DTSTAMP:20260420T151015
CREATED:20250402T201733Z
LAST-MODIFIED:20250402T201733Z
UID:10015066-1755360000-1755378000@kauaifestivals.com
SUMMARY:Relay For Life of Kaua'i
DESCRIPTION:Relay For Life of Kaua’i is a community event organized by American Cancer Society volunteers.   More than just a walk\, the American Cancer Society Relay For Life brings together passionate supporters who embody the American Cancer Society’s vision to end cancer as we know it\, for everyone. This volunteer-led experience unites communities to celebrate cancer survivors\, remember loved ones lost to cancer\, and raise funds to improve the lives of people with cancer and their families through advocacy\, research\, and patient support\, to ensure everyone has an opportunity to prevent\, detect\, treat\, and survive cancer. \nFunds raised support numerous programs at the American Cancer Society- Research\, Free Rides to treatment\, free lodging during treatment\, Free smoking cessation support\, breast cancer support\, a 24/7 manned 1-800 numbers to assist people with any questions or support they may need\, cancer support programs for survivors and caregivers. \nMore information can be found at www.relayforlife.org/kauaihi \n 
URL:https://kauaifestivals.com/festival/relay-for-life-of-kauai/
LOCATION:Vidinha Soccer Field\, Hoʻolako St next to the Stadium\, Līhuʻe\, 96766
CATEGORIES:Featured Events,Island Happenings
ATTACH;FMTTYPE=image/jpeg:https://kauaifestivals.com/wp-content/uploads/2025/04/update-survivor.jpg
GEO:21.9707106;-159.3586771
X-APPLE-STRUCTURED-LOCATION;VALUE=URI;X-ADDRESS=Vidinha Soccer Field Hoʻolako St next to the Stadium Līhuʻe 96766;X-APPLE-RADIUS=500;X-TITLE=Hoʻolako St next to the Stadium:geo:-159.3586771,21.9707106
END:VEVENT
BEGIN:VEVENT
DTSTART;TZID=Pacific/Honolulu:20250816T173000
DTEND;TZID=Pacific/Honolulu:20250816T210000
DTSTAMP:20260420T151015
CREATED:20250704T020302Z
LAST-MODIFIED:20250704T020302Z
UID:10015396-1755365400-1755378000@kauaifestivals.com
SUMMARY:Ron Artis II With Special Guest Shane Hall
DESCRIPTION:Ron Artis II – Tickets Here\nwith special guest Shane Hall \nShow Date\nSaturday\, August 16\, 2025 \nRon Artis II\nHailing from Haleiwa\, Hawaii\, this award-winning artist brings a unique soulful-honest-songwriting style to the stage. Performing all original music and energizing audiences all across the globe. You’ll be sure to leave the experience feeling loved\, electrified and pondering the lyrics. \nThis tour is about being a reminder\, that everyone is MADE OF LOVE. \nIf we all remembered that\, the world would forever be changed. This tour will feature music from our latest album: ‘We Are Not Machines’ \nRon will perform as a power trio\, with Jarod Manis on Drums and Ernie Ecraela on Bass. \nHonored by the Songwriters hall of Fame (Recipient of the Bill Withers Award) \n“An Amazing Voice” – Jack Johnson \n“Ron Artis II\, brings the Truth” – Pique Magazine \n\n\n\nWhat’s included\n\nThis is GA standing room show. We will have some seating sections set up throughout the venue available on a first come first serve basis. \nWe will have some covered raised tables available around the perimeter of the lawned area. \n\n\n\nItinerary\n\n5:30 PM Doors Open\n6:30 PM Shane Hall\n7:30 PM Ron Artis II \n\n\n\nHighlights\n\nThis show is part of Anaina Hou Community Park’s “Concerts with a Cause” Series.
URL:https://kauaifestivals.com/festival/ron-artis-ii-with-special-guest-shane-hall/
LOCATION:Anaina Hou Porter Pavilion\, 5-2723 Kuhio Highway\, Kilauea\, 96754
CATEGORIES:Island Happenings
ATTACH;FMTTYPE=image/png:https://kauaifestivals.com/wp-content/uploads/2025/07/Screenshot-2025-07-03-at-10.06.49 AM-2.png
ORGANIZER;CN="Anaina%20Hou%20Community%20Park":MAILTO:community@anainahou.org
GEO:22.2109763;-159.4160471
X-APPLE-STRUCTURED-LOCATION;VALUE=URI;X-ADDRESS=Anaina Hou Porter Pavilion 5-2723 Kuhio Highway Kilauea 96754;X-APPLE-RADIUS=500;X-TITLE=5-2723 Kuhio Highway:geo:-159.4160471,22.2109763
END:VEVENT
END:VCALENDAR