BEGIN:VCALENDAR
VERSION:2.0
PRODID:-//Kaua‘i Festivals &amp; Events - ECPv6.0.12//NONSGML v1.0//EN
CALSCALE:GREGORIAN
METHOD:PUBLISH
X-WR-CALNAME:Kaua‘i Festivals &amp; Events
X-ORIGINAL-URL:https://kauaifestivals.com
X-WR-CALDESC:Events for Kaua‘i Festivals &amp; Events
REFRESH-INTERVAL;VALUE=DURATION:PT1H
X-Robots-Tag:noindex
X-PUBLISHED-TTL:PT1H
BEGIN:VTIMEZONE
TZID:Pacific/Honolulu
BEGIN:STANDARD
TZOFFSETFROM:-1000
TZOFFSETTO:-1000
TZNAME:HST
DTSTART:20250101T000000
END:STANDARD
END:VTIMEZONE
BEGIN:VEVENT
DTSTART;TZID=Pacific/Honolulu:20250719T080000
DTEND;TZID=Pacific/Honolulu:20250719T140000
DTSTAMP:20260420T163154
CREATED:20250113T232856Z
LAST-MODIFIED:20250722T212435Z
UID:10014924-1752912000-1752933600@kauaifestivals.com
SUMMARY:Kauai Island Crafters Fair
DESCRIPTION:🌺 Artisans & Crafters Fair hosted by Kauai Island Crafters Fair! 🌺 \nEmbark on a journey of creativity and culture at the Kauai Island Crafters Fair\, a celebrated event with a 15-year tradition of bringing together the best of Kauai’s local artisans and crafters.  Nestled in the heart of this breathtaking island\, our fair showcases the essence of Kauai’s craftsmanship\, offering a unique opportunity for both visitors and locals to connect with the vibrant artistic spirit of the community.  Step into a world where every item tells a story\, as skilled Kauai artisans proudly display their locally handmade treasures.  Immerse yourself in a shopping experience where each handcrafted product is a piece of Kauai’s soul\, inviting you to take home a special memento of your island vacation. \n✨ Event Highlights: \n\nShop Handmade: Explore a diverse selection of locally crafted items\, from jewelry to home décor\, art\, clothing\, sewn textiles\, and more.\nMeet the Makers: Get to know the talented artisans behind the creations and hear the stories that inspire their work.\nSupport Local: By attending\, you’re helping small Kauai businesses thrive and preserving the island’s rich cultural artistry.\n\n📍 Location: Indoors with convenient outdoor parking. \nBring your family and friends and immerse yourself in the warmth and creativity of Kauai’s local community. Don’t miss this opportunity to discover that perfect handmade treasure! \n📣 Interested vendors can reach out to kauaiislandcraftersfair@gmail.com.  Spread the word\, tag your friends\, and follow @kauaiislandcraftersfair – Let’s support Kauai’s local artisans together! \n#KauaiIslandCraftersFair #ShopLocalKauai #SupportSmallBusiness #HandmadeOnKauai #kauaicraftfair #kauaishopping #koloaneighborhoodcenter #kauaihandmadegifts #kauaisouvenirs #kauaivacation #kauaihawaii
URL:https://kauaifestivals.com/festival/kauai-island-crafters-fair-27/2025-07-19/
LOCATION:Koloa Neighborhood Center\, 3461B Weliweli Rd.\, Koloa\, 96756
CATEGORIES:Island Happenings
ATTACH;FMTTYPE=image/jpeg:https://kauaifestivals.com/wp-content/uploads/2025/01/Jocks-Fine-Photo-JGoodman-2024-2.jpg
ORGANIZER;CN="Debbie%20Yanagihara":MAILTO:kauaiislandcf@hotmail.com
GEO:21.9035095;-159.4639758
X-APPLE-STRUCTURED-LOCATION;VALUE=URI;X-ADDRESS=Koloa Neighborhood Center 3461B Weliweli Rd. Koloa 96756;X-APPLE-RADIUS=500;X-TITLE=3461B Weliweli Rd.:geo:-159.4639758,21.9035095
END:VEVENT
BEGIN:VEVENT
DTSTART;TZID=Pacific/Honolulu:20250719T100000
DTEND;TZID=Pacific/Honolulu:20250719T170000
DTSTAMP:20260420T163154
CREATED:20250704T020114Z
LAST-MODIFIED:20250704T020224Z
UID:10015395-1752919200-1752944400@kauaifestivals.com
SUMMARY:2nd Annual Anaina Hou Community Pā'ina
DESCRIPTION:2nd Annual Anaina Hou Community Pa’ina\nEvent Date\nJuly 19\, 2025 \nTiming\n10 AM – 5 PM \nTickets – Available Here!\nAll tickets subject to tax and fees\nSingle Tickets $20.00 \nWristbands are good for all day. You can come and go throughout the day! \nChildren under 3 years old free \nYes\, we are asking for $20 per person\, even adults. This is a fundraiser! We have plenty of activities for adults and your kids. \nActivities\nAtari Tempest Legacy\nFast & Furious Arcade\nGolden Axe Arcade\nMortal Combat\nNBA Jams\nMrs. Pacman\nStar Wars Pinball\nBucket Ball\nPutterball Golf\nCorn Hole\nGiant Jenga\nGiant Connect Four\nLadder Toss\nLawn Bowling\nMagic Shows\nLive Radio with KKCR\nBasket Weaving\nFace Painting\nWater Slides\nBounce Houses \nEvent Details\nIts an all day\, all ages party at Anaina Hou! Starting at 10 AM we will have water slides\, bounce houses\, arcade games\, lawn games and music! \nKKCR will be LIVE broadcasting from on site all day long. Come see Radio in action and who knows\, maybe you can end up on air. \nBeverage and food is available all day long from the Anaina Hou kitchen\, Sunset Lanai\, Ally’s Cocina\, or Silver Cloud eatery. \nAmazing volunteer and community members are providing face painting and basket weaving throughout the day. \nPark Rules\nNo outside food or beverage permitted in the venue. \nBeverage and Food Concessions will be available throughout the day. \nFood will be available for purchase on site. The Pavilion Kitchen is open with a full menu of hot meals and snacks. Vegan/ Vegetarian options will be available. \nThis is GA all day event. We will have some seating sections set up throughout the park available on a first come first serve basis. \nThis event is rain or shine. We will have some covered areas throughout the event. Watch the weather and bring what you need to be comfortable in the elements. \nPlease note that drinking alcohol on property outside of designated areas including in our parking lots is not permitted and will be grounds for immediate removal from property. This event is for our keiki\, please maintain a positive environment. Please kokua. \nThis event is rain or shine. Please plan accordingly. \nThere will be a light bag search upon entrance.
URL:https://kauaifestivals.com/festival/2nd-annual-anaina-hou-community-paina/
LOCATION:Anaina Hou Community Park\, 5-2723 Kuhio Hwy.\, Kilauea\, HI\, 96754\, United States
CATEGORIES:Island Happenings
ATTACH;FMTTYPE=image/png:https://kauaifestivals.com/wp-content/uploads/2025/07/Copy-of-2025-Business-Handout-Front-Side-1.png
ORGANIZER;CN="Anaina%20Hou%20Community%20Park":MAILTO:community@anainahou.org
GEO:22.2109807;-159.4160277
X-APPLE-STRUCTURED-LOCATION;VALUE=URI;X-ADDRESS=Anaina Hou Community Park 5-2723 Kuhio Hwy. Kilauea HI 96754 United States;X-APPLE-RADIUS=500;X-TITLE=5-2723 Kuhio Hwy.:geo:-159.4160277,22.2109807
END:VEVENT
END:VCALENDAR