BEGIN:VCALENDAR
VERSION:2.0
PRODID:-//Kaua‘i Festivals &amp; Events - ECPv6.0.12//NONSGML v1.0//EN
CALSCALE:GREGORIAN
METHOD:PUBLISH
X-ORIGINAL-URL:https://kauaifestivals.com
X-WR-CALDESC:Events for Kaua‘i Festivals &amp; Events
REFRESH-INTERVAL;VALUE=DURATION:PT1H
X-Robots-Tag:noindex
X-PUBLISHED-TTL:PT1H
BEGIN:VTIMEZONE
TZID:Pacific/Honolulu
BEGIN:STANDARD
TZOFFSETFROM:-1000
TZOFFSETTO:-1000
TZNAME:HST
DTSTART:20250101T000000
END:STANDARD
END:VTIMEZONE
BEGIN:VEVENT
DTSTART;TZID=Pacific/Honolulu:20250620T120000
DTEND;TZID=Pacific/Honolulu:20250702T163000
DTSTAMP:20260420T175202
CREATED:20250626T115713Z
LAST-MODIFIED:20250626T115713Z
UID:10015329-1750420800-1751473800@kauaifestivals.com
SUMMARY:Summer Adoption Special - Free dog and cat adoptions for locals!
DESCRIPTION:SUMMER ADOPTION SPECIAL\nFrom June 20 to July 2\, we’re waiving adoption fees for on-island residents — that means FREE cat and dog adoptions for locals!\nIf you’ve been thinking about adding a furry friend to your life\, now’s the perfect time to get your buddy for the summer (and beyond).\n– Walk-in adoption hours: 12:00–4:30 PM daily\, closed Thursdays.\n– Off-island adoptions are still $200–$300.\nLet’s find these pets the loving homes they deserve.\n\nVisit kauaihumane.org/adopting/ to learn more!
URL:https://kauaifestivals.com/festival/summer-adoption-special-free-dog-and-cat-adoptions-for-locals/
LOCATION:Kauai Humane Society\, Puhi\, HI\, United States
CATEGORIES:Island Happenings
ATTACH;FMTTYPE=image/png:https://kauaifestivals.com/wp-content/uploads/2025/06/adoption-special-instagram-Facebook-Post.png
ORGANIZER;CN="Kauai%20Humane%20Society":MAILTO:support@kauaihumane.org
GEO:21.9686111;-159.3994444
END:VEVENT
BEGIN:VEVENT
DTSTART;TZID=Pacific/Honolulu:20250628T080000
DTEND;TZID=Pacific/Honolulu:20250628T140000
DTSTAMP:20260420T175202
CREATED:20250113T232856Z
LAST-MODIFIED:20250722T212435Z
UID:10014922-1751097600-1751119200@kauaifestivals.com
SUMMARY:Kauai Island Crafters Fair
DESCRIPTION:🌺 Artisans & Crafters Fair hosted by Kauai Island Crafters Fair! 🌺 \nEmbark on a journey of creativity and culture at the Kauai Island Crafters Fair\, a celebrated event with a 15-year tradition of bringing together the best of Kauai’s local artisans and crafters.  Nestled in the heart of this breathtaking island\, our fair showcases the essence of Kauai’s craftsmanship\, offering a unique opportunity for both visitors and locals to connect with the vibrant artistic spirit of the community.  Step into a world where every item tells a story\, as skilled Kauai artisans proudly display their locally handmade treasures.  Immerse yourself in a shopping experience where each handcrafted product is a piece of Kauai’s soul\, inviting you to take home a special memento of your island vacation. \n✨ Event Highlights: \n\nShop Handmade: Explore a diverse selection of locally crafted items\, from jewelry to home décor\, art\, clothing\, sewn textiles\, and more.\nMeet the Makers: Get to know the talented artisans behind the creations and hear the stories that inspire their work.\nSupport Local: By attending\, you’re helping small Kauai businesses thrive and preserving the island’s rich cultural artistry.\n\n📍 Location: Indoors with convenient outdoor parking. \nBring your family and friends and immerse yourself in the warmth and creativity of Kauai’s local community. Don’t miss this opportunity to discover that perfect handmade treasure! \n📣 Interested vendors can reach out to kauaiislandcraftersfair@gmail.com.  Spread the word\, tag your friends\, and follow @kauaiislandcraftersfair – Let’s support Kauai’s local artisans together! \n#KauaiIslandCraftersFair #ShopLocalKauai #SupportSmallBusiness #HandmadeOnKauai #kauaicraftfair #kauaishopping #koloaneighborhoodcenter #kauaihandmadegifts #kauaisouvenirs #kauaivacation #kauaihawaii
URL:https://kauaifestivals.com/festival/kauai-island-crafters-fair-27/2025-06-28/
LOCATION:Koloa Neighborhood Center\, 3461B Weliweli Rd.\, Koloa\, 96756
CATEGORIES:Island Happenings
ATTACH;FMTTYPE=image/jpeg:https://kauaifestivals.com/wp-content/uploads/2025/01/Jocks-Fine-Photo-JGoodman-2024-2.jpg
ORGANIZER;CN="Debbie%20Yanagihara":MAILTO:kauaiislandcf@hotmail.com
GEO:21.9035095;-159.4639758
X-APPLE-STRUCTURED-LOCATION;VALUE=URI;X-ADDRESS=Koloa Neighborhood Center 3461B Weliweli Rd. Koloa 96756;X-APPLE-RADIUS=500;X-TITLE=3461B Weliweli Rd.:geo:-159.4639758,21.9035095
END:VEVENT
BEGIN:VEVENT
DTSTART;TZID=Pacific/Honolulu:20250628T173000
DTEND;TZID=Pacific/Honolulu:20250628T213000
DTSTAMP:20260420T175202
CREATED:20250516T021607Z
LAST-MODIFIED:20250516T021607Z
UID:10015297-1751131800-1751146200@kauaifestivals.com
SUMMARY:Pō & the 4Fathers w/ special guest Sashamon
DESCRIPTION:Pō & the 4Fathers\nThe Color of the ‘Aina Tour\nWith Special Guest Sashamon \nShow Date\nSaturday\, June 28th\, 2025 \nPō & the 4Fathers – TICKETS HERE\nA New Perspective\nPō & the 4Fathers is a unique musical experience that delivers a lyrical message that is powerful and clear with a modern Kanaka Maoli perspective. The band is deeply rooted in Hawaiian culture\, Polynesian rhythms\, and indigenous sounds\, as well as the music that has moved generations like reggae\, soul\, blues\, funk\, and hip hop. They write songs of joy\, hardship\, pain and triumph\, learned from shared experiences from the time of Pō to the present\, and into the future. \nThe New Sound\nThrough their connection with the Mana Maoli Collective the stars above Aotearoa aligned and a convergence of indigenous Hawaiian music like no other sprung up at the Pasifika Vibes Festival. Over a kanoa of ‘awa a musical bond was established. Many influences merged into a new sound\, songs were shared and written\, and a deep brotherhood was formed. Pō & the 4Fathers emerged creating a new style\, sound\, and impactful message that represents the forward movement of Maoli music. \n\n\n\nWhat’s included\n\nThis is GA standing room show. We will have some seating sections set up throughout the venue available on a first come first serve basis. \nWe will have some covered raised tables available around the perimeter of the lawned area. \n\n\n\nWhat’s not included\n\nBeverage Concessions both Alcoholic and Non Alcoholic will be available throughout the show. \nFood will be available for purchase on site. The Pavilion Kitchen is open with a full menu of hot meals and snacks. Vegan/ Vegetarian options will be available. \n\n\n\nItinerary\n\nShow Details\n5:30 PM: Doors Open\n6:30 PM: Sashamon\n7:30 PM: Po & The 4Fathers \nTimes subject to change. Any changes will be confirmed via email closer to the show date \n\n\n\nHighlights\n\nThis show is part of Anaina Hou Community Park’s “Concerts with a Cause” Series.
URL:https://kauaifestivals.com/festival/po-the-4fathers-w-special-guest-sashamon/
LOCATION:Anaina Hou Porter Pavilion\, 5-2723 Kuhio Highway\, Kilauea\, 96754
CATEGORIES:Island Happenings
ATTACH;FMTTYPE=image/png:https://kauaifestivals.com/wp-content/uploads/2025/05/p4f-v.3-Facebook-Post-2.png
ORGANIZER;CN="Anaina%20Hou%20Community%20Park":MAILTO:community@anainahou.org
GEO:22.2109763;-159.4160471
X-APPLE-STRUCTURED-LOCATION;VALUE=URI;X-ADDRESS=Anaina Hou Porter Pavilion 5-2723 Kuhio Highway Kilauea 96754;X-APPLE-RADIUS=500;X-TITLE=5-2723 Kuhio Highway:geo:-159.4160471,22.2109763
END:VEVENT
END:VCALENDAR