BEGIN:VCALENDAR
VERSION:2.0
PRODID:-//Kaua‘i Festivals &amp; Events - ECPv6.0.12//NONSGML v1.0//EN
CALSCALE:GREGORIAN
METHOD:PUBLISH
X-WR-CALNAME:Kaua‘i Festivals &amp; Events
X-ORIGINAL-URL:https://kauaifestivals.com
X-WR-CALDESC:Events for Kaua‘i Festivals &amp; Events
REFRESH-INTERVAL;VALUE=DURATION:PT1H
X-Robots-Tag:noindex
X-PUBLISHED-TTL:PT1H
BEGIN:VTIMEZONE
TZID:Pacific/Honolulu
BEGIN:STANDARD
TZOFFSETFROM:-1000
TZOFFSETTO:-1000
TZNAME:HST
DTSTART:20250101T000000
END:STANDARD
END:VTIMEZONE
BEGIN:VEVENT
DTSTART;TZID=Pacific/Honolulu:20250502T190000
DTEND;TZID=Pacific/Honolulu:20250502T203000
DTSTAMP:20260420T192010
CREATED:20250414T195618Z
LAST-MODIFIED:20250414T195618Z
UID:10015085-1746212400-1746217800@kauaifestivals.com
SUMMARY:KCC Wind Symphony and Kauaʻi Youth Honor Band Concert
DESCRIPTION:The KCC Wind Symphony and Kauaʻi Youth Honor Band Concert will share the stage on Friday May 2nd at the Kaua`i Performing Arts Center for a FREE Spring Concert under the direction of Maestra Sarah Tochiki.  Refreshments available in the lobby.  You may wish to bring a sweater as it may be cool in the lobby.
URL:https://kauaifestivals.com/festival/kcc-wind-symphony-and-kaua%ca%bbi-youth-honor-band-concert/
LOCATION:Kauai Community College  Performing Arts Center\, 3-1901 Kaumualii Hwy\, Lihue\, HI\, 96766\, United States
CATEGORIES:Island Happenings
ATTACH;FMTTYPE=image/jpeg:https://kauaifestivals.com/wp-content/uploads/2025/04/KCC-Wind-Symphony.jpg
ORGANIZER;CN="Gregory%20von%20Hausch":MAILTO:greg3512@hawaii.edu
GEO:21.9649666;-159.421386
X-APPLE-STRUCTURED-LOCATION;VALUE=URI;X-ADDRESS=Kauai Community College  Performing Arts Center 3-1901 Kaumualii Hwy Lihue HI 96766 United States;X-APPLE-RADIUS=500;X-TITLE=3-1901 Kaumualii Hwy:geo:-159.421386,21.9649666
END:VEVENT
BEGIN:VEVENT
DTSTART;TZID=Pacific/Honolulu:20250503T080000
DTEND;TZID=Pacific/Honolulu:20250503T140000
DTSTAMP:20260420T192010
CREATED:20250113T233037Z
LAST-MODIFIED:20250113T233037Z
UID:10014913-1746259200-1746280800@kauaifestivals.com
SUMMARY:Kauai Island Crafters Fair
DESCRIPTION:🌺 Artisans & Crafters Fair hosted by Kauai Island Crafters Fair! 🌺 \nEmbark on a journey of creativity and culture at the Kauai Island Crafters Fair\, a celebrated event with a 15-year tradition of bringing together the best of Kauai’s local artisans and crafters.  Nestled in the heart of this breathtaking island\, our fair showcases the essence of Kauai’s craftsmanship\, offering a unique opportunity for both visitors and locals to connect with the vibrant artistic spirit of the community.  Step into a world where every item tells a story\, as skilled Kauai artisans proudly display their locally handmade treasures.  Immerse yourself in a shopping experience where each handcrafted product is a piece of Kauai’s soul\, inviting you to take home a special memento of your island vacation. \n✨ Event Highlights: \n\nShop Handmade: Explore a diverse selection of locally crafted items\, from jewelry to home décor\, art\, clothing\, sewn textiles\, and more.\nMeet the Makers: Get to know the talented artisans behind the creations and hear the stories that inspire their work.\nSupport Local: By attending\, you’re helping small Kauai businesses thrive and preserving the island’s rich cultural artistry.\n\n📍 Location: Indoors with convenient outdoor parking. \nBring your family and friends and immerse yourself in the warmth and creativity of Kauai’s local community. Don’t miss this opportunity to discover that perfect handmade treasure! \n📣 Interested vendors can reach out to kauaiislandcraftersfair@gmail.com.  Spread the word\, tag your friends\, and follow @kauaiislandcraftersfair – Let’s support Kauai’s local artisans together! \n#KauaiIslandCraftersFair #ShopLocalKauai #SupportSmallBusiness #HandmadeOnKauai #kauaicraftfair #kauaishopping #koloaneighborhoodcenter #kauaihandmadegifts #kauaisouvenirs #kauaivacation #kauaihawaii
URL:https://kauaifestivals.com/festival/kauai-island-crafters-fair-30/2025-05-03/
LOCATION:Koloa Neighborhood Center\, 3461B Weliweli Rd.\, Koloa\, 96756
CATEGORIES:Island Happenings
ATTACH;FMTTYPE=image/jpeg:https://kauaifestivals.com/wp-content/uploads/2025/01/Cookies-DSRemata-2024.jpeg
ORGANIZER;CN="Debbie%20Yanagihara":MAILTO:kauaiislandcf@hotmail.com
GEO:21.9035095;-159.4639758
X-APPLE-STRUCTURED-LOCATION;VALUE=URI;X-ADDRESS=Koloa Neighborhood Center 3461B Weliweli Rd. Koloa 96756;X-APPLE-RADIUS=500;X-TITLE=3461B Weliweli Rd.:geo:-159.4639758,21.9035095
END:VEVENT
BEGIN:VEVENT
DTSTART;TZID=Pacific/Honolulu:20250503T110000
DTEND;TZID=Pacific/Honolulu:20250503T160000
DTSTAMP:20260420T192010
CREATED:20250421T202710Z
LAST-MODIFIED:20250421T202710Z
UID:10015094-1746270000-1746288000@kauaifestivals.com
SUMMARY:Waipā 'Āina Festival 2025
DESCRIPTION:Looking to connect with ʻāina\, culture\, and community? Waipā is hosting our second annual ʻĀina Festival on Saturday\, May 3rd\, from 11am to 4pm at Halulu Fishpond in Waipa\, located a half-mile past Hanalei Town. It’ll be a wonderful day of live music\, ‘ono food\, and cultural activities\, to celebrate everything ʻāina! It’ll also feature local artisans\, crafters\, hands-on keiki activities and a waterslide\, too. This is a fundraiser for Waipā Foundation and local entrepreneurs\, so gate fees ($10 general\, $1 keiki) and your purchases support our collective work! Visit WAIPAFOUNDATION.ORG or call (808) 826-9969 for more information. All are welcome — save the date!
URL:https://kauaifestivals.com/festival/waipa-aina-festival-2025/
LOCATION:Waipā Community Complex\, Hanalei\, 5-5785 Kuhio Highway\, Hanalei\, 96714
CATEGORIES:Featured Events,Island Happenings
ATTACH;FMTTYPE=image/jpeg:https://kauaifestivals.com/wp-content/uploads/2025/04/Kalo-Fest-16-scaled.jpg
ORGANIZER;CN="Waipa%20Foundation":MAILTO:waipaonline@gmail.com
GEO:22.2035869;-159.5134261
X-APPLE-STRUCTURED-LOCATION;VALUE=URI;X-ADDRESS=Waipā Community Complex Hanalei 5-5785 Kuhio Highway Hanalei 96714;X-APPLE-RADIUS=500;X-TITLE=5-5785 Kuhio Highway:geo:-159.5134261,22.2035869
END:VEVENT
BEGIN:VEVENT
DTSTART;TZID=Pacific/Honolulu:20250503T173000
DTEND;TZID=Pacific/Honolulu:20250503T210000
DTSTAMP:20260420T192010
CREATED:20250424T163917Z
LAST-MODIFIED:20250424T163917Z
UID:10015096-1746293400-1746306000@kauaifestivals.com
SUMMARY:Tres de Mayo Salsa Music Dance Party
DESCRIPTION:Tres de Mayo with Pico de Gallo\nSalsa Music Dance Party \nShow Date\nSaturday May 3\, 2025 \nPico de Gallo\nKauai’s premier Latin Dance Band specializing in Cumbia\, Salsa and really anything fun with tambales!! \nBelgica Heredia – Vocals\nDanny Perez – Bass\nCarlos Del Angel – Percussion\nMarty Rosales – Drums\nElias Gonzales – Keyboards\nAllan Bueno – Saxophone\nRojelio “El Güero”- Guitar \n\n\n\nWhat’s included\n\nThis is GA standing room show. We will have some seating sections set up throughout the venue available on a first come first serve basis. \nWe will have some covered raised tables available around the perimeter of the lawned area. \n\n\n\nWhat’s not included\n\nBeverage Concessions both Alcoholic and Non Alcoholic will be available throughout the show. \nFood will be available for purchase on site. The Pavilion Kitchen is open with a full menu of hot meals and snacks. Vegan/ Vegetarian options will be available. \n\n\n\nItinerary\n\nShow Details\n5:30 PM: Doors Open\n6:30 PM: Music \nTimes subject to change. Any changes will be confirmed via email closer to the show date
URL:https://kauaifestivals.com/festival/tres-de-mayo-salsa-music-dance-party/
LOCATION:Anaina Hou Porter Pavilion\, 5-2723 Kuhio Highway\, Kilauea\, 96754
CATEGORIES:Island Happenings
ATTACH;FMTTYPE=image/png:https://kauaifestivals.com/wp-content/uploads/2025/04/CINCO-DE-MAYO-copy.png
ORGANIZER;CN="Anaina%20Hou%20Community%20Park":MAILTO:community@anainahou.org
GEO:22.2109763;-159.4160471
X-APPLE-STRUCTURED-LOCATION;VALUE=URI;X-ADDRESS=Anaina Hou Porter Pavilion 5-2723 Kuhio Highway Kilauea 96754;X-APPLE-RADIUS=500;X-TITLE=5-2723 Kuhio Highway:geo:-159.4160471,22.2109763
END:VEVENT
BEGIN:VEVENT
DTSTART;TZID=Pacific/Honolulu:20250510T133000
DTEND;TZID=Pacific/Honolulu:20250510T153000
DTSTAMP:20260420T192010
CREATED:20250414T195758Z
LAST-MODIFIED:20250502T004317Z
UID:10015086-1746883800-1746891000@kauaifestivals.com
SUMMARY:CINDERELLA presented by Kaua`i Ballet Academy
DESCRIPTION:The world traveled Kaua’i Ballet Academy will present “First Dance” AND “Cinderella”\, two outstanding ballets in one great show. Henry Adams Curtis will open the show by serenading KBA dancers with his original piece\, “First Dance”.  After which\, a charming rendition of the classical fairy tale Cinderella will be performed in two acts. The family is sure to enjoy this enchanting production.
URL:https://kauaifestivals.com/festival/cinderella-presented-by-kauai-ballete-academy/2025-05-10/
LOCATION:Kauai Community College  Performing Arts Center\, 3-1901 Kaumualii Hwy\, Lihue\, HI\, 96766\, United States
CATEGORIES:Island Happenings
ATTACH;FMTTYPE=image/jpeg:https://kauaifestivals.com/wp-content/uploads/2025/04/Cinderella_fin-1.jpg
ORGANIZER;CN="Gregory%20von%20Hausch":MAILTO:greg3512@hawaii.edu
GEO:21.9649666;-159.421386
X-APPLE-STRUCTURED-LOCATION;VALUE=URI;X-ADDRESS=Kauai Community College  Performing Arts Center 3-1901 Kaumualii Hwy Lihue HI 96766 United States;X-APPLE-RADIUS=500;X-TITLE=3-1901 Kaumualii Hwy:geo:-159.421386,21.9649666
END:VEVENT
BEGIN:VEVENT
DTSTART;TZID=Pacific/Honolulu:20250510T183000
DTEND;TZID=Pacific/Honolulu:20250510T203000
DTSTAMP:20260420T192010
CREATED:20250414T195758Z
LAST-MODIFIED:20250502T004317Z
UID:10015113-1746901800-1746909000@kauaifestivals.com
SUMMARY:CINDERELLA presented by Kaua`i Ballet Academy
DESCRIPTION:The world traveled Kaua’i Ballet Academy will present “First Dance” AND “Cinderella”\, two outstanding ballets in one great show. Henry Adams Curtis will open the show by serenading KBA dancers with his original piece\, “First Dance”.  After which\, a charming rendition of the classical fairy tale Cinderella will be performed in two acts. The family is sure to enjoy this enchanting production.
URL:https://kauaifestivals.com/festival/cinderella-presented-by-kauai-ballete-academy/2025-05-10/
LOCATION:Kauai Community College  Performing Arts Center\, 3-1901 Kaumualii Hwy\, Lihue\, HI\, 96766\, United States
CATEGORIES:Island Happenings
ATTACH;FMTTYPE=image/jpeg:https://kauaifestivals.com/wp-content/uploads/2025/04/Cinderella_fin-1.jpg
ORGANIZER;CN="Gregory%20von%20Hausch":MAILTO:greg3512@hawaii.edu
GEO:21.9649666;-159.421386
X-APPLE-STRUCTURED-LOCATION;VALUE=URI;X-ADDRESS=Kauai Community College  Performing Arts Center 3-1901 Kaumualii Hwy Lihue HI 96766 United States;X-APPLE-RADIUS=500;X-TITLE=3-1901 Kaumualii Hwy:geo:-159.421386,21.9649666
END:VEVENT
BEGIN:VEVENT
DTSTART;TZID=Pacific/Honolulu:20250517T080000
DTEND;TZID=Pacific/Honolulu:20250517T140000
DTSTAMP:20260420T192010
CREATED:20250113T233037Z
LAST-MODIFIED:20250113T233037Z
UID:10014914-1747468800-1747490400@kauaifestivals.com
SUMMARY:Kauai Island Crafters Fair
DESCRIPTION:🌺 Artisans & Crafters Fair hosted by Kauai Island Crafters Fair! 🌺 \nEmbark on a journey of creativity and culture at the Kauai Island Crafters Fair\, a celebrated event with a 15-year tradition of bringing together the best of Kauai’s local artisans and crafters.  Nestled in the heart of this breathtaking island\, our fair showcases the essence of Kauai’s craftsmanship\, offering a unique opportunity for both visitors and locals to connect with the vibrant artistic spirit of the community.  Step into a world where every item tells a story\, as skilled Kauai artisans proudly display their locally handmade treasures.  Immerse yourself in a shopping experience where each handcrafted product is a piece of Kauai’s soul\, inviting you to take home a special memento of your island vacation. \n✨ Event Highlights: \n\nShop Handmade: Explore a diverse selection of locally crafted items\, from jewelry to home décor\, art\, clothing\, sewn textiles\, and more.\nMeet the Makers: Get to know the talented artisans behind the creations and hear the stories that inspire their work.\nSupport Local: By attending\, you’re helping small Kauai businesses thrive and preserving the island’s rich cultural artistry.\n\n📍 Location: Indoors with convenient outdoor parking. \nBring your family and friends and immerse yourself in the warmth and creativity of Kauai’s local community. Don’t miss this opportunity to discover that perfect handmade treasure! \n📣 Interested vendors can reach out to kauaiislandcraftersfair@gmail.com.  Spread the word\, tag your friends\, and follow @kauaiislandcraftersfair – Let’s support Kauai’s local artisans together! \n#KauaiIslandCraftersFair #ShopLocalKauai #SupportSmallBusiness #HandmadeOnKauai #kauaicraftfair #kauaishopping #koloaneighborhoodcenter #kauaihandmadegifts #kauaisouvenirs #kauaivacation #kauaihawaii
URL:https://kauaifestivals.com/festival/kauai-island-crafters-fair-30/2025-05-17/
LOCATION:Koloa Neighborhood Center\, 3461B Weliweli Rd.\, Koloa\, 96756
CATEGORIES:Island Happenings
ATTACH;FMTTYPE=image/jpeg:https://kauaifestivals.com/wp-content/uploads/2025/01/Cookies-DSRemata-2024.jpeg
ORGANIZER;CN="Debbie%20Yanagihara":MAILTO:kauaiislandcf@hotmail.com
GEO:21.9035095;-159.4639758
X-APPLE-STRUCTURED-LOCATION;VALUE=URI;X-ADDRESS=Koloa Neighborhood Center 3461B Weliweli Rd. Koloa 96756;X-APPLE-RADIUS=500;X-TITLE=3461B Weliweli Rd.:geo:-159.4639758,21.9035095
END:VEVENT
BEGIN:VEVENT
DTSTART;TZID=Pacific/Honolulu:20250517T173000
DTEND;TZID=Pacific/Honolulu:20250517T210000
DTSTAMP:20260420T192010
CREATED:20250502T203655Z
LAST-MODIFIED:20250502T203655Z
UID:10015100-1747503000-1747515600@kauaifestivals.com
SUMMARY:Kalani Pe’a with special guests Coppin Colburn Trio
DESCRIPTION:Kalani Pe’a\nwith special guests Coppin Colburn Trio \nShow Date\nSaturday May 17\, 2025 \nKalani Pe’a\nKalani Peʻa sings everything from classical\, musical\, ballads\, R&B\, soul to traditional and original Hawaiian music\, displaying his wide-ranging talents as a songwriter and music composer. His talent for lyrics and Hawaiian language fluency is on display in his original Hawaiian songs alongside his affectionate bilingual arrangements of R&B favorites. \nIt started at age four when Peʻa was diagnosed with a speech impediment — his mother introduced him to singing and music to help him pronounce his words. His father comes from a musical family and both parents encouraged him to take vocal lessons and choir –by age 8\, Peʻa was winning numerous talent competitions\, and went on to win in men’s classical and musical divisions while receiving his degree from Colorado Mesa Univ. \nHis debut album brought him to Dave Tucciarone\, a 13-time Nā Hōkū Hanohano Award-Winning Engineer and Producer in Honolulu\, leading to the 2017 Grammy® win and first Na Hoku Award. This successful collaboration continued with Kalani’s second CD\, No ‘Ane‘i [We Belong Here] and 3rd CD Kau Ka Pe‘a\, earning him Grammy Awards\, and featuring him in 2022 Grammy Opening Premiere Concert. Kau Ka Pe‘a also won him 2 Nā Hōkū awards\, including the honor of Male Vocalist of the Year. He now boasts a remarkable 4 for 4\, winning his 4th Grammy for his 4th release Kuini. \nThe first Hawaiian singer to be part of Lincoln Center’s American Songbook\, Kalani returned to New York in 2024\, for Carnegie Hall’s Musical Explorers program\, selling out eight shows for students as well as two family matinees. A fluent Hawaiian speaker\, Peʻa started his career as an educator\, publishing five Hawaiian language children’s stories. He taught at Kamehameha Schools in Kona and Maui\, teaching Hawaiian culture (science focus)\, and creating curriculum. In 2021\, his song E Na Kini was featured on the Netflix release Finding ‘Ohana and he was also selected as a featured artist for Spotify and Amazon Music campaigns during AAPI (Asian-American Pacific Islander) month\, gracing billboards on over 120 transit shelters in New York and San Francisco. Following his first Grammy win\, he was honored by the Hawai‘i State House of Representatives with an official proclamation: “It is vital that Native Hawaiian culture and the arts be perpetuated for future generations: Kalani Pe’a is a torchbearer and we recognize his accolades\, accomplishments\, and continued work on behalf of Native Hawaiians.” \nSelf-described as “Hawaiian contemporary soul”\, Kalani’s dynamic and charming stage presence\, vocal brilliance\, and range of songs from Hawaiian to R&B has brought him to the forefront of Hawaiian music for both traditionalists and a new generation. Adding a Christmas show to his repertoire\, Kalani Pe‘a’s Hawaiian Christmas is a celebration of the warmth and special “aloha” of the Holiday Season\, sharing much-loved songs from both western and Hawaiian roots. \nConcerts with a Cause\nAnaina Hou Community Park is excited to continue our Concerts with a Cause Mission Driven Music offerings with Kalani Pe’ar! This concert is shining light on Project Vision Hawai’i. $2 from every ticket purchased to the show will go back to supporting their amazing work. For more information or to make a direct donation to Project Vision please visit ProjectVisionHawaii.Org. \n\n\n\nWhat’s included\n\nThis is a tiered ticketing level show. \nVIP Super Loft includes 6 tickets and access to our raised loft seating area. Seating for this section includes a couch and padded chairs as well as convenient tables for concessions and drinks during the show. This section is located conveniently towards the rear of the pavilion with easy entrance and exit as well as excellent site lines to the stage. \nPavilion Seating includes access to our padded theater chairs on a first come first serve basis. Fully weather protected for a comfortable show experience. All patrons\, regardless of age require a ticket to sit in this section. \nLawn Seating is BYOC (Bring your own chair or blanket). We have some scattered raised seating around the perimeter of the lawn available on a first come first serve basis. Lawn chairs strongly recommended for this ticket tier. \nShow Details and Venue Rules\nThis show is all ages. \nPatrons under 18 years old must be accompanied by an adult. All patrons\, regardless of age require a ticket for Pavilion or VIP tickets. \nChildren 5 and under free on lawn ONLY. \nNo outside food or beverage permitted in the venue. Empty bottes to fill with water are encouraged but must be empty upon arrival. No Glass. \nBeverage Concessions both Alcoholic and Non Alcoholic will be available throughout the show. \nFood will be available for purchase on site. The Pavilion Kitchen is open with a full menu of hot meals and snacks. Vegan/ Vegetarian options will be available. \nWe will have some covered raised tables available around the perimeter of the lawned area. \nGonna need seating?? Bring your own! We encourage you to bring your own folding chairs for the lawn. Please note\, folding chairs are not allowed to be set up inside the pavilion. \nDrinking alcohol on property outside of designated areas including in our parking lots is not permitted and will be grounds for immediate removal from property. Please kokua. \nThis event is rain or shine. Please plan accordingly. \nThere will be a light bag search upon entrance. \nShirt and Shoes required for entrance. \nNo Re-Entry \n\n\n\nWhat’s not included\n\nBeverage Concessions both Alcoholic and Non Alcoholic will be available throughout the show. \nFood will be available for purchase on site. The Pavilion Kitchen is open with a full menu of hot meals and snacks. Vegan/ Vegetarian options will be available. \n\n\n\nItinerary\n\nShow Details\n5:30 PM: Doors Open\n6:30 PM: Coppin Colburne Trio\n7:30 PM: Kalani Pe’a \nTimes subject to change. Any changes will be confirmed via email closer to the show date \n\n\n\nHighlights\n\nThis show is part of Anaina Hou Community Park’s “Concerts with a Cause” Series. This installment is raising funds and awareness for Project Vision Hawai’i. Project Vision Hawai‘i has the only mobile health screening programs in Hawai‘i that provide statewide services in communities with significant access-to-care challenges related to income\, lack of insurance\, geographical location\, or cultural conflict.
URL:https://kauaifestivals.com/festival/kalani-pea-with-special-guests-coppin-colburn-trio/
LOCATION:Anaina Hou Porter Pavilion\, 5-2723 Kuhio Highway\, Kilauea\, 96754
CATEGORIES:Island Happenings
ATTACH;FMTTYPE=image/png:https://kauaifestivals.com/wp-content/uploads/2025/05/kalani.png
ORGANIZER;CN="Anaina%20Hou%20Community%20Park":MAILTO:community@anainahou.org
GEO:22.2109763;-159.4160471
X-APPLE-STRUCTURED-LOCATION;VALUE=URI;X-ADDRESS=Anaina Hou Porter Pavilion 5-2723 Kuhio Highway Kilauea 96754;X-APPLE-RADIUS=500;X-TITLE=5-2723 Kuhio Highway:geo:-159.4160471,22.2109763
END:VEVENT
BEGIN:VEVENT
DTSTART;TZID=Pacific/Honolulu:20250517T180000
DTEND;TZID=Pacific/Honolulu:20250517T193000
DTSTAMP:20260420T192010
CREATED:20250508T165153Z
LAST-MODIFIED:20250508T165153Z
UID:10015284-1747504800-1747510200@kauaifestivals.com
SUMMARY:KAUAI CHORALE presents "A Dream Once Sung"
DESCRIPTION:Come listen to an evening of music presented by the Kauai Chorale.  This season’s theme is “A Dream Once Sung.”  The program includes a variety of songs–from popular tunes to art pieces based on the poetry of Edgar Allan Poe. Explore the power of imagination\, hope\, and longing through a stunning selection of choral works that span genres and emotions. \nLeading the chorale is Joe Moore\, Artistic Director\, with accompanist Ben Nause. \nTickets are available online at www.kauaichorale.org\, from Chorale members\, or at the door.  The charge for adults is $20.  As always\, students are welcome to attend without charge. \n 
URL:https://kauaifestivals.com/festival/kauai-chorale-presents-a-dream-once-sung/
LOCATION:Kauai Community College  Performing Arts Center\, 3-1901 Kaumualii Hwy\, Lihue\, HI\, 96766\, United States
CATEGORIES:Island Happenings
ATTACH;FMTTYPE=image/png:https://kauaifestivals.com/wp-content/uploads/2025/05/flyer-5.5.25.png
ORGANIZER;CN="Kauai%20Chorale":MAILTO:tessa@fablefoxmarketing.com
GEO:21.9649666;-159.421386
X-APPLE-STRUCTURED-LOCATION;VALUE=URI;X-ADDRESS=Kauai Community College  Performing Arts Center 3-1901 Kaumualii Hwy Lihue HI 96766 United States;X-APPLE-RADIUS=500;X-TITLE=3-1901 Kaumualii Hwy:geo:-159.421386,21.9649666
END:VEVENT
BEGIN:VEVENT
DTSTART;TZID=Pacific/Honolulu:20250518T140000
DTEND;TZID=Pacific/Honolulu:20250518T153000
DTSTAMP:20260420T192010
CREATED:20250508T165216Z
LAST-MODIFIED:20250508T165216Z
UID:10015285-1747576800-1747582200@kauaifestivals.com
SUMMARY:KAUAI CHORALE presents "A Dream Once Sung" matinee
DESCRIPTION:Come listen to an afternoon matinee of music presented by the Kauai Chorale.  This season’s theme is “A Dream Once Sung.”  The program includes a variety of songs–from popular tunes to art pieces based on the poetry of Edgar Allan Poe. Explore the power of imagination\, hope\, and longing through a stunning selection of choral works that span genres and emotions. \nLeading the chorale is Joe Moore\, Artistic Director\, with accompanist Ben Nause. \nTickets are available online at www.kauaichorale.org\, from Chorale members\, or at the door.  The charge for adults is $20.  As always\, students are welcome to attend without charge.
URL:https://kauaifestivals.com/festival/kauai-chorale-presents-a-dream-once-sung-matinee/
LOCATION:Kauai Community College  Performing Arts Center\, 3-1901 Kaumualii Hwy\, Lihue\, HI\, 96766\, United States
CATEGORIES:Island Happenings
ATTACH;FMTTYPE=image/png:https://kauaifestivals.com/wp-content/uploads/2025/05/flyer-5.5.25-1.png
ORGANIZER;CN="Kauai%20Chorale":MAILTO:tessa@fablefoxmarketing.com
GEO:21.9649666;-159.421386
X-APPLE-STRUCTURED-LOCATION;VALUE=URI;X-ADDRESS=Kauai Community College  Performing Arts Center 3-1901 Kaumualii Hwy Lihue HI 96766 United States;X-APPLE-RADIUS=500;X-TITLE=3-1901 Kaumualii Hwy:geo:-159.421386,21.9649666
END:VEVENT
BEGIN:VEVENT
DTSTART;TZID=Pacific/Honolulu:20250524T080000
DTEND;TZID=Pacific/Honolulu:20250524T140000
DTSTAMP:20260420T192010
CREATED:20250113T233023Z
LAST-MODIFIED:20250113T233023Z
UID:10014917-1748073600-1748095200@kauaifestivals.com
SUMMARY:Kauai Island Crafters Fair
DESCRIPTION:🌺 Artisans & Crafters Fair hosted by Kauai Island Crafters Fair! 🌺 \nEmbark on a journey of creativity and culture at the Kauai Island Crafters Fair\, a celebrated event with a 15-year tradition of bringing together the best of Kauai’s local artisans and crafters.  Nestled in the heart of this breathtaking island\, our fair showcases the essence of Kauai’s craftsmanship\, offering a unique opportunity for both visitors and locals to connect with the vibrant artistic spirit of the community.  Step into a world where every item tells a story\, as skilled Kauai artisans proudly display their locally handmade treasures.  Immerse yourself in a shopping experience where each handcrafted product is a piece of Kauai’s soul\, inviting you to take home a special memento of your island vacation. \n✨ Event Highlights: \n\nShop Handmade: Explore a diverse selection of locally crafted items\, from jewelry to home décor\, art\, clothing\, sewn textiles\, and more.\nMeet the Makers: Get to know the talented artisans behind the creations and hear the stories that inspire their work.\nSupport Local: By attending\, you’re helping small Kauai businesses thrive and preserving the island’s rich cultural artistry.\n\n📍 Location: Indoors with convenient outdoor parking. \nBring your family and friends and immerse yourself in the warmth and creativity of Kauai’s local community. Don’t miss this opportunity to discover that perfect handmade treasure! \n📣 Interested vendors can reach out to kauaiislandcraftersfair@gmail.com.  Spread the word\, tag your friends\, and follow @kauaiislandcraftersfair – Let’s support Kauai’s local artisans together! \n#KauaiIslandCraftersFair #ShopLocalKauai #SupportSmallBusiness #HandmadeOnKauai #kauaicraftfair #kauaishopping #koloaneighborhoodcenter #kauaihandmadegifts #kauaisouvenirs #kauaivacation #kauaihawaii
URL:https://kauaifestivals.com/festival/kauai-island-crafters-fair-29/2025-05-24/
LOCATION:Kauai Veterans Center\, 3215 Kapule Hwy\, Lihue\, HI\, 96766\, United States
CATEGORIES:Island Happenings
ATTACH;FMTTYPE=image/jpeg:https://kauaifestivals.com/wp-content/uploads/2025/01/Rainbow-Wave-JClabo-2024.jpg
ORGANIZER;CN="Debbie%20Yanagihara":MAILTO:kauaiislandcf@hotmail.com
GEO:21.9748624;-159.3537295
X-APPLE-STRUCTURED-LOCATION;VALUE=URI;X-ADDRESS=Kauai Veterans Center 3215 Kapule Hwy Lihue HI 96766 United States;X-APPLE-RADIUS=500;X-TITLE=3215 Kapule Hwy:geo:-159.3537295,21.9748624
END:VEVENT
BEGIN:VEVENT
DTSTART;TZID=Pacific/Honolulu:20250524T090000
DTEND;TZID=Pacific/Honolulu:20250524T150000
DTSTAMP:20260420T192010
CREATED:20250512T224758Z
LAST-MODIFIED:20250512T224758Z
UID:10015295-1748077200-1748098800@kauaifestivals.com
SUMMARY:Kūlia I Kā Nuʻu Hawaiian Health Fair Kauai
DESCRIPTION:Join us for a FREE event on Saturday\, May 24\, 2025\, at the Kauai Museum for the Kūlia I Kā Nuʻu Hawaiian Health Fair Kauai. Celebrating Women’s Health and Hawaiian Music. In collaboration with Hawaiian Music Perpetuation Society\, State Department of Health\, Kauai Museum\, and KekkuaAloha Foundation. This event features Free live entertainment\, Local professional speakers on health and history\, Free plant give aways and resources.  Free basic haircuts from 9am – 12noon\, free sewing demo\, free lei making\, and free Coconut weaving for the whole family from 9am – 10am. \nFor more information contact education@kauaimuseum.org
URL:https://kauaifestivals.com/festival/kulia-i-ka-nu%ca%bbu-hawaiian-health-fair-kauai/
LOCATION:Kauai Museum\, 4428 Rice St\, Lihue\, HI\, 96766\, United States
CATEGORIES:Island Happenings
ATTACH;FMTTYPE=image/jpeg:https://kauaifestivals.com/wp-content/uploads/2025/05/kulia-i-ka-nuu-banner-scaled.jpg
GEO:21.9750739;-159.3682559
X-APPLE-STRUCTURED-LOCATION;VALUE=URI;X-ADDRESS=Kauai Museum 4428 Rice St Lihue HI 96766 United States;X-APPLE-RADIUS=500;X-TITLE=4428 Rice St:geo:-159.3682559,21.9750739
END:VEVENT
END:VCALENDAR