BEGIN:VCALENDAR
VERSION:2.0
PRODID:-//Kaua‘i Festivals &amp; Events - ECPv6.0.12//NONSGML v1.0//EN
CALSCALE:GREGORIAN
METHOD:PUBLISH
X-WR-CALNAME:Kaua‘i Festivals &amp; Events
X-ORIGINAL-URL:https://kauaifestivals.com
X-WR-CALDESC:Events for Kaua‘i Festivals &amp; Events
REFRESH-INTERVAL;VALUE=DURATION:PT1H
X-Robots-Tag:noindex
X-PUBLISHED-TTL:PT1H
BEGIN:VTIMEZONE
TZID:Pacific/Honolulu
BEGIN:STANDARD
TZOFFSETFROM:-1000
TZOFFSETTO:-1000
TZNAME:HST
DTSTART:20250101T000000
END:STANDARD
END:VTIMEZONE
BEGIN:VEVENT
DTSTART;TZID=Pacific/Honolulu:20251207T100000
DTEND;TZID=Pacific/Honolulu:20251207T140000
DTSTAMP:20260424T082530
CREATED:20251204T003142Z
LAST-MODIFIED:20251204T003142Z
UID:10015892-1765101600-1765116000@kauaifestivals.com
SUMMARY:HOLIDAY CRAFT FAIR by HO’OHIWAHIWAFAIR
DESCRIPTION:AMAZING GIFTS for Everyone on your list!\nWether they have been Naughty or Nice! \nEverything you need for your Perfect Gift Giving! \nAn Abundance of Fabulous Artists\, Crafters\, Vendors and Foodies will be set up for your Holiday Shopping and Gifting! \nFREE HULA SHOW!  12:30pm to 1:30pm\nBeautiful Hawaiian Roots!  Dancing\, Singing\, Ukulele and Talking Story! \nFREE ENTRY!  Hilton Garden Inn 3-5920 Kuhio Hwy Kapaa\, HI 96746 \nSee you there!  Dec 7\, 2025 10:00am to 2:00pm \nHAPPY HOLIDAYS!  From ALL of Our Crafters and Vendors to YOU and YOURS! \nMake this a Special Holiday Season by giving special gifts made and given from the heart! \n  \nThis is a Rain or Sunshine Event! \n  \n  \n 
URL:https://kauaifestivals.com/festival/holiday-craft-fair-by-hoohiwahiwafair/
LOCATION:HI\, United States
CATEGORIES:Island Happenings
ATTACH;FMTTYPE=image/jpeg:https://kauaifestivals.com/wp-content/uploads/2025/12/hoo-dec-7-and-21-2025-jpeg.jpeg
ORGANIZER;CN="HO%27OHIWAHIWA%20FAIR":MAILTO:hoohiwahiwahgi@gmail.com
END:VEVENT
BEGIN:VEVENT
DTSTART;TZID=Pacific/Honolulu:20251207T150000
DTEND;TZID=Pacific/Honolulu:20251207T210000
DTSTAMP:20260424T082530
CREATED:20251020T222434Z
LAST-MODIFIED:20251020T222605Z
UID:10015728-1765119600-1765141200@kauaifestivals.com
SUMMARY:Holiday Hula Celebration 2025
DESCRIPTION:Kamanawa Foundation presents Na Hula O Kaohikukapulani’s annual Holiday Hula Celebration 2025. Under the direction of Kumu Hula Kapu Kinimaka-Alquiza\, the dancers and musicians of Na Kapu Mele will offer a variety of music and dance from Kahiko (traditional style) to Auana (contemporary styling) to joyful holiday tunes. There will be a craft fair\, food sale\, starting at 3:00pm-8:00pm\, door prizes\, and a lucky drawing for a Las Vegas Trip for 2! Tickets can be purchased in advance from our current students for $40 presale or will be available at the door for $45. Please contact Devi for tickets and more information at (808) 482-0671.
URL:https://kauaifestivals.com/festival/holiday-hula-celebration-2025/
LOCATION:HI\, United States
CATEGORIES:Featured Events,Island Happenings
ATTACH;FMTTYPE=image/jpeg:https://kauaifestivals.com/wp-content/uploads/2025/10/Blue-Gold-Simple-Christmas-Party-Flyer.jpg
ORGANIZER;CN="Na%20Hula%20O%20Kaohikukapulani":MAILTO:kumukapu@gmail.com
END:VEVENT
BEGIN:VEVENT
DTSTART;TZID=Pacific/Honolulu:20251212T080000
DTEND;TZID=Pacific/Honolulu:20251212T170000
DTSTAMP:20260424T082530
CREATED:20251022T195714Z
LAST-MODIFIED:20251022T195714Z
UID:10015732-1765526400-1765558800@kauaifestivals.com
SUMMARY:The Nutcracker Ballet
DESCRIPTION:Kauai Ballet Academy is pleased to present a magical holiday event\, “The Nutcracker” featuring the Kaua’i Community College Symphony Orchestra & Wind Symphony. Join Clara and her Nutcracker Prince on their magical journey through a snow-covered forest to the Land of Sweets. Four performances: December 12th 6:30 PM & December 13th 1:30 & 6:30 PM at KCC’s Performing Arts Center. December 18th 7:00 PM at the Historic Waimea Theater. You and your family are sure to enjoy this beloved holiday classic! KBA is excited to host Clara’s Tea Party\, a fancy event for all ages December 13th 10:30 AM at KCC’s Fine Arts Auditorium. Tickets for all events will be on sale November 5th. For more information\, and to purchase tickets\, visit www.kauaiballetacademy.com
URL:https://kauaifestivals.com/festival/the-nutcracker-ballet/2025-12-12/
LOCATION:Kauai Community College  Performing Arts Center\, 3-1901 Kaumualii Hwy\, Lihue\, HI\, 96766\, United States
CATEGORIES:Island Happenings
ATTACH;FMTTYPE=image/png:https://kauaifestivals.com/wp-content/uploads/2025/10/Nutcracker-5.png
ORGANIZER;CN="Kauai%20Ballet%20Academy":MAILTO:kauaiballetacademy@gmail.com
GEO:21.9649666;-159.421386
X-APPLE-STRUCTURED-LOCATION;VALUE=URI;X-ADDRESS=Kauai Community College  Performing Arts Center 3-1901 Kaumualii Hwy Lihue HI 96766 United States;X-APPLE-RADIUS=500;X-TITLE=3-1901 Kaumualii Hwy:geo:-159.421386,21.9649666
END:VEVENT
BEGIN:VEVENT
DTSTART;TZID=Pacific/Honolulu:20251212T183000
DTEND;TZID=Pacific/Honolulu:20251212T193000
DTSTAMP:20260424T082530
CREATED:20251022T195714Z
LAST-MODIFIED:20251022T195714Z
UID:10015733-1765564200-1765567800@kauaifestivals.com
SUMMARY:The Nutcracker Ballet
DESCRIPTION:Kauai Ballet Academy is pleased to present a magical holiday event\, “The Nutcracker” featuring the Kaua’i Community College Symphony Orchestra & Wind Symphony. Join Clara and her Nutcracker Prince on their magical journey through a snow-covered forest to the Land of Sweets. Four performances: December 12th 6:30 PM & December 13th 1:30 & 6:30 PM at KCC’s Performing Arts Center. December 18th 7:00 PM at the Historic Waimea Theater. You and your family are sure to enjoy this beloved holiday classic! KBA is excited to host Clara’s Tea Party\, a fancy event for all ages December 13th 10:30 AM at KCC’s Fine Arts Auditorium. Tickets for all events will be on sale November 5th. For more information\, and to purchase tickets\, visit www.kauaiballetacademy.com
URL:https://kauaifestivals.com/festival/the-nutcracker-ballet/2025-12-12/
LOCATION:Kauai Community College  Performing Arts Center\, 3-1901 Kaumualii Hwy\, Lihue\, HI\, 96766\, United States
CATEGORIES:Island Happenings
ATTACH;FMTTYPE=image/png:https://kauaifestivals.com/wp-content/uploads/2025/10/Nutcracker-5.png
ORGANIZER;CN="Kauai%20Ballet%20Academy":MAILTO:kauaiballetacademy@gmail.com
GEO:21.9649666;-159.421386
X-APPLE-STRUCTURED-LOCATION;VALUE=URI;X-ADDRESS=Kauai Community College  Performing Arts Center 3-1901 Kaumualii Hwy Lihue HI 96766 United States;X-APPLE-RADIUS=500;X-TITLE=3-1901 Kaumualii Hwy:geo:-159.421386,21.9649666
END:VEVENT
BEGIN:VEVENT
DTSTART;TZID=Pacific/Honolulu:20251213T133000
DTEND;TZID=Pacific/Honolulu:20251213T193000
DTSTAMP:20260424T082530
CREATED:20251022T195714Z
LAST-MODIFIED:20251022T195714Z
UID:10015734-1765632600-1765654200@kauaifestivals.com
SUMMARY:The Nutcracker Ballet
DESCRIPTION:Kauai Ballet Academy is pleased to present a magical holiday event\, “The Nutcracker” featuring the Kaua’i Community College Symphony Orchestra & Wind Symphony. Join Clara and her Nutcracker Prince on their magical journey through a snow-covered forest to the Land of Sweets. Four performances: December 12th 6:30 PM & December 13th 1:30 & 6:30 PM at KCC’s Performing Arts Center. December 18th 7:00 PM at the Historic Waimea Theater. You and your family are sure to enjoy this beloved holiday classic! KBA is excited to host Clara’s Tea Party\, a fancy event for all ages December 13th 10:30 AM at KCC’s Fine Arts Auditorium. Tickets for all events will be on sale November 5th. For more information\, and to purchase tickets\, visit www.kauaiballetacademy.com
URL:https://kauaifestivals.com/festival/the-nutcracker-ballet/2025-12-13/
LOCATION:Kauai Community College  Performing Arts Center\, 3-1901 Kaumualii Hwy\, Lihue\, HI\, 96766\, United States
CATEGORIES:Island Happenings
ATTACH;FMTTYPE=image/png:https://kauaifestivals.com/wp-content/uploads/2025/10/Nutcracker-5.png
ORGANIZER;CN="Kauai%20Ballet%20Academy":MAILTO:kauaiballetacademy@gmail.com
GEO:21.9649666;-159.421386
X-APPLE-STRUCTURED-LOCATION;VALUE=URI;X-ADDRESS=Kauai Community College  Performing Arts Center 3-1901 Kaumualii Hwy Lihue HI 96766 United States;X-APPLE-RADIUS=500;X-TITLE=3-1901 Kaumualii Hwy:geo:-159.421386,21.9649666
END:VEVENT
BEGIN:VEVENT
DTSTART;TZID=Pacific/Honolulu:20251218T190000
DTEND;TZID=Pacific/Honolulu:20251218T203000
DTSTAMP:20260424T082530
CREATED:20251022T195732Z
LAST-MODIFIED:20251022T195732Z
UID:10015736-1766084400-1766089800@kauaifestivals.com
SUMMARY:The Nutcracker Ballet
DESCRIPTION:Kauai Ballet Academy is pleased to present a magical holiday event\, “The Nutcracker” featuring the Kaua’i Community College Symphony Orchestra & Wind Symphony. Join Clara and her Nutcracker Prince on their magical journey through a snow-covered forest to the Land of Sweets. Four performances: December 12th 6:30 PM & December 13th 1:30 & 6:30 PM at KCC’s Performing Arts Center. December 18th 7:00 PM at the Historic Waimea Theater. You and your family are sure to enjoy this beloved holiday classic! KBA is excited to host Clara’s Tea Party\, a fancy event for all ages December 13th 10:30 AM at KCC’s Fine Arts Auditorium. Tickets for all events will be on sale November 5th. For more information\, and to purchase tickets\, visit www.kauaiballetacademy.com
URL:https://kauaifestivals.com/festival/the-nutcracker-ballet-2/
LOCATION:Historic Waimea Theater\, 9691 Kaumualii Highway\,\, Waimea\, Kauai\, HI\, United States
CATEGORIES:Island Happenings
ATTACH;FMTTYPE=image/png:https://kauaifestivals.com/wp-content/uploads/2025/10/Nutcracker-6.png
ORGANIZER;CN="Kauai%20Ballet%20Academy":MAILTO:kauaiballetacademy@gmail.com
GEO:21.9567163;-159.670479
X-APPLE-STRUCTURED-LOCATION;VALUE=URI;X-ADDRESS=Historic Waimea Theater 9691 Kaumualii Highway Waimea Kauai HI United States;X-APPLE-RADIUS=500;X-TITLE=9691 Kaumualii Highway\,:geo:-159.670479,21.9567163
END:VEVENT
BEGIN:VEVENT
DTSTART;TZID=Pacific/Honolulu:20251220T153000
DTEND;TZID=Pacific/Honolulu:20251220T183000
DTSTAMP:20260424T082530
CREATED:20251208T014549Z
LAST-MODIFIED:20251208T014549Z
UID:10015962-1766244600-1766255400@kauaifestivals.com
SUMMARY:CHRISTMAS CRAFT MARKET ~ MUSIC\, FOOD AND GIFTS!
DESCRIPTION:Come join us at the Elegant Wyndham Bali Hai\, Princeville for our Exceptional Christmas Craft Market featuring Kauai Artists\, Crafters and Vendors! \nNeeding that special heart felt gift that says Merry Christmas!?!  Or maybe you are a last minute shopper?? \nYou will find Gifts for everyone on your list at this special event! \nFrom 3:30pm to 6:30pm \nLocated at: Wyndham Bali Hai\, Princeville 4970 Pepelani Loop\, Princeville\, HI 96722 \nFREE Event\, Family Friendly\, Tons of Fun!   Rain or Shine! \nFrom ALL of our Artists\, Mele Kalikimaka to you and your’s this special Holiday Season!
URL:https://kauaifestivals.com/festival/christmas-craft-market-music-food-and-gifts/
LOCATION:Wyndham Bali Hai\, Princeville\, 4970 Pepelani Loop\, Princeville\, HI\, 96722\, United States
CATEGORIES:Island Happenings
ATTACH;FMTTYPE=image/jpeg:https://kauaifestivals.com/wp-content/uploads/2025/12/wyndham-20th-jpeg.jpeg
ORGANIZER;CN="HO%27OHIWAHIWA%20FAIR":MAILTO:hoohiwahiwahgi@gmail.com
GEO:22.2239367;-159.4818059
X-APPLE-STRUCTURED-LOCATION;VALUE=URI;X-ADDRESS=Wyndham Bali Hai Princeville 4970 Pepelani Loop Princeville HI 96722 United States;X-APPLE-RADIUS=500;X-TITLE=4970 Pepelani Loop:geo:-159.4818059,22.2239367
END:VEVENT
BEGIN:VEVENT
DTSTART;TZID=Pacific/Honolulu:20251221T100000
DTEND;TZID=Pacific/Honolulu:20251221T140000
DTSTAMP:20260424T082530
CREATED:20251204T003220Z
LAST-MODIFIED:20251204T003220Z
UID:10015893-1766311200-1766325600@kauaifestivals.com
SUMMARY:HOLIDAY CRAFT FAIR by HO'OHIWAHIWA FAIR
DESCRIPTION:GRAB YOUR LAST MINUTE GIFTS AT THIS AMAZING EVENT! \nAMAZING GIFTS!! Perfect Gift Giving for Everyone on your list! \nAn Abundance of Fabulous Artists\, Crafters\, Vendors and Foodies will be set up for your Holiday Shopping and Gifting! \nFREE HULA SHOW!  12:30pm to 1:30pm\nBeautiful Hawaiian Roots!  Dancing\, Singing\, Ukulele and Talking Story! \nFREE ENTRY!  Hilton Garden Inn 3-5920 Kuhio Hwy Kapaa\, HI 96746 \nSee you there!  Dec 21\, 2025 10:00am to 2:00pm \nHAPPY HOLIDAYS!  From ALL of Our Crafters and Vendors to YOU and YOURS! \nMake this a Special Holiday Season by giving special gifts made and given from the heart! \n  \nThis is a Rain or Sunshine Event! \n 
URL:https://kauaifestivals.com/festival/holiday-craft-fair-by-hoohiwahiwa-fair/
LOCATION:HI\, United States
CATEGORIES:Island Happenings
ATTACH;FMTTYPE=image/jpeg:https://kauaifestivals.com/wp-content/uploads/2025/12/dec-21-.jpeg
ORGANIZER;CN="HO%27OHIWAHIWAFAIR":MAILTO:hoohiwahiwahgi@gmail.com
END:VEVENT
BEGIN:VEVENT
DTSTART;TZID=Pacific/Honolulu:20251223T160000
DTEND;TZID=Pacific/Honolulu:20251223T160000
DTSTAMP:20260424T082530
CREATED:20251215T161450Z
LAST-MODIFIED:20251215T161450Z
UID:10015967-1766505600-1766505600@kauaifestivals.com
SUMMARY:ATTENTION LAST INUTE SHOPPERS! CHRISTMAS FREE HULA\, CRAFT ARTIST AND VENDOR SHOW WITH TAMATEA NUI O’ KAUAI
DESCRIPTION:Kauai’s finest Christmas Shopping is located at the Hilton Garden Inn at Wailua Bay with many available shopping dates! \nSome of the Best Kauai Crafters\, Artists and Vendors will be set up with Amazing Gifts for everyone on your list! \nTuesday December 23rd from 4-7pm \nPerfect for Last Minute Shopping \nPlus a Beautiful FREE Hula Show starting at 5:30pm! \nThere is no charge for this event! \nRain or Shine!  Family Friendly! \nHilton Garden Inn at Wailua Bay 3-5920 Kuhio Hwy\, Kapaʻa\, HI 96746
URL:https://kauaifestivals.com/festival/attention-last-inute-shoppers-christmas-free-hula-craft-artist-and-vendor-show-with-tamatea-nui-o-kauai/
LOCATION:HI\, United States
CATEGORIES:Island Happenings
ATTACH;FMTTYPE=image/jpeg:https://kauaifestivals.com/wp-content/uploads/2025/12/thursday-nights-1-2.jpeg
ORGANIZER;CN="HO%27OHIWAHIWA%20FAIR":MAILTO:hoohiwahiwahgi@gmail.com
END:VEVENT
BEGIN:VEVENT
DTSTART;TZID=Pacific/Honolulu:20251223T160000
DTEND;TZID=Pacific/Honolulu:20251223T190000
DTSTAMP:20260424T082530
CREATED:20251208T014445Z
LAST-MODIFIED:20251213T235958Z
UID:10015909-1766505600-1766516400@kauaifestivals.com
SUMMARY:CHRISTMAS FREE HULA & CRAFT SHOW WITH TAMATEA NUI O’ KAUAI
DESCRIPTION:Kauai’s finest Christmas Shopping is located at the Hilton Garden Inn at Wailua Bay with many available shopping dates! \nSome of the Best Kauai Crafters\, Artists and Vendors will be set up with Amazing Gifts for everyone on your list! \nThurday December 11th and 18th from 4-7pm \nas well as \nTuesday December 23 from 4-7pm ~ Perfect for Last Minute Shopping \nHula Show will be at 5:30pm on Each Day! \nThere is no charge for these event dates! \nRain or Shine! \nHilton Garden Inn at Wailua Bay 3-5920 Kuhio Hwy\, Kapaʻa\, HI 96746
URL:https://kauaifestivals.com/festival/christmas-free-hula-craft-show-with-tamatea-nui-o-kauai/2025-12-23/
LOCATION:HI\, United States
CATEGORIES:Island Happenings
ATTACH;FMTTYPE=image/jpeg:https://kauaifestivals.com/wp-content/uploads/2025/12/thursday-nights-1-1.jpeg
ORGANIZER;CN="HO%27OHIWAHIWA%20FAIR":MAILTO:hoohiwahiwahgi@gmail.com
END:VEVENT
END:VCALENDAR