BEGIN:VCALENDAR
VERSION:2.0
PRODID:-//Kaua‘i Festivals &amp; Events - ECPv6.0.12//NONSGML v1.0//EN
CALSCALE:GREGORIAN
METHOD:PUBLISH
X-ORIGINAL-URL:https://kauaifestivals.com
X-WR-CALDESC:Events for Kaua‘i Festivals &amp; Events
REFRESH-INTERVAL;VALUE=DURATION:PT1H
X-Robots-Tag:noindex
X-PUBLISHED-TTL:PT1H
BEGIN:VTIMEZONE
TZID:Pacific/Honolulu
BEGIN:STANDARD
TZOFFSETFROM:-1000
TZOFFSETTO:-1000
TZNAME:HST
DTSTART:20260101T000000
END:STANDARD
END:VTIMEZONE
BEGIN:VEVENT
DTSTART;TZID=Pacific/Honolulu:20260327T183000
DTEND;TZID=Pacific/Honolulu:20260327T203000
DTSTAMP:20260420T033815
CREATED:20260204T162601Z
LAST-MODIFIED:20260206T180757Z
UID:10016304-1774636200-1774643400@kauaifestivals.com
SUMMARY:Every Dancer Is A Star
DESCRIPTION:Every Dancer Is A Star is a vibrant multimedia dance performance featuring Kaua‘i student dancers alongside guest professional artists. Presented by Performing Arts For All (PAFA)\, the show brings together ballet\, hip hop\, and modern dance in a dynamic evening that celebrates youth\, artistry\, and community. \n\nThe performance includes special guest gymnasts from CLC’s Gymnastics Academy and guest professional dancers from Cleo Parker Robinson Dance\, from Denver Colorado\, offering students the rare opportunity to share the stage with accomplished artists. Set in a professional theater environment at the War Memorial Convention Hall\, the show highlights the dedication\, creativity\, and talent of Kaua‘i’s young performers.\n\nLearn more about the show at gardenislanddance.org. & Cleoparkerdance.org \nDate: Friday\, March 27Location: War Memorial Convention Hall\, Līhu‘eAdmission: 🎟 Tickets: $25 adults / $12 childrenLearn more at gardenislanddance.org
URL:https://kauaifestivals.com/festival/every-dancer-is-a-star/
LOCATION:United States
CATEGORIES:Island Happenings
ATTACH;FMTTYPE=image/png:https://kauaifestivals.com/wp-content/uploads/2026/02/every-dancer-a-star_2026purple-poster-_-copy-2.png
END:VEVENT
BEGIN:VEVENT
DTSTART;TZID=Pacific/Honolulu:20260327T190000
DTEND;TZID=Pacific/Honolulu:20260327T210000
DTSTAMP:20260420T033815
CREATED:20260310T022807Z
LAST-MODIFIED:20260328T003141Z
UID:10016346-1774638000-1774645200@kauaifestivals.com
SUMMARY:Assassins: A Musical by Stephen Sondheim
DESCRIPTION:Proudly presented by Kaua’i Community Players. Stephen Sondheim’s “Assassins” takes the audience on a dark and surprisingly funny thrill ride through the twisted underside of the “American Dream”. Viewed through the disaffected eyes of a group of Presidential assassins looking to be understood\, this Tony Award winning musical is guaranteed to make you think.  . .and be thankful that you are not one of the people singing\, “The Other National Anthem (For the Ones Who Can’t Get in to the Ballpark)”. Get your tickets today\, before they disappear!
URL:https://kauaifestivals.com/festival/assassins-a-musical-by-stephen-sondheim/2026-03-27/
LOCATION:Puhi Theatrical Warehouse\, 4411 Kikowaena St\, Lihue\, 96766
CATEGORIES:Island Happenings
ATTACH;FMTTYPE=image/png:https://kauaifestivals.com/wp-content/uploads/2026/03/Assassins-poster-compressed.png
ORGANIZER;CN="Kauai%20Community%20Players":MAILTO:kauaicommunityplayers@gmail.com
GEO:21.9645108;-159.395507
X-APPLE-STRUCTURED-LOCATION;VALUE=URI;X-ADDRESS=Puhi Theatrical Warehouse 4411 Kikowaena St Lihue 96766;X-APPLE-RADIUS=500;X-TITLE=4411 Kikowaena St:geo:-159.395507,21.9645108
END:VEVENT
END:VCALENDAR