BEGIN:VCALENDAR
VERSION:2.0
PRODID:-//Kaua‘i Festivals &amp; Events - ECPv6.0.12//NONSGML v1.0//EN
CALSCALE:GREGORIAN
METHOD:PUBLISH
X-WR-CALNAME:Kaua‘i Festivals &amp; Events
X-ORIGINAL-URL:https://kauaifestivals.com
X-WR-CALDESC:Events for Kaua‘i Festivals &amp; Events
REFRESH-INTERVAL;VALUE=DURATION:PT1H
X-Robots-Tag:noindex
X-PUBLISHED-TTL:PT1H
BEGIN:VTIMEZONE
TZID:Pacific/Honolulu
BEGIN:STANDARD
TZOFFSETFROM:-1000
TZOFFSETTO:-1000
TZNAME:HST
DTSTART:20250101T000000
END:STANDARD
END:VTIMEZONE
BEGIN:VEVENT
DTSTART;TZID=Pacific/Honolulu:20250907T160000
DTEND;TZID=Pacific/Honolulu:20250907T170000
DTSTAMP:20260420T115748
CREATED:20250825T231430Z
LAST-MODIFIED:20250825T231430Z
UID:10015456-1757260800-1757264400@kauaifestivals.com
SUMMARY:Benefit Online Concert with Grandmaster Riley Lee Sept. 7
DESCRIPTION:Grandmaster Riley Lee\, world-renowned shakuhachi master\, will perform an online one-hour  \nBenefit concert for Lawai International Center at 4:00 p.m. on Sunday\, September 7. Grandmaster Lee shares the magic and power of Lawai\, a place that calms the spirit and stills the mind.  \nThere is a minimum $25 donation for the live zoom performance that includes a video recording of the concert. To register call (808) 639-5952 or visit www.lawaicenter.org. \nAs the first non-Japanese to have achieved the rank of grandmaster\, he mastered the ancient Japanese ceremonial flute that dates back to the 7th century. Lee attained the title of grandmaster over 45 years ago with rigorous training that included practicing barefoot in the snow and playing his flute under a waterfall. \nAll proceeds benefit the nonprofit 501c3 Lawai International Center. The mission of the Lawai International Center is to preserve and nurture the land and its rich cultural heritage by extending a heartfelt invitation to all who wish to experience its essence through the spirit of compassion and aloha. For 20 years\, during the Pilgrimage of Compassion at the Lawai Center Grandmaster Lee led the procession. When he plays his shakuhachi at Lawai\, he sets in motion the forces of earth and air\, people and place\, and the swirling power of the ha.  
URL:https://kauaifestivals.com/festival/benefit-online-concert-with-grandmaster-riley-lee-sept-7/
LOCATION:Lawai International Center\, Omao\, HI\, United States
CATEGORIES:Island Happenings
ATTACH;FMTTYPE=image/jpeg:https://kauaifestivals.com/wp-content/uploads/2025/08/Lee-1.jpeg
ORGANIZER;CN="Lawai%20International%20Center":MAILTO:info@lawaicenter.org
GEO:21.925534;-159.4875264
END:VEVENT
END:VCALENDAR