BEGIN:VCALENDAR
VERSION:2.0
PRODID:-//Kaua‘i Festivals &amp; Events - ECPv6.0.12//NONSGML v1.0//EN
CALSCALE:GREGORIAN
METHOD:PUBLISH
X-ORIGINAL-URL:https://kauaifestivals.com
X-WR-CALDESC:Events for Kaua‘i Festivals &amp; Events
REFRESH-INTERVAL;VALUE=DURATION:PT1H
X-Robots-Tag:noindex
X-PUBLISHED-TTL:PT1H
BEGIN:VTIMEZONE
TZID:Pacific/Honolulu
BEGIN:STANDARD
TZOFFSETFROM:-1000
TZOFFSETTO:-1000
TZNAME:HST
DTSTART:20260101T000000
END:STANDARD
END:VTIMEZONE
BEGIN:VEVENT
DTSTART;TZID=Pacific/Honolulu:20260118T170000
DTEND;TZID=Pacific/Honolulu:20260118T190000
DTSTAMP:20260420T050201
CREATED:20251209T000247Z
LAST-MODIFIED:20251209T000247Z
UID:10015963-1768755600-1768762800@kauaifestivals.com
SUMMARY:The Rite of Spring: 2 Pianists and 2 Percussionists
DESCRIPTION:This unique classical & contemporary program involves 2 pianos and an alarming number of percussion instruments. \nProgram: \nIgor Stravinsky\, The Rite of Spring \nBela Bartok\, Sonata for 2 Pianos & Percussion \n  \nBe prepared to feel the hall rumble… \n  \nJordan Schifino\, percussion – Hawaiʻi Symphony Orchestra \nBrad Davis\, percussion – Hawaiʻi Symphony Orchestra \nDr. Jonathan Korth\, piano – University of Hawaiʻi at Mānoa\, Professor of Piano \nMonica Chung\, piano – Kauaʻi 
URL:https://kauaifestivals.com/festival/the-rite-of-spring-2-pianists-and-2-percussionists/
LOCATION:United States
CATEGORIES:Island Happenings
ATTACH;FMTTYPE=image/jpeg:https://kauaifestivals.com/wp-content/uploads/2025/12/Rite-of-Spring-FINAL-1.jpg
ORGANIZER;CN="Kauai%20Concert%20Association":MAILTO:admin@kauai-concert.org
END:VEVENT
BEGIN:VEVENT
DTSTART;TZID=Pacific/Honolulu:20260125T100000
DTEND;TZID=Pacific/Honolulu:20260125T140000
DTSTAMP:20260420T050201
CREATED:20260115T184154Z
LAST-MODIFIED:20260115T184154Z
UID:10016131-1769335200-1769349600@kauaifestivals.com
SUMMARY:HO’OHIWAHIWA FAIR ~ CRAFTS and GIFTS\, FREE HULA AND MUSIC
DESCRIPTION:It’s our first HO’OHIWAHIWA FAIR of the year! \nStarting at 10:00am Some of Kauai’s Best Known Artists and Vendors will be offering a wide assortment of Handmade Items and Gifts\, Jewelry\, Clothing and Souvenirs! \nFrom 10:00am to 11:00am come see TROPICAL GROOVE\nand\nFrom 12:30pm to 1:30pm See the Beautiful Hula Show and Musical performance by Tamatea Nui O Kauai \nThis is a FREE EVENT for all ages! \nThis is a Rain or Shine Event\, Indoors\, with Handicap Access \n  \n  \n 
URL:https://kauaifestivals.com/festival/hoohiwahiwa-fair-crafts-and-gifts-free-hula-and-music/
LOCATION:HILTON GARDEN IN WAILUA BAY\, KAPAA KAUAI\, 3-5920 Kuhio Hwy\, KAPAA\, 96746
CATEGORIES:Island Happenings
ATTACH;FMTTYPE=image/jpeg:https://kauaifestivals.com/wp-content/uploads/2026/01/d54c7ef6-6e78-441d-a5c2-2a3b5a10cab9.jpeg
ORGANIZER;CN="HO%27OHIWAHIWA%20FAIR":MAILTO:hoohiwahiwahgi@gmail.com
GEO:22.0427204;-159.3361068
X-APPLE-STRUCTURED-LOCATION;VALUE=URI;X-ADDRESS=HILTON GARDEN IN WAILUA BAY KAPAA KAUAI 3-5920 Kuhio Hwy KAPAA 96746;X-APPLE-RADIUS=500;X-TITLE=3-5920 Kuhio Hwy:geo:-159.3361068,22.0427204
END:VEVENT
END:VCALENDAR