BEGIN:VCALENDAR
VERSION:2.0
PRODID:-//Kaua‘i Festivals &amp; Events - ECPv6.0.12//NONSGML v1.0//EN
CALSCALE:GREGORIAN
METHOD:PUBLISH
X-WR-CALNAME:Kaua‘i Festivals &amp; Events
X-ORIGINAL-URL:https://kauaifestivals.com
X-WR-CALDESC:Events for Kaua‘i Festivals &amp; Events
REFRESH-INTERVAL;VALUE=DURATION:PT1H
X-Robots-Tag:noindex
X-PUBLISHED-TTL:PT1H
BEGIN:VTIMEZONE
TZID:Pacific/Honolulu
BEGIN:STANDARD
TZOFFSETFROM:-1000
TZOFFSETTO:-1000
TZNAME:HST
DTSTART:20250101T000000
END:STANDARD
END:VTIMEZONE
BEGIN:VEVENT
DTSTART;TZID=Pacific/Honolulu:20250502T190000
DTEND;TZID=Pacific/Honolulu:20250502T203000
DTSTAMP:20260419T182431
CREATED:20250414T195618Z
LAST-MODIFIED:20250414T195618Z
UID:10015085-1746212400-1746217800@kauaifestivals.com
SUMMARY:KCC Wind Symphony and Kauaʻi Youth Honor Band Concert
DESCRIPTION:The KCC Wind Symphony and Kauaʻi Youth Honor Band Concert will share the stage on Friday May 2nd at the Kaua`i Performing Arts Center for a FREE Spring Concert under the direction of Maestra Sarah Tochiki.  Refreshments available in the lobby.  You may wish to bring a sweater as it may be cool in the lobby.
URL:https://kauaifestivals.com/festival/kcc-wind-symphony-and-kaua%ca%bbi-youth-honor-band-concert/
LOCATION:Kauai Community College  Performing Arts Center\, 3-1901 Kaumualii Hwy\, Lihue\, HI\, 96766\, United States
CATEGORIES:Island Happenings
ATTACH;FMTTYPE=image/jpeg:https://kauaifestivals.com/wp-content/uploads/2025/04/KCC-Wind-Symphony.jpg
ORGANIZER;CN="Gregory%20von%20Hausch":MAILTO:greg3512@hawaii.edu
GEO:21.9649666;-159.421386
X-APPLE-STRUCTURED-LOCATION;VALUE=URI;X-ADDRESS=Kauai Community College  Performing Arts Center 3-1901 Kaumualii Hwy Lihue HI 96766 United States;X-APPLE-RADIUS=500;X-TITLE=3-1901 Kaumualii Hwy:geo:-159.421386,21.9649666
END:VEVENT
BEGIN:VEVENT
DTSTART;TZID=Pacific/Honolulu:20250502T190000
DTEND;TZID=Pacific/Honolulu:20250502T203000
DTSTAMP:20260419T182431
CREATED:20250415T221317Z
LAST-MODIFIED:20250415T221317Z
UID:10015092-1746212400-1746217800@kauaifestivals.com
SUMMARY:SONG CIRCLE & CONCERT with Gary Lynn Floyd
DESCRIPTION:On Friday\, May 2 at 7 PM\, enjoy an evening of song with award-wining singer-songwriter Gary Lynn Floyd. A modern-day musical shaman\, Gary Lynn’s music embodies the spirit of connection\, joy\, healing and unity. He draws listeners into a shared\, transformative experience that is both grounding and uplifting. Hosted by Center for Spiritual Living Kauai\, Hongwanji Mission Building\, 4-1170 Kuhio Highway in Kapaa.Tix: $25 in advance\, $30 at door. For more info: cslkauai.org ; 808-431-1700
URL:https://kauaifestivals.com/festival/song-circle-concert-with-gary-lynn-floyd/
LOCATION:Center for Spiritual Living Kauai\, 4-1579 Kuhio Highway\, Kapaa\, 96746
CATEGORIES:Island Happenings
ATTACH;FMTTYPE=image/jpeg:https://kauaifestivals.com/wp-content/uploads/2025/04/Gary-lynn-floyd-11x17-poster-Vista-scaled.jpg
ORGANIZER;CN="Center%20for%20Spiritual%20Living%20Kauai":MAILTO:centerforspirituallivingkauai@gmail.com
GEO:22.0803548;-159.3142796
X-APPLE-STRUCTURED-LOCATION;VALUE=URI;X-ADDRESS=Center for Spiritual Living Kauai 4-1579 Kuhio Highway Kapaa 96746;X-APPLE-RADIUS=500;X-TITLE=4-1579 Kuhio Highway:geo:-159.3142796,22.0803548
END:VEVENT
BEGIN:VEVENT
DTSTART;TZID=Pacific/Honolulu:20250502T190000
DTEND;TZID=Pacific/Honolulu:20250502T210000
DTSTAMP:20260419T182431
CREATED:20250414T175529Z
LAST-MODIFIED:20250414T175529Z
UID:10015081-1746212400-1746219600@kauaifestivals.com
SUMMARY:Kauaʻi Community College Wind Symphony and Kauaʻi Youth Honor Band 2025 Spring Concert
DESCRIPTION:Join us for an evening of music with special guest conductor\, Keith Higaki! Higaki serves as Music Director for the Honolulu Wind Ensemble\, an adult community band of musicians throughout the island of Oʻahu. He recently retired as the Band Director at Sacred Hearts Academy. He is a graduate of the University of Hawaiʻi and served as Associate Director of Bands and Director of the Marching Band and Symphonic Band at the University of Hawaiʻi at Mānoa. He will be the conductor of the Kauaʻi Youth Honor Band\, which comprises students from all public schools on Kauaʻi with band programs. He will also conduct the KCC Wind Symphony\, the only concert band ensemble in the University of Hawaiʻi System.
URL:https://kauaifestivals.com/festival/kaua%ca%bbi-community-college-wind-symphony-and-kaua%ca%bbi-youth-honor-band-2025-spring-concert/
LOCATION:Kauai Community College  Performing Arts Center\, 3-1901 Kaumualii Hwy\, Lihue\, HI\, 96766\, United States
CATEGORIES:Island Happenings
ATTACH;FMTTYPE=image/png:https://kauaifestivals.com/wp-content/uploads/2025/04/Spring-Concert-2025-Wind-Symphony.png
GEO:21.9649666;-159.421386
X-APPLE-STRUCTURED-LOCATION;VALUE=URI;X-ADDRESS=Kauai Community College  Performing Arts Center 3-1901 Kaumualii Hwy Lihue HI 96766 United States;X-APPLE-RADIUS=500;X-TITLE=3-1901 Kaumualii Hwy:geo:-159.421386,21.9649666
END:VEVENT
BEGIN:VEVENT
DTSTART;TZID=Pacific/Honolulu:20250503T110000
DTEND;TZID=Pacific/Honolulu:20250503T160000
DTSTAMP:20260419T182431
CREATED:20250421T202710Z
LAST-MODIFIED:20250421T202710Z
UID:10015094-1746270000-1746288000@kauaifestivals.com
SUMMARY:Waipā 'Āina Festival 2025
DESCRIPTION:Looking to connect with ʻāina\, culture\, and community? Waipā is hosting our second annual ʻĀina Festival on Saturday\, May 3rd\, from 11am to 4pm at Halulu Fishpond in Waipa\, located a half-mile past Hanalei Town. It’ll be a wonderful day of live music\, ‘ono food\, and cultural activities\, to celebrate everything ʻāina! It’ll also feature local artisans\, crafters\, hands-on keiki activities and a waterslide\, too. This is a fundraiser for Waipā Foundation and local entrepreneurs\, so gate fees ($10 general\, $1 keiki) and your purchases support our collective work! Visit WAIPAFOUNDATION.ORG or call (808) 826-9969 for more information. All are welcome — save the date!
URL:https://kauaifestivals.com/festival/waipa-aina-festival-2025/
LOCATION:Waipā Community Complex\, Hanalei\, 5-5785 Kuhio Highway\, Hanalei\, 96714
CATEGORIES:Featured Events,Island Happenings
ATTACH;FMTTYPE=image/jpeg:https://kauaifestivals.com/wp-content/uploads/2025/04/Kalo-Fest-16-scaled.jpg
ORGANIZER;CN="Waipa%20Foundation":MAILTO:waipaonline@gmail.com
GEO:22.2035869;-159.5134261
X-APPLE-STRUCTURED-LOCATION;VALUE=URI;X-ADDRESS=Waipā Community Complex Hanalei 5-5785 Kuhio Highway Hanalei 96714;X-APPLE-RADIUS=500;X-TITLE=5-5785 Kuhio Highway:geo:-159.5134261,22.2035869
END:VEVENT
BEGIN:VEVENT
DTSTART;TZID=Pacific/Honolulu:20250510T173000
DTEND;TZID=Pacific/Honolulu:20250510T210000
DTSTAMP:20260419T182431
CREATED:20250424T164008Z
LAST-MODIFIED:20250424T164008Z
UID:10015097-1746898200-1746910800@kauaifestivals.com
SUMMARY:Taulia Lave - Special Country Music Birthday Bash
DESCRIPTION:Taulia Lave\nSpecial Country Music Birthday Bash\nwith special guest\nChad Pa \nShow Date\nSaturday May 10\, 2025 \nTaulia Lave\nTaulia invites you to celebrate his birthday and support The Boys and Girls Club of Hawai’i at Porter Pavilion! \nLave is not your typical Country Singer. He’s a 47-year old\, 6’2”\, 280 pound Samoan who was a college football linebacker and former police officer who grew up listening to Randy Travis\, George Strait\, and Garth Brooks on the coast of Waiʻanae\, Oʻahu. \nWhen his father passed away unexpectedly ~4 years ago\, Taulia dedicated himself full-time to making music in honor of his Dad starting with his debut single Feels Like Home. \nTaulia has sold out shows across his home state and just released his tribute to Kenny Rogers The Gambler which he recorded entirely in Nashville. \nWaianae Boys & Girls Club was a big part of Taulia’s upbringing and he is so happy to be supporting them on Kauai! \nConcerts with a Cause\nAnaina Hou Community Park is excited to continue our Concerts with a Cause Mission Driven Music offerings with Taulia Lave! This concert is shining light on The Boys and Girls Club of Hawai’i. $2 from every ticket purchased to the show will go back to supporting their amazing work. To learn more and donate directly to Boys and Girls Club\, please visit their site at www.bgch.com. \n\n\n\nWhat’s included\n\nThis is GA standing room show. We will have some seating sections set up throughout the venue available on a first come first serve basis. \nWe will have some covered raised tables available around the perimeter of the lawned area. \n\n\n\nWhat’s not included\n\nBeverage Concessions both Alcoholic and Non Alcoholic will be available throughout the show. \nFood will be available for purchase on site. The Pavilion Kitchen is open with a full menu of hot meals and snacks. Vegan/ Vegetarian options will be available. \n\n\n\nItinerary\n\nShow Details\n5:30 PM: Doors Open\n6:30 PM: Chad Pa\n7:30 PM: Taulia Lave \nTimes subject to change. Any changes will be confirmed via email closer to the show date \n\n\n\nHighlights\n\nThis show is part of Anaina Hou Community Park’s “Concerts with a Cause” Series. This installment is raising funds and awareness for the Boys and Girls Club of Hawai’i. The mission of Boys & Girls Club of Hawaii is to enable all young people\, especially those who need us most\, to reach their full potential as productive\, caring\, responsible citizens. \nThe after-school hours are a critical time for youth – a time when many children in our communities are left to fend for themselves without positive adult supervision. BGCH provides a safe place filled with hope and opportunity\, ongoing relationships with caring adult mentors\, and enriching programs. \nTo learn more and donate directly to Boys and Girls Club\, please visit their site at www.bgch.com.
URL:https://kauaifestivals.com/festival/taulia-lave-special-country-music-birthday-bash/
LOCATION:Anaina Hou Porter Pavilion\, 5-2723 Kuhio Highway\, Kilauea\, 96754
CATEGORIES:Island Happenings
ATTACH;FMTTYPE=image/png:https://kauaifestivals.com/wp-content/uploads/2025/04/Taulia-Lave-1080-x-1080-px-FINAL.png
ORGANIZER;CN="Anaina%20Hou%20Community%20Park":MAILTO:community@anainahou.org
GEO:22.2109763;-159.4160471
X-APPLE-STRUCTURED-LOCATION;VALUE=URI;X-ADDRESS=Anaina Hou Porter Pavilion 5-2723 Kuhio Highway Kilauea 96754;X-APPLE-RADIUS=500;X-TITLE=5-2723 Kuhio Highway:geo:-159.4160471,22.2109763
END:VEVENT
BEGIN:VEVENT
DTSTART;TZID=Pacific/Honolulu:20250511T160000
DTEND;TZID=Pacific/Honolulu:20250511T180000
DTSTAMP:20260419T182431
CREATED:20250414T175603Z
LAST-MODIFIED:20250414T180753Z
UID:10015082-1746979200-1746986400@kauaifestivals.com
SUMMARY:Kauaʻi Community College Symphony Orchestra 2025 Spring Concert\, with the Kauaʻi ʻOpio and Keiki Orchestra
DESCRIPTION:Join us for a special Mother’s Day concert with Kauaʻi’s only Symphony Orchestra. We will perform everything from Vaughn Williams to Holst to Classical Music Mash-up II. We will also feature youth from all over Kauaʻi from the Kauaʻi ʻOpio and Keiki Orchestra.
URL:https://kauaifestivals.com/festival/kaua%ca%bbi-community-college-symphony-orchestra-2025-spring-concert-with-the-kaua%ca%bbi-%ca%bbopio-and-keiki-orchestra/
LOCATION:Kauai Community College  Performing Arts Center\, 3-1901 Kaumualii Hwy\, Lihue\, HI\, 96766\, United States
CATEGORIES:Island Happenings
ATTACH;FMTTYPE=image/png:https://kauaifestivals.com/wp-content/uploads/2025/04/Spring-Concert-2025-Orchestra-1.png
GEO:21.9649666;-159.421386
X-APPLE-STRUCTURED-LOCATION;VALUE=URI;X-ADDRESS=Kauai Community College  Performing Arts Center 3-1901 Kaumualii Hwy Lihue HI 96766 United States;X-APPLE-RADIUS=500;X-TITLE=3-1901 Kaumualii Hwy:geo:-159.421386,21.9649666
END:VEVENT
BEGIN:VEVENT
DTSTART;TZID=Pacific/Honolulu:20250511T160000
DTEND;TZID=Pacific/Honolulu:20250511T180000
DTSTAMP:20260419T182431
CREATED:20250414T195834Z
LAST-MODIFIED:20250414T195834Z
UID:10015088-1746979200-1746986400@kauaifestivals.com
SUMMARY:KCC Symphony Orchestra and Kauaʻi ʻOpio and Keiki Orchestra
DESCRIPTION:The KCC Orchestra will present their Spring Concert\, Sunday\, May 11\, 4pm\, at the Kaua`i Performing Arts Center.  The family friendly concert is free of charge.  For the first half of the program\, the Kauaʻi ʻOpio and Keiki Orchestra will accompany the Symphony Orchestra.  The concert is under the direction of Maestra Sarah Tochiki.  You may wish to bring a sweater as sometimes it is cool in the auditorium.
URL:https://kauaifestivals.com/festival/kcc-symphony-orchestra-and-kaua%ca%bbi-%ca%bbopio-and-keiki-orchestra/
LOCATION:Kauai Community College  Performing Arts Center\, 3-1901 Kaumualii Hwy\, Lihue\, HI\, 96766\, United States
CATEGORIES:Island Happenings
ATTACH;FMTTYPE=image/jpeg:https://kauaifestivals.com/wp-content/uploads/2025/04/orchestra.jpg
ORGANIZER;CN="Gregory%20von%20Hausch":MAILTO:greg3512@hawaii.edu
GEO:21.9649666;-159.421386
X-APPLE-STRUCTURED-LOCATION;VALUE=URI;X-ADDRESS=Kauai Community College  Performing Arts Center 3-1901 Kaumualii Hwy Lihue HI 96766 United States;X-APPLE-RADIUS=500;X-TITLE=3-1901 Kaumualii Hwy:geo:-159.421386,21.9649666
END:VEVENT
BEGIN:VEVENT
DTSTART;TZID=Pacific/Honolulu:20250530T190000
DTEND;TZID=Pacific/Honolulu:20250530T210000
DTSTAMP:20260419T182431
CREATED:20250312T194926Z
LAST-MODIFIED:20250421T211548Z
UID:10015030-1748631600-1748638800@kauaifestivals.com
SUMMARY:Jason Blake: Exposed!
DESCRIPTION:This event is a fundraiser for Kauai Concert Association and Kauai Pride. \n  \nJoin Kauai’s own Jason Blake in an evening of songs\, stories and friends as we prepare for Pride month. \n  \nA live band consisting of: \nRose Alfiler\, Piano \nRon Margolis\, Drums \nPaul Koulbanis\, Guitar \nMike Latif\, Bass \nKaycee Milne\, Violin \nBarry Toy\, Trumpet \nVoice teacher Dolly Kanekuni and James Norman from The Quake will also be guest vocalists. \n  \nJason will sing both favorite songs you’ll sing along to along with a few songs you’ve never heard. He’ll sing duets with both a female and male guest and share funny and touching stories from his life and coming out.  Genres will range from pop to country to Broadway! \n  \nThe band will be paid as professionals but all singers are donating their talents for this cause. \n  \nAll profits will be equally divided between Kauai Concert Association and Kauai Pride. \n  \nOne night only and you don’t want to miss this once in a decade event!
URL:https://kauaifestivals.com/festival/jason-blake-exposed/
LOCATION:United States
CATEGORIES:Island Happenings
ATTACH;FMTTYPE=image/jpeg:https://kauaifestivals.com/wp-content/uploads/2025/03/IMG_6789-1.jpg
ORGANIZER;CN="Kauai%20Concert%20Association":MAILTO:admin@kauai-concert.org
END:VEVENT
END:VCALENDAR