BEGIN:VCALENDAR
VERSION:2.0
PRODID:-//Kaua‘i Festivals &amp; Events - ECPv6.0.12//NONSGML v1.0//EN
CALSCALE:GREGORIAN
METHOD:PUBLISH
X-WR-CALNAME:Kaua‘i Festivals &amp; Events
X-ORIGINAL-URL:https://kauaifestivals.com
X-WR-CALDESC:Events for Kaua‘i Festivals &amp; Events
REFRESH-INTERVAL;VALUE=DURATION:PT1H
X-Robots-Tag:noindex
X-PUBLISHED-TTL:PT1H
BEGIN:VTIMEZONE
TZID:Pacific/Honolulu
BEGIN:STANDARD
TZOFFSETFROM:-1000
TZOFFSETTO:-1000
TZNAME:HST
DTSTART:20250101T000000
END:STANDARD
END:VTIMEZONE
BEGIN:VEVENT
DTSTART;TZID=Pacific/Honolulu:20251025T083000
DTEND;TZID=Pacific/Honolulu:20251025T113000
DTSTAMP:20260419T070711
CREATED:20250502T184741Z
LAST-MODIFIED:20250502T184741Z
UID:10015112-1761381000-1761391800@kauaifestivals.com
SUMMARY:Make a Difference Day At Lydgate Beach Park
DESCRIPTION:Every October\, Friends of Kamalani and Lydgate Park come together to observe Make A Difference Day by hosting a community workday in the park at Lydgate Beach Park. We have a variety of tasks to complete park-wide and something to fit every age level and ability.  We love to see groups of people come out and spend time taking care of our beloved park and island. \nOur next community workday will be on Saturday morning\, October 25\, 2025\, and you can let the event coordinators know you plan to kokua by completing the short form HERE. We provide coffee\, water\, snacks\, and an ono lunch\, so we appreciate a head count when you complete the form.\n \nRegistration begins at 8:30 am with work starting around 9:00 am. We have lunch immediately following work at approximately 11:00 am. \nLocal residents and visitors alike are welcome to come out and enjoy the day\, make a difference\, and develop new friendships! \nBe sure to follow us on social channels @FriendsofKamalani and we look forward to meeting you in October. \nBlessings\,
URL:https://kauaifestivals.com/festival/make-a-difference-day-at-lydgate-beach-park/
LOCATION:Lydgate Park Main Pavilion\, Leho Drive\, Lihue\, Kauai\, 96766
CATEGORIES:Island Happenings
ATTACH;FMTTYPE=image/jpeg:https://kauaifestivals.com/wp-content/uploads/2025/05/Green-and-Yellow-Illustrative-Neighborhood-Cleanup-Day-Flyer-1.jpg
ORGANIZER;CN="Friends%20of%20Kamalani%20%26amp%3B%20Lydgate%20Park":MAILTO:friendsofkamalani@gmail.com
GEO:22.0391006;-159.3378149
X-APPLE-STRUCTURED-LOCATION;VALUE=URI;X-ADDRESS=Lydgate Park Main Pavilion Leho Drive Lihue Kauai 96766;X-APPLE-RADIUS=500;X-TITLE=Leho Drive:geo:-159.3378149,22.0391006
END:VEVENT
END:VCALENDAR