BEGIN:VCALENDAR
VERSION:2.0
PRODID:-//Kaua‘i Festivals &amp; Events - ECPv6.0.12//NONSGML v1.0//EN
CALSCALE:GREGORIAN
METHOD:PUBLISH
X-ORIGINAL-URL:https://kauaifestivals.com
X-WR-CALDESC:Events for Kaua‘i Festivals &amp; Events
REFRESH-INTERVAL;VALUE=DURATION:PT1H
X-Robots-Tag:noindex
X-PUBLISHED-TTL:PT1H
BEGIN:VTIMEZONE
TZID:Pacific/Honolulu
BEGIN:STANDARD
TZOFFSETFROM:-1000
TZOFFSETTO:-1000
TZNAME:HST
DTSTART:20250101T000000
END:STANDARD
END:VTIMEZONE
BEGIN:VEVENT
DTSTART;TZID=Pacific/Honolulu:20250913T120000
DTEND;TZID=Pacific/Honolulu:20251024T180000
DTSTAMP:20260419T043645
CREATED:20250905T001902Z
LAST-MODIFIED:20250905T001902Z
UID:10015464-1757764800-1761328800@kauaifestivals.com
SUMMARY:Art Kauai 2025
DESCRIPTION:Celebrate 40+ years of creativity at Kaua‘i’s premier juried art exhibition! Art Kaua‘i 2025 brings together the island’s most talented artists\, showcasing painting\, sculpture\, photography\, fiber\, ceramics\, and more. Each year\, a guest juror selects the works on view and awards top honors\, making this exhibition a highlight of Hawai‘i’s contemporary art calendar. \nHosted by the Kaua‘i Society of Artists (KSA)\, the show offers visitors a chance to experience the depth and diversity of our island’s visual arts community—whether you’re an art collector\, casual admirer\, or just looking for inspiration. Don’t miss this annual celebration of creativity and culture!
URL:https://kauaifestivals.com/festival/art-kauai-2025/
LOCATION:Kauai Society of Artists\, 2600 Kaumualii Hwy #3\, Lihue\, 96766
CATEGORIES:Island Happenings
ATTACH;FMTTYPE=image/jpeg:https://kauaifestivals.com/wp-content/uploads/2025/09/Art-Kauai-2025-Final-Instagram-Post-45-2.jpg
ORGANIZER;CN="Kaua%27i%20Society%20of%20Artists":MAILTO:artinkauai@gmail.com
GEO:21.969756;-159.3786872
X-APPLE-STRUCTURED-LOCATION;VALUE=URI;X-ADDRESS=Kauai Society of Artists 2600 Kaumualii Hwy #3 Lihue 96766;X-APPLE-RADIUS=500;X-TITLE=2600 Kaumualii Hwy #3:geo:-159.3786872,21.969756
END:VEVENT
BEGIN:VEVENT
DTSTART;TZID=Pacific/Honolulu:20251012T090000
DTEND;TZID=Pacific/Honolulu:20251012T130000
DTSTAMP:20260419T043645
CREATED:20250924T063010Z
LAST-MODIFIED:20260409T234342Z
UID:10015536-1760259600-1760274000@kauaifestivals.com
SUMMARY:Beach House Restaurant Craft Fair
DESCRIPTION:A beautiful setting in Poipu just outside the Beach House Restaurant.  More than 40 vendors offering quality handcrafted items including a wide variety of Kauai Keepsakes including Heritage Crafts\, Clothing\, Jewelry\, Photographs\, Art\, Snacks\, and more!  Something for everyone!
URL:https://kauaifestivals.com/festival/beach-house-restaurant-craft-fair/2025-10-12/
LOCATION:Beach House Restaurant\, 5022 Lawai Rd.\, Koloa\, 96756
CATEGORIES:Island Happenings
ATTACH;FMTTYPE=image/jpeg:https://kauaifestivals.com/wp-content/uploads/2025/09/Beach-House-Craft-fair-image-4.jpg
ORGANIZER;CN="Jeannine%20Marin%2FEdwin%20Vea":MAILTO:mailto:jeannine@thebeachhousekauai.com
GEO:21.8811335;-159.4753815
X-APPLE-STRUCTURED-LOCATION;VALUE=URI;X-ADDRESS=Beach House Restaurant 5022 Lawai Rd. Koloa 96756;X-APPLE-RADIUS=500;X-TITLE=5022 Lawai Rd.:geo:-159.4753815,21.8811335
END:VEVENT
BEGIN:VEVENT
DTSTART;TZID=Pacific/Honolulu:20251025T180000
DTEND;TZID=Pacific/Honolulu:20251025T210000
DTSTAMP:20260419T043645
CREATED:20251015T204009Z
LAST-MODIFIED:20251015T204009Z
UID:10015726-1761415200-1761426000@kauaifestivals.com
SUMMARY:Salt * Color
DESCRIPTION:We’re excited to invite you to Salt & Color\, a one-night surf and art show at Common Ground celebrating the creativity of our local heroes. This event has been a dream of ours for some time\, and we’re thrilled to launch it with artists whose work is deeply rooted in the ocean—honoring its spirit\, telling its stories\, and sharing its beauty. Together\, we’ll gather for an evening of art\, music\, food\, and connection.
URL:https://kauaifestivals.com/festival/salt-color/
LOCATION:Common Ground Kauai\, 4900 Kauwa Rd\, Kilauea\, HI\, 96754
CATEGORIES:Island Happenings
ATTACH;FMTTYPE=image/png:https://kauaifestivals.com/wp-content/uploads/2025/10/salt-color-Sqaure.png
ORGANIZER;CN="Common%20Ground%20Kauai":MAILTO:experiences@commongroundkauai.com
GEO:22.1976972;-159.4174581
X-APPLE-STRUCTURED-LOCATION;VALUE=URI;X-ADDRESS=Common Ground Kauai 4900 Kauwa Rd Kilauea HI 96754;X-APPLE-RADIUS=500;X-TITLE=4900 Kauwa Rd:geo:-159.4174581,22.1976972
END:VEVENT
END:VCALENDAR