BEGIN:VCALENDAR
VERSION:2.0
PRODID:-//Kaua‘i Festivals &amp; Events - ECPv6.0.12//NONSGML v1.0//EN
CALSCALE:GREGORIAN
METHOD:PUBLISH
X-WR-CALNAME:Kaua‘i Festivals &amp; Events
X-ORIGINAL-URL:https://kauaifestivals.com
X-WR-CALDESC:Events for Kaua‘i Festivals &amp; Events
REFRESH-INTERVAL;VALUE=DURATION:PT1H
X-Robots-Tag:noindex
X-PUBLISHED-TTL:PT1H
BEGIN:VTIMEZONE
TZID:Pacific/Honolulu
BEGIN:STANDARD
TZOFFSETFROM:-1000
TZOFFSETTO:-1000
TZNAME:HST
DTSTART:20250101T000000
END:STANDARD
END:VTIMEZONE
BEGIN:VEVENT
DTSTART;TZID=Pacific/Honolulu:20250425T190000
DTEND;TZID=Pacific/Honolulu:20250425T210000
DTSTAMP:20260420T040219
CREATED:20250325T174316Z
LAST-MODIFIED:20250325T212313Z
UID:10015058-1745607600-1745614800@kauaifestivals.com
SUMMARY:BIG EASY QUEENS
DESCRIPTION:Set in the steamy\, spooky underworld of New Orleans\, Big Easy Queens is 80 minutes of pure queer horror with original musical numbers\, voodoo\, zombies\, drag queens\, and campy neo-giallo delight soaked in blood\, gristle\, and glitter\, oh my. In this righteous “glam horror” extravaganza\, Big Easy Queens follows Minnie Bouvèé\, Mob Queen of the Quarter\, and her rivalry with her arch-nemesis\, Poodles Makenzie. After Minnie Bouvèé has Poodles Makenzie’s crew brutally slaughtered\, she braces for the blowback; what she doesn’t expect\, however\, is to be stalked by a creepy masked figure who leaves behind bouquets of gardenias and terrifying notes. Is this Poodles’ revenge\, or the work of Minnie’s estranged sister who stole her man years ago and has suddenly reappeared in her life?\n\nThis campy film sponsored by the KCC Prism Club.  Feel free to dress appropriate to the film…be creative!
URL:https://kauaifestivals.com/festival/big-easy-queens/
LOCATION:Kauai Comunity College Performing Arts Center\, Lihue\, 96766
CATEGORIES:Featured Events
ATTACH;FMTTYPE=image/jpeg:https://kauaifestivals.com/wp-content/uploads/2025/03/Big-Easy-Queen-Flyer-1-1-scaled.jpg
ORGANIZER;CN="Pat%20McGrath":MAILTO:pmcgrath@hawaii.edu
END:VEVENT
END:VCALENDAR