BEGIN:VCALENDAR
VERSION:2.0
PRODID:-//Kaua‘i Festivals &amp; Events - ECPv6.0.12//NONSGML v1.0//EN
CALSCALE:GREGORIAN
METHOD:PUBLISH
X-ORIGINAL-URL:https://kauaifestivals.com
X-WR-CALDESC:Events for Kaua‘i Festivals &amp; Events
REFRESH-INTERVAL;VALUE=DURATION:PT1H
X-Robots-Tag:noindex
X-PUBLISHED-TTL:PT1H
BEGIN:VTIMEZONE
TZID:Pacific/Honolulu
BEGIN:STANDARD
TZOFFSETFROM:-1000
TZOFFSETTO:-1000
TZNAME:HST
DTSTART:20250101T000000
END:STANDARD
END:VTIMEZONE
BEGIN:VEVENT
DTSTART;TZID=Pacific/Honolulu:20251004T080000
DTEND;TZID=Pacific/Honolulu:20251004T170000
DTSTAMP:20260419T070821
CREATED:20250414T195939Z
LAST-MODIFIED:20250904T202513Z
UID:10015089-1759564800-1759597200@kauaifestivals.com
SUMMARY:ALOHA Kauai Yoga & Peace Festival
DESCRIPTION:Yoga\, Meditations\, Sound Healings\, Vendors\, Acoustic Music\, Healing Arts\nThe Island of Kauai is an Amplifier of Divine energy of Aloha\nALOHA & Namaste!\nJoin us on October 4\, 2025\, at the beautiful oceanfront Kauai Shores Hotel for a full day of yoga classes\, meditations\, sound healings\, booths\, acoustic music\, healing arts\, and a yoga tribe gathering. Connect with like-minded individuals in a collective field of peace\, nature\, and synchronicity on the sacred island of Kauai.\nThe Island of Kauai amplifies the Divine energy of Aloha\, making it the perfect setting to share yoga and meditation practices. Unite with other lightworkers from around the world and experience the teachings\, speakers\, artists\, and local talents committed to awakening humanity. Our festival overlooks the stunning Pacific Ocean\, the sacred Wailua River\, and ancient Hawaiian Heiaus (temples under the open sky).\nKauai’s 8th Annual Yoga Festival spreads the big ALOHA – PEACE – LOVE message to the world. We ARE the ones we’ve been waiting for! Mama Kauai and the Spirit of ALOHA are calling you back home. The festival is an opportunity for your soul to connect with peace.\nOur organization\, the Aloha Kauai Yoga & Peace Festival\, is dedicated to promoting physical\, mental\, and spiritual well-being through the practice of yoga and meditation. Located on the breathtaking island of Kauai\, Hawaii\, our festival is a one-day event offering an array of workshops\, classes\, and vendors focused on yoga\, mindfulness\, and human connections.\nA major highlight of our festival is the worldwide peace meditation\, gathering people from around the globe both online and in person to meditate together for world peace. This powerful event fosters a sense of unity and compassion among participants.\nFestival Highlights:-Diverse Yoga Styles: Explore Hatha\, Vinyasa\, Yin\, and Restorative Sound Healing yoga led by experienced instructors.-Healing Arts and Vendors: Engage with local healers and vendors offering various modalities and products.-Worldwide Peace Meditation: Meditate for world peace\, fostering unity and compassion.-Family-Friendly: Kids attend for free with a paid adult. All levels are welcome!\nEvent Details:Date: October 4\, 2025Location: Kauai Shores Hotel\, 420 Papaloa Rd\, Kapaa\, HI 96746\nTime: 8:00 AM – 5:00 PM\nWhat to Bring:Water bottleYoga matBlock and strapBeach towelSwimsuitCushions or blanket–unscreen\n***Kanaka Maoli are always FREE\nZero Waste Event: Support our commitment to the planet by bringing your own utensils\, bowls\, water bottle\, and mug. Pack out personal waste that is not compostable or recyclable.\nParking: Parking is limited. Please carpool\, walk\, or ride a bike.\nVolunteers: Our festival is fully volunteer-run. We couldn’t do it without you! Thank you for your service.\nJoin Us:Spread the word about #ALOHAyogaFestival by joining our event page on Facebook and sharing it with your friends. To see the full lineup and learn more\, visit our website at ALOHAFestival.org.\nInfinite Blessings\,ALOHA Yoga and Peace Festival Production Team\nContact:Mailing Address: PO Box 2092 Kapaa\, HI 96746Email: kauaialohafest@gmail.com
URL:https://kauaifestivals.com/festival/aloha-kauai-yoga-peace-festival/
LOCATION:Kauai Shores Hotel\, 420 Papaloa Rd.\, Kapaa\, HI\, 96746\, United States
CATEGORIES:Featured Events,Island Happenings
ATTACH;FMTTYPE=image/jpeg:https://kauaifestivals.com/wp-content/uploads/2025/04/ALOHA-2025-.jpg
ORGANIZER;CN="Anya":MAILTO:Kauaiyogaonthebeach@gmail.com
GEO:22.0521098;-159.3290064
X-APPLE-STRUCTURED-LOCATION;VALUE=URI;X-ADDRESS=Kauai Shores Hotel 420 Papaloa Rd. Kapaa HI 96746 United States;X-APPLE-RADIUS=500;X-TITLE=420 Papaloa Rd.:geo:-159.3290064,22.0521098
END:VEVENT
BEGIN:VEVENT
DTSTART;TZID=Pacific/Honolulu:20251011T090000
DTEND;TZID=Pacific/Honolulu:20251011T150000
DTSTAMP:20260419T070821
CREATED:20250929T175229Z
LAST-MODIFIED:20250929T175229Z
UID:10015707-1760173200-1760194800@kauaifestivals.com
SUMMARY:40th Kauai Matsuri Festival 2025
DESCRIPTION:40th Kauai Matsuri Festival 2025 on Saturday\, 11 October 2025 at the Kauai War Memorial Convention Hall from 9am – 3pm. FREE admission.  \nThere will be mochi making; traditional Japanese folk music & dance; tea ceremony; Japanese calligraphy; taiko drumming; kimono Kitsuke; kanzashi making; ikebana; Kauai Bonsai; musubi & tsukemono contest; mini bon dance; craft vendors; and Japanese reggae music.  \nYou can find the latest info such as Matsuri program schedule; musubi & tsukemono contest details; kimono kitsuke; and the Aloha Welcome Banquet details\, are on the KJCS facebook page (see link below). \nhttps://www.facebook.com/kauaijcs
URL:https://kauaifestivals.com/festival/40th-kauai-matsuri-festival-2025/
LOCATION:United States
CATEGORIES:Featured Events,Island Happenings
ATTACH;FMTTYPE=image/jpeg:https://kauaifestivals.com/wp-content/uploads/2025/09/Matsuri-Ad-Final-September-22.jpg
END:VEVENT
BEGIN:VEVENT
DTSTART;TZID=Pacific/Honolulu:20251011T163000
DTEND;TZID=Pacific/Honolulu:20251011T203000
DTSTAMP:20260419T070821
CREATED:20250905T015933Z
LAST-MODIFIED:20250905T015933Z
UID:10015465-1760200200-1760214600@kauaifestivals.com
SUMMARY:PAWS for Celebration
DESCRIPTION:🎭 PAWS for Celebration 2025 – Laissez les bons temps rouler for the dogs and cats!🎭 \n \nThe Kaua‘i Humane Society is thrilled to invite you to our fourth annual onsite PAWS for Celebration gala — and this year\, we’re bringing the spirit of Mardi Gras to the shelter!\n\n📅 Date: Saturday\, October 11\, 2025 \n🕔 Time: 5:00 P.M. – 8:15 P.M. \n📍 Location: Kaua‘i Humane Society \n \nSlip into your most festive Mardi Gras attire and join us for an unforgettable evening of celebration\, music\, and compassion. As we reflect on our accomplishments and share our vision for the future of animal welfare on Kaua‘i\, you’ll enjoy:\n 🎶 Live music to get you grooving\n 🍽️ Delicious food and drinks\n 🐾 Meet-and-greets with some of our adorable shelter animals\n 🎁 Live and silent auctions with amazing items and experiences\n 🎉 Mardi Gras-themed fun and surprises all night long!\n\nDoors open at 5:00 P.M.\, and your ticket includes access to all the festivities. Can’t join us in person? No worries — our silent auction will also be available online so everyone can take part in the celebration and support our mission.\n\nWe can’t wait to celebrate with you and show how your support makes a difference for the animals of Kaua‘i.\nMark your calendars for Saturday\, October 11 — let the good times roll!
URL:https://kauaifestivals.com/festival/paws-for-celebration/
LOCATION:Kauai Humane Society\, Puhi\, HI\, United States
CATEGORIES:Featured Events,Island Happenings
ATTACH;FMTTYPE=image/jpeg:https://kauaifestivals.com/wp-content/uploads/2025/09/PAWS-2025-flyer.jpg
ORGANIZER;CN="Kauai%20Humane":MAILTO:suport@kauaihumane.org
GEO:21.9686111;-159.3994444
END:VEVENT
BEGIN:VEVENT
DTSTART;TZID=Pacific/Honolulu:20251012T110000
DTEND;TZID=Pacific/Honolulu:20251012T180000
DTSTAMP:20260419T070821
CREATED:20250403T161008Z
LAST-MODIFIED:20250403T161008Z
UID:10015067-1760266800-1760292000@kauaifestivals.com
SUMMARY:Kauai Comic Con
DESCRIPTION:The excitement is building as the highly anticipated Kauai Comic Con gears up to take place at the Kauai War Memorial Convention Hall on Sunday\, October 12\, 2025. \nBringing together comics\, movies\, TV\, anime\, toys\, art\, music\, tabletop\, cosplay and video games\, this event promises an unforgettable experience for attendees of all ages. \nIn addition to the special guests lineup and activities\, the Kauai Comic Con will feature a diverse array of vendors offering a wide range of merchandise and collectibles. From rare comics and action figures to unique artwork and handmade crafts\, attendees will have the opportunity to explore and purchase items from a variety of vendors. \nMoreover\, as this marks our fourth event\, it promises to be an exciting experience for both seasoned attendees and first-timers alike\, providing a unique chance to dive into pop culture and hang out with fellow fans. \nAttendees can also enjoy playing retro video games like Pac-Man\, Star Wars\, Dragon’s Lair\, and Street Fighter\, adding to the excitement of the event. \nWhile it’s delightful to see attendees in costumes\, it’s important to emphasize that dressing up is entirely optional. \nAttendees do not need to dress up in cosplay to attend; all are welcome to join in the festivities. \nFor further details\, please visit www.KauaiComicConvention.com. \nDon’t miss your chance to be part of this fun celebration of pop culture!
URL:https://kauaifestivals.com/festival/kauai-comic-con-2/
LOCATION:United States
CATEGORIES:Featured Events,Island Happenings
ATTACH;FMTTYPE=image/jpeg:https://kauaifestivals.com/wp-content/uploads/2025/04/KCC4.jpg
ORGANIZER;CN="aaron%20yamasato":MAILTO:ayamasato@gmail.com
END:VEVENT
BEGIN:VEVENT
DTSTART;TZID=Pacific/Honolulu:20251018T070000
DTEND;TZID=Pacific/Honolulu:20251018T150000
DTSTAMP:20260419T070821
CREATED:20251009T022248Z
LAST-MODIFIED:20251009T234333Z
UID:10015724-1760770800-1760799600@kauaifestivals.com
SUMMARY:Pōhaku Ka Pāpale – Giant Community Workday at Alakoko
DESCRIPTION:Mālama Hulē‘ia is hosting another huge community event\,  Pōhaku Ka Pāpale (To Set the Capstone) on October 18 at Alakoko fishpond\, continuing their multi-year effort to restore the Hulēʻia watershed and stabilize the fishpond’s kuapā (rock wall). The event follows the unforgettable 2023 gathering\, E Kū Ana Ka Paia (The Wall Will Stand)\, when an extraordinary wave of community members from across the pae ʻāina came together to set stones and breathe new life into the fishpond. This year’s event also coincides with Mālama Hulē‘ia’s tenth anniversary\, marking a decade of cultural and ecological restoration. \nThe October 18 workday will once again unite Hawaiian fishpond specialists\, kūpuna\, key partners\, trained staff\, and alakaʻi (guides) to lead community members of all skill levels in rebuilding and capping a section of the 2\,700-foot wall. Participants will experience the ancient Hawaiian practice of stonework—passing\, selecting\, and setting pōhaku side by side—while others join in a native planting activity to further restore the surrounding ecosystem. \nThis event’s registration is limited. Please sign up here to secure your spot.
URL:https://kauaifestivals.com/festival/pohaku-ka-papale-giant-community-workday-at-alakoko/
LOCATION:KCC Parking lot\, 3-1901 Kaumualii Hwy\, Lihue\, 96766
CATEGORIES:Featured Events,Island Happenings
ATTACH;FMTTYPE=image/jpeg:https://kauaifestivals.com/wp-content/uploads/2025/10/Pohaku-Ka-Papale-Flyer-revised-1-scaled.jpg
ORGANIZER;CN="Malama%20Hule%26%23039%3Bia":MAILTO:info@malamahuleia.org
GEO:21.9649126;-159.4213562
X-APPLE-STRUCTURED-LOCATION;VALUE=URI;X-ADDRESS=KCC Parking lot 3-1901 Kaumualii Hwy Lihue 96766;X-APPLE-RADIUS=500;X-TITLE=3-1901 Kaumualii Hwy:geo:-159.4213562,21.9649126
END:VEVENT
BEGIN:VEVENT
DTSTART;TZID=Pacific/Honolulu:20251018T100000
DTEND;TZID=Pacific/Honolulu:20251018T150000
DTSTAMP:20260419T070821
CREATED:20250920T215838Z
LAST-MODIFIED:20250920T215838Z
UID:10015535-1760781600-1760799600@kauaifestivals.com
SUMMARY:12th Annual Harvest Festival
DESCRIPTION:The 12th Annual Harvest Festival is scheduled for Saturday\, October 18\, 2025 from 10a-3p.  We have moved to the Hanapepe Athletic Field this year\, but the event remains the same. FREE admission\, FREE pumpkins\, FREE Rides\, FREE Water Slides\, FREE entertainment\, FREE plant starters and FREE parking!! \nMark your calendars!!
URL:https://kauaifestivals.com/festival/12th-annual-harvest-festival/
LOCATION:Hanapepe Soccer Fields\, 4431 Puolo Road\, Hanapepe\, HI\, 96716\, United States
CATEGORIES:Featured Events,Island Happenings
ATTACH;FMTTYPE=image/jpeg:https://kauaifestivals.com/wp-content/uploads/2025/09/Banner.jpg
ORGANIZER;CN="Hawaii%20Crop%20Improvement%20Association":MAILTO:treasurer@bettercropshawaii.com
GEO:21.9039435;-159.5938442
X-APPLE-STRUCTURED-LOCATION;VALUE=URI;X-ADDRESS=Hanapepe Soccer Fields 4431 Puolo Road Hanapepe HI 96716 United States;X-APPLE-RADIUS=500;X-TITLE=4431 Puolo Road:geo:-159.5938442,21.9039435
END:VEVENT
BEGIN:VEVENT
DTSTART;TZID=Pacific/Honolulu:20251019T100000
DTEND;TZID=Pacific/Honolulu:20251019T160000
DTSTAMP:20260419T070821
CREATED:20250908T181030Z
LAST-MODIFIED:20250910T002756Z
UID:10015463-1760868000-1760889600@kauaifestivals.com
SUMMARY:Kauaʻi Chocolate & Coffee Festival
DESCRIPTION:Mark your calendar for the 10th Kauaʻi Chocolate & Coffee Festival a celebration of all things chocolate and coffee with lots of sampling\, educational displays and workshops\, entertainment and exhibitor booths featuring a variety of chocolate and coffee products\, from around the state. The Kauaʻi Chocolate & Coffee Festival happens on Sunday\, October 19\, 2025 at Kilohana Plantation in the Luau Pavilion highlighting all the attributes of these two favorite local crops. \nThe festival takes place in Lihue Kauaʻi and includes\, informative presentations\, live entertainment\, a silent auction\, sampling and much more. Support provided by the Hawaiʻi Tourism Authority\, County of Kauaʻi\, Special Events Hawaiʻi\, and Kala Foundation. \nIf you require an auxiliary aid or other modification\, please call Amy Hammond at 808-223-6040 or email specialeventshawaii@gmail.com at least one week prior to event. \nWHEN: Sunday\, October 19\, 10 p.m. – 4 p.m. \nWHERE: Kilohana Plantation\, in the Luau Pavilion on the Island of Kauaʻi\, Hawaiʻi \nTICKETS: Ticket will be available in advance online and at the door\, while supplies last. \nFor more information and tickets visit www.KauaiChocolateandCoffeeFestival.com
URL:https://kauaifestivals.com/festival/kaua%ca%bbi-chocolate-coffee-festival/
LOCATION:Kilohana Luau Pavilion\, 3-2087 Kaumualii Hwy\, LIhue\, HI\, 96766\, United States
CATEGORIES:Featured Events,Island Happenings
ATTACH;FMTTYPE=image/jpeg:https://kauaifestivals.com/wp-content/uploads/2025/09/choc-scaled.jpg
ORGANIZER;CN="Special%20Events%20Hawaii":MAILTO:info@kauaichocolateandcoffeefestival.com
GEO:21.9718545;-159.3913163
X-APPLE-STRUCTURED-LOCATION;VALUE=URI;X-ADDRESS=Kilohana Luau Pavilion 3-2087 Kaumualii Hwy LIhue HI 96766 United States;X-APPLE-RADIUS=500;X-TITLE=3-2087 Kaumualii Hwy:geo:-159.3913163,21.9718545
END:VEVENT
BEGIN:VEVENT
DTSTART;TZID=Pacific/Honolulu:20251025T160000
DTEND;TZID=Pacific/Honolulu:20251025T200000
DTSTAMP:20260419T070821
CREATED:20250205T161410Z
LAST-MODIFIED:20250714T211223Z
UID:10014960-1761408000-1761422400@kauaifestivals.com
SUMMARY:Rice Street Block Party\, Downtown Līhuʻe
DESCRIPTION:Celebrate the Heart of Kauai in Downtown Līhuʻe with your family and friends. 3 live stages\, over 75 local vendors\, keiki zone\, and more. This free event is open to the public. \nRice Street and Kress Street will be closed from 2-10pm from Umi Street to Kalena Street. Event and public parking located on Hardy Street\, Umi Street\, Convention Hall\, and other public parking. Event will be from 4-8pm. \nPickleball Association of Kauai will be hosting a pickleball tournament – register at pakauai.org \nBrothers In Arms will be hosting a kickball tournament – register online at www.ricestreetblockparty.com
URL:https://kauaifestivals.com/festival/rice-street-block-party-downtown-lihu%ca%bbe/
LOCATION:Downtown Lihue\, Rice Street\, Lihue\, 96766
CATEGORIES:Featured Events,Island Happenings
ATTACH;FMTTYPE=image/png:https://kauaifestivals.com/wp-content/uploads/2025/02/2025-RSBP-9.png
ORGANIZER;CN="Rice%20Street%20Business%20Association":MAILTO:kauairsba@gmail.com
GEO:21.9696792;-159.3611073
X-APPLE-STRUCTURED-LOCATION;VALUE=URI;X-ADDRESS=Downtown Lihue Rice Street Lihue 96766;X-APPLE-RADIUS=500;X-TITLE=Rice Street:geo:-159.3611073,21.9696792
END:VEVENT
BEGIN:VEVENT
DTSTART;TZID=Pacific/Honolulu:20251031T180000
DTEND;TZID=Pacific/Honolulu:20251031T220000
DTSTAMP:20260419T070821
CREATED:20251020T224228Z
LAST-MODIFIED:20251020T224228Z
UID:10015729-1761933600-1761948000@kauaifestivals.com
SUMMARY:Haunted Tracks & Treats: A SPOOK-TACULAR HALLOWEEN EVENT!
DESCRIPTION:A family-friendly night to support our historic Kaipu train! \nJoin us for an evening of fun featuring festive trunks full of treats\, delicious pupu’s by Keoki’s Paradise\, and a haunted train ride through Grove Farm’s historic tracks. Costumes are encouraged\, fun guaranteed! \nTrunk or Treat:  6:00PM-7:00PM \nTrain Rides: 6:45PM-until pau! \nSuggested Donations: All proceeds support the preservation of Kaipu\, our beloved historic train and tracks! Donations accepted on site via cash or card. \n$20 – Trunk or Treat + Heavy Pupu’s \n$25 – Haunted Halloween Train Ride only \n$40 – All-In Boo Bundle: Trunk or Treat\, Heavy Pupu’s & Train Ride
URL:https://kauaifestivals.com/festival/haunted-tracks-treats-a-spook-tacular-halloween-event/
LOCATION:Grove Farm Museum\, 4050 Nawiliwili Road\, Lihue\, 96766
CATEGORIES:Featured Events,Island Happenings
ATTACH;FMTTYPE=image/jpeg:https://kauaifestivals.com/wp-content/uploads/2025/10/large-GroveFarm-Halloween2025-1080x1350-1.jpg
GEO:21.9678485;-159.3684304
X-APPLE-STRUCTURED-LOCATION;VALUE=URI;X-ADDRESS=Grove Farm Museum 4050 Nawiliwili Road Lihue 96766;X-APPLE-RADIUS=500;X-TITLE=4050 Nawiliwili Road:geo:-159.3684304,21.9678485
END:VEVENT
END:VCALENDAR