BEGIN:VCALENDAR
VERSION:2.0
PRODID:-//Kaua‘i Festivals &amp; Events - ECPv6.0.12//NONSGML v1.0//EN
CALSCALE:GREGORIAN
METHOD:PUBLISH
X-WR-CALNAME:Kaua‘i Festivals &amp; Events
X-ORIGINAL-URL:https://kauaifestivals.com
X-WR-CALDESC:Events for Kaua‘i Festivals &amp; Events
REFRESH-INTERVAL;VALUE=DURATION:PT1H
X-Robots-Tag:noindex
X-PUBLISHED-TTL:PT1H
BEGIN:VTIMEZONE
TZID:Pacific/Honolulu
BEGIN:STANDARD
TZOFFSETFROM:-1000
TZOFFSETTO:-1000
TZNAME:HST
DTSTART:20250101T000000
END:STANDARD
END:VTIMEZONE
BEGIN:VEVENT
DTSTART;TZID=Pacific/Honolulu:20250601T113000
DTEND;TZID=Pacific/Honolulu:20250601T153000
DTSTAMP:20260419T131610
CREATED:20250309T193919Z
LAST-MODIFIED:20250311T022847Z
UID:10015012-1748777400-1748791800@kauaifestivals.com
SUMMARY:33rd Annual Taste OF Hawaii
DESCRIPTION:Taste of Hawaii \, the ultimate Sunday Brunch. Presented by the Rotary Club of Kapa’a. All inclusive event features food from 25 chefs across the islands\, 10+ beverage providers and 10 musical groups. Stroll and Savor through the beautiful tropical gardens at Smiths’ Tropical Paradise in Wailua. All you can eat and drink. Purchase tickets at eventbrite.com or tasteofhawaii.net
URL:https://kauaifestivals.com/festival/33rd-annual-taste-of-hawaii/
LOCATION:Smith’s Tropical Paradise\, 3-5971 Kuhio Highway\, Kapaa\, HI\, 96746\, United States
CATEGORIES:Featured Events,Island Happenings
ATTACH;FMTTYPE=image/png:https://kauaifestivals.com/wp-content/uploads/2025/03/Taste-of-Hawaii-Event-Flyer-1.png
ORGANIZER;CN="Rotary%20Club%20of%20Kapaa":MAILTO:tasteofhawaiiofficial.net
GEO:22.0459522;-159.3404931
X-APPLE-STRUCTURED-LOCATION;VALUE=URI;X-ADDRESS=Smith’s Tropical Paradise 3-5971 Kuhio Highway Kapaa HI 96746 United States;X-APPLE-RADIUS=500;X-TITLE=3-5971 Kuhio Highway:geo:-159.3404931,22.0459522
END:VEVENT
BEGIN:VEVENT
DTSTART;TZID=Pacific/Honolulu:20250601T153000
DTEND;TZID=Pacific/Honolulu:20250601T210000
DTSTAMP:20260419T131610
CREATED:20250513T194549Z
LAST-MODIFIED:20250513T194549Z
UID:10015296-1748791800-1748811600@kauaifestivals.com
SUMMARY:Na Hula O Kaohikukapulani Hula Hoʻike 2025
DESCRIPTION:Kamanawa Foundation presents Na Hula Kaohikukapulaniʻs Annual Hula Hoʻike 2025. Under the direction of Kumu Hula Kapu Kinimaka-Alquiza\, the dancers and musicians of Na Hula O Kaohikukapulani will offer a variety of dance and musical presentations ranging from kahiko (traditional style) to auana (contemporary styling) and the dances of Polynesia. \nThere will be a craft fair\, bake sale and foods sale starting at 3:30 p.m.\, door prizes\, and a Las Vegas Trip for 2 Giveaway! Tickets can be purchased in advance from our current students for $35 or will be available at the door for $45. Please contact Devi for tickets and more information at (808) 482-0671
URL:https://kauaifestivals.com/festival/na-hula-o-kaohikukapulani-hula-ho%ca%bbike-2025/
LOCATION:United States
CATEGORIES:Featured Events,Island Happenings
ATTACH;FMTTYPE=image/jpeg:https://kauaifestivals.com/wp-content/uploads/2025/05/BD6A30C6-018A-4862-BB1D-8DCA538C1EB2_1_102_o.jpeg
ORGANIZER;CN="Kamanawa%20Foundation":MAILTO:kumukapu@gmail.com
END:VEVENT
BEGIN:VEVENT
DTSTART;TZID=Pacific/Honolulu:20250607T100000
DTEND;TZID=Pacific/Honolulu:20250607T140000
DTSTAMP:20260419T131610
CREATED:20250522T061220Z
LAST-MODIFIED:20250522T061220Z
UID:10015304-1749290400-1749304800@kauaifestivals.com
SUMMARY:Kaua'i Pride Parade & Festival - Saturday June 7\, 2025
DESCRIPTION:The 7th annual Kaua’i Pride Parade is taking place on Saturday June 7\, 2025 in Līhu’e. The parade will be on Rice St at 10AM from Vidinha Stadium to the Historic County Building Lawn\, followed by a festival on the lawn from 11AM-2PM. There will be live entertainment\, food trucks & refreshments\, small business vendors\, community resources and more! This is an all-ages and family-friendly event to celebrate and uplift our LGBTQ+ & māhū ‘ohana.
URL:https://kauaifestivals.com/festival/kauai-pride-parade-festival-saturday-june-7-2025/
LOCATION:Historic County Lawn\, 4396 Rice St\, Lihue\, HI\, 96766\, United States
CATEGORIES:Featured Events,Island Happenings
ATTACH;FMTTYPE=image/png:https://kauaifestivals.com/wp-content/uploads/2025/05/2025-Kauai-Pride-Parade-8.5-×-11-in-1.png
ORGANIZER;CN="Kaua%27i%20Pride%20Parade":MAILTO:matthew@ywcakauai.org
GEO:21.9751055;-159.3672007
X-APPLE-STRUCTURED-LOCATION;VALUE=URI;X-ADDRESS=Historic County Lawn 4396 Rice St Lihue HI 96766 United States;X-APPLE-RADIUS=500;X-TITLE=4396 Rice St:geo:-159.3672007,21.9751055
END:VEVENT
BEGIN:VEVENT
DTSTART;TZID=Pacific/Honolulu:20250614T150000
DTEND;TZID=Pacific/Honolulu:20250614T200000
DTSTAMP:20260419T131610
CREATED:20250428T031058Z
LAST-MODIFIED:20250428T031058Z
UID:10015105-1749913200-1749931200@kauaifestivals.com
SUMMARY:5th Annual Kauai Poke Fest
DESCRIPTION:The fifth annualKaua‘i Poke Fest\, named one of the top ten food festivals in America\, is set to take place on June 13 & 14\, 2025. For the first time\, the annual festival will be a two-day event kicking off with an intimate celebrity chef dining experience\, the Poke Masters’ Table\, on Friday\, June 13\, 2025\, at 6 p.m. followed by the main festival on June 14\, 2025\, from 3 – 7 p.m. \nThis highly-anticipated celebration of Hawai‘i’s famous dish includes a live competition between professional and amateur chefs incorporating more than 1\,000 pounds of premium ahi tuna\, live Hawaiian entertainment\, food and drinks\, and a poke-making demonstration by James Beard Award-winning Chef Sam Choy. Proceeds will support Kaua‘i nonprofit organizations. Competition applications\, room packages and additional details are available at KauaiPokeFest.com. \nNew This Year: Poke Masters’ Table Celebrity Chef Experience \nFor the first time\, the Kaua‘i Poke Fest will kick-off with an intimate celebrity chef experience\, Poke Masters’ Table\, featuring 5 courses presented by Chef Sam Choy and renowned celebrity chefs on Friday\, June 13\, 2025 at 6 p.m.
URL:https://kauaifestivals.com/festival/5th-annual-kauai-poke-fest/
LOCATION:Koloa Landing Resort\, 2641 Poipu Rd\, Koloa\, 96756\, United States
CATEGORIES:Featured Events,Island Happenings
ATTACH;FMTTYPE=image/jpeg:https://kauaifestivals.com/wp-content/uploads/2025/04/Poke-Fest-2024-Winner.jpg
ORGANIZER;CN="koloa%20landing%20resort":MAILTO:info@kauaipokefest.com
GEO:21.8801827;-159.4664303
X-APPLE-STRUCTURED-LOCATION;VALUE=URI;X-ADDRESS=Koloa Landing Resort 2641 Poipu Rd Koloa 96756 United States;X-APPLE-RADIUS=500;X-TITLE=2641 Poipu Rd:geo:-159.4664303,21.8801827
END:VEVENT
BEGIN:VEVENT
DTSTART;TZID=Pacific/Honolulu:20250621T090000
DTEND;TZID=Pacific/Honolulu:20250621T120000
DTSTAMP:20260419T131610
CREATED:20250611T164415Z
LAST-MODIFIED:20250611T164415Z
UID:10015323-1750496400-1750507200@kauaifestivals.com
SUMMARY:4th Annual Touch-A-Truck
DESCRIPTION:The Kaua‘i Police Department will host the fourth annual Touch-A-Truck event on Saturday\, June 21\, from 9:00 a.m. to 12:00 p.m. The event is free and will be held at the Vidinha Stadium parking lot in Līhu‘e. \nTouch-A-Truck is a community wide event where both kids and kids at heart can see\, touch and learn about vehicles of all types. Discover and explore a variety of vehicles including a fire engine\, a sanitation truck\, a dump truck\, a police car and more. Attendees will have the opportunity to learn about the unique functions of each vehicle and get to meet the people who operate them.
URL:https://kauaifestivals.com/festival/4th-annual-touch-a-truck/
LOCATION:Vidinha Stadium\, Hoolako Street\, Lihue\, HI\, 96766\, United States
CATEGORIES:Featured Events,Island Happenings
ATTACH;FMTTYPE=image/jpeg:https://kauaifestivals.com/wp-content/uploads/2025/06/TAT-2025.jpg
GEO:21.9811111;-159.3711111
X-APPLE-STRUCTURED-LOCATION;VALUE=URI;X-ADDRESS=Vidinha Stadium Hoolako Street Lihue HI 96766 United States;X-APPLE-RADIUS=500;X-TITLE=Hoolako Street:geo:-159.3711111,21.9811111
END:VEVENT
END:VCALENDAR