BEGIN:VCALENDAR
VERSION:2.0
PRODID:-//Kaua‘i Festivals &amp; Events - ECPv6.0.12//NONSGML v1.0//EN
CALSCALE:GREGORIAN
METHOD:PUBLISH
X-WR-CALNAME:Kaua‘i Festivals &amp; Events
X-ORIGINAL-URL:https://kauaifestivals.com
X-WR-CALDESC:Events for Kaua‘i Festivals &amp; Events
REFRESH-INTERVAL;VALUE=DURATION:PT1H
X-Robots-Tag:noindex
X-PUBLISHED-TTL:PT1H
BEGIN:VTIMEZONE
TZID:Pacific/Honolulu
BEGIN:STANDARD
TZOFFSETFROM:-1000
TZOFFSETTO:-1000
TZNAME:HST
DTSTART:20260101T000000
END:STANDARD
END:VTIMEZONE
BEGIN:VEVENT
DTSTART;TZID=Pacific/Honolulu:20260213T100000
DTEND;TZID=Pacific/Honolulu:20260225T170000
DTSTAMP:20260419T032826
CREATED:20251001T220648Z
LAST-MODIFIED:20251001T220648Z
UID:10015708-1770976800-1772038800@kauaifestivals.com
SUMMARY:KAUA'I QUILT SHOW AND BOUTIQUE 2026
DESCRIPTION:The 2026 Kaua’i Quilt Show and Boutique is a FREE event that runs from February 13th through February 25 and is open daily from 10AM to 5PM.  It is located in the Kaua’i Society of Artists Gallery (in the centre of the mall behind Long’s Drugs and the Keiki Play Area) of the Kukui Grove Shopping Center in Lihue. \nThere will be a Meet the Quilters Reception on Friday the 13th from 5-7 PM.  Come meet the quilters\, talk story\, learn about quilt making and enjoy light pupu. \nSponsored by the Kaua’i Quilt Guild\, Nene Quilters\, Discount Fabric Warehouse and Vicky’s Fabrics\, this year’s event is our 21st Annual Quilt Show. \nThere will be •  Designated donation quilts for sale with 100% of the proceeds to go to a Kaua’i non-profit of the buyers choice. •  Over 70 quilts made by Kaua’i residents on display\, many for sale  •. The Boutique is in a pop-up shop at the Mall with an amazing variety of locally hand crafted items. •. Credit cards accepted. •.Ongoing workshops/classes during the show. •.  Vote for “Viewer’s Choice 2026” \nFacebook and Instagram @kauaiquiltshow \n 
URL:https://kauaifestivals.com/festival/kauai-quilt-show-and-boutique-2026/
LOCATION:KSA Gallery\, Kukui Grove Shopping Center\, 3-2600 Kaumualii Hwy.\, Lihue\, 96766
CATEGORIES:Island Happenings
ATTACH;FMTTYPE=image/jpeg:https://kauaifestivals.com/wp-content/uploads/2025/09/KQS-Postcard-2026-1-scaled.jpeg
ORGANIZER;CN="Kauai%20Quilt%20Show%3ANene%20Quilters%20%26amp%3B%20Kauai%20Quilt%20Guild":MAILTO:leaingram.artist@gmail.com
GEO:21.969756;-159.3786872
X-APPLE-STRUCTURED-LOCATION;VALUE=URI;X-ADDRESS=KSA Gallery Kukui Grove Shopping Center 3-2600 Kaumualii Hwy. Lihue 96766;X-APPLE-RADIUS=500;X-TITLE=3-2600 Kaumualii Hwy.:geo:-159.3786872,21.969756
END:VEVENT
BEGIN:VEVENT
DTSTART;VALUE=DATE:20260220
DTEND;VALUE=DATE:20260222
DTSTAMP:20260419T032826
CREATED:20250131T021905Z
LAST-MODIFIED:20251230T041137Z
UID:10016101-1771545600-1771718399@kauaifestivals.com
SUMMARY:49th Annual Waimea Town Celebration Ho`olaulea
DESCRIPTION:49th Annual Waimea Town Celebration Ho`olaulea at the Old Waimea Mill –  Enjoy 22 hours of FREE admission & entertainment\, plus delicious food booths\, unique craft vendors\, fun Keiki rides\, and the Island Distributing and Koloa Rum Beer Garden! Don’t miss out on the excitement!
URL:https://kauaifestivals.com/festival/48th-annual-waimea-town-celebration-hoolaulea/2026-02-20/
LOCATION:Waimea Old Sugar Mill\, 9630 Kaumualii Hwy\, Waimea\, 96796
CATEGORIES:Island Happenings
ATTACH;FMTTYPE=image/png:https://kauaifestivals.com/wp-content/uploads/2025/01/wtc-1.png
ORGANIZER;CN="Historic%20Waimea%20Theater%20and%20Cultural%20Arts%20Center":MAILTO:historicwaimeatheater@gmail.com
GEO:21.9570345;-159.6717038
X-APPLE-STRUCTURED-LOCATION;VALUE=URI;X-ADDRESS=Waimea Old Sugar Mill 9630 Kaumualii Hwy Waimea 96796;X-APPLE-RADIUS=500;X-TITLE=9630 Kaumualii Hwy:geo:-159.6717038,21.9570345
END:VEVENT
BEGIN:VEVENT
DTSTART;TZID=Pacific/Honolulu:20260220T150000
DTEND;TZID=Pacific/Honolulu:20260220T190000
DTSTAMP:20260419T032826
CREATED:20250918T193630Z
LAST-MODIFIED:20250918T193800Z
UID:10015502-1771599600-1771614000@kauaifestivals.com
SUMMARY:Kauai Beach Resort Kauai Made Craft Fair Fridays
DESCRIPTION:🌺 Kaua‘i Beach Resort Craft FairJoin us every Friday at the beautiful Kaua‘i Beach Resort for our weekly Craft Fair. \nDiscover unique handmade items\, local crafts\, jewelry\, art\, and island-inspired treasures created by talented Kaua‘i artisans. It’s the perfect place to find gifts\, keepsakes\, or something special just for you—all while supporting our local makers. \n🗓️ Every Friday📍 Kaua‘i Beach Resort \nCome shop\, connect\, and experience the creativity of Kaua‘i! 🌴✨
URL:https://kauaifestivals.com/festival/kauai-beach-resort-kauai-made-craft-fair-fridays/2026-02-20/
LOCATION:Outrigger Kaua’i Beach Resort & Spa\, 4331 Kauai Beach Dr.\, Lihue\, HI\, 96766\, United States
CATEGORIES:Island Happenings
ATTACH;FMTTYPE=image/jpeg:https://kauaifestivals.com/wp-content/uploads/2025/09/25-0264-KBR-Kauai-Made-Weekly-Craft-Fair-2-No-Date-V.jpg
ORGANIZER;CN="Kauai%20Made":MAILTO:kauaimade@kauai.gov
GEO:22.0099781;-159.3371893
X-APPLE-STRUCTURED-LOCATION;VALUE=URI;X-ADDRESS=Outrigger Kaua’i Beach Resort & Spa 4331 Kauai Beach Dr. Lihue HI 96766 United States;X-APPLE-RADIUS=500;X-TITLE=4331 Kauai Beach Dr.:geo:-159.3371893,22.0099781
END:VEVENT
BEGIN:VEVENT
DTSTART;TZID=Pacific/Honolulu:20260220T170000
DTEND;TZID=Pacific/Honolulu:20260220T200000
DTSTAMP:20260419T032826
CREATED:20260128T191633Z
LAST-MODIFIED:20260128T191633Z
UID:10016247-1771606800-1771617600@kauaifestivals.com
SUMMARY:Aloha Friday Art Nights at Hale Līhuʻe
DESCRIPTION:Every Friday artist from all arts come together to do art. From sip and paint\, open mic\, writers garden\, you name it. All is welcomed. Food and drink available for purchase. \nSpecial classes require early sign up and change according to each week. Visit our instagram at @halelihue \nMahalo @UluponoInitiative for being our Title Sponsor.
URL:https://kauaifestivals.com/festival/aloha-friday-art-nights-at-hale-lihu%ca%bbe/2026-02-20/
LOCATION:Hale Lihue\, 4286 Rice Street\, Lihue\, HI\, 96766\, United States
CATEGORIES:Island Happenings
ATTACH;FMTTYPE=image/png:https://kauaifestivals.com/wp-content/uploads/2026/01/Every-Friday.png
ORGANIZER;CN="Rice%20Street%20Business%20Association":MAILTO:kauairsba@gmail.com
GEO:21.9728519;-159.365047
X-APPLE-STRUCTURED-LOCATION;VALUE=URI;X-ADDRESS=Hale Lihue 4286 Rice Street Lihue HI 96766 United States;X-APPLE-RADIUS=500;X-TITLE=4286 Rice Street:geo:-159.365047,21.9728519
END:VEVENT
BEGIN:VEVENT
DTSTART;VALUE=DATE:20260220
DTEND;VALUE=DATE:20260222
DTSTAMP:20260419T032826
CREATED:20250131T021905Z
LAST-MODIFIED:20251230T041137Z
UID:10016102-1771606800-1771632000@kauaifestivals.com
SUMMARY:49th Annual Waimea Town Celebration Ho`olaulea
DESCRIPTION:49th Annual Waimea Town Celebration Ho`olaulea at the Old Waimea Mill –  Enjoy 22 hours of FREE admission & entertainment\, plus delicious food booths\, unique craft vendors\, fun Keiki rides\, and the Island Distributing and Koloa Rum Beer Garden! Don’t miss out on the excitement!
URL:https://kauaifestivals.com/festival/48th-annual-waimea-town-celebration-hoolaulea/2026-02-20/
LOCATION:Waimea Old Sugar Mill\, 9630 Kaumualii Hwy\, Waimea\, 96796
CATEGORIES:Island Happenings
ATTACH;FMTTYPE=image/png:https://kauaifestivals.com/wp-content/uploads/2025/01/wtc-1.png
ORGANIZER;CN="Historic%20Waimea%20Theater%20and%20Cultural%20Arts%20Center":MAILTO:historicwaimeatheater@gmail.com
GEO:21.9570345;-159.6717038
X-APPLE-STRUCTURED-LOCATION;VALUE=URI;X-ADDRESS=Waimea Old Sugar Mill 9630 Kaumualii Hwy Waimea 96796;X-APPLE-RADIUS=500;X-TITLE=9630 Kaumualii Hwy:geo:-159.6717038,21.9570345
END:VEVENT
END:VCALENDAR