BEGIN:VCALENDAR
VERSION:2.0
PRODID:-//Kaua‘i Festivals &amp; Events - ECPv6.0.12//NONSGML v1.0//EN
CALSCALE:GREGORIAN
METHOD:PUBLISH
X-ORIGINAL-URL:https://kauaifestivals.com
X-WR-CALDESC:Events for Kaua‘i Festivals &amp; Events
REFRESH-INTERVAL;VALUE=DURATION:PT1H
X-Robots-Tag:noindex
X-PUBLISHED-TTL:PT1H
BEGIN:VTIMEZONE
TZID:Pacific/Honolulu
BEGIN:STANDARD
TZOFFSETFROM:-1000
TZOFFSETTO:-1000
TZNAME:HST
DTSTART:20260101T000000
END:STANDARD
END:VTIMEZONE
BEGIN:VEVENT
DTSTART;TZID=Pacific/Honolulu:20260202T120000
DTEND;TZID=Pacific/Honolulu:20260209T180000
DTSTAMP:20260419T033840
CREATED:20260108T025927Z
LAST-MODIFIED:20260108T025927Z
UID:10016119-1770033600-1770660000@kauaifestivals.com
SUMMARY:Hawaii Art Exhibit by Bro Halff
DESCRIPTION:Join us as local artist Bro Halff presents his vision of Hawaiʻi\, through vibrant paintings depicting Hawaiʻi landscapes\, townscapes\, and cityscapes. The exhibit is free and open to all ages.  
URL:https://kauaifestivals.com/festival/hawaii-art-exhibit-by-bro-halff/
LOCATION:Kauai Society of Artists\, 2600 Kaumualii Hwy #3\, Lihue\, 96766
CATEGORIES:Island Happenings
ATTACH;FMTTYPE=image/jpeg:https://kauaifestivals.com/wp-content/uploads/2026/01/by-Bro-Halff-January-6th-13th-2.jpg
ORGANIZER;CN="Kauai%20Society%20of%20Artist":MAILTO:lucidhawaii@mac.com
GEO:21.969756;-159.3786872
X-APPLE-STRUCTURED-LOCATION;VALUE=URI;X-ADDRESS=Kauai Society of Artists 2600 Kaumualii Hwy #3 Lihue 96766;X-APPLE-RADIUS=500;X-TITLE=2600 Kaumualii Hwy #3:geo:-159.3786872,21.969756
END:VEVENT
BEGIN:VEVENT
DTSTART;TZID=Pacific/Honolulu:20260209T090000
DTEND;TZID=Pacific/Honolulu:20260209T120000
DTSTAMP:20260419T033840
CREATED:20251225T193229Z
LAST-MODIFIED:20251225T193229Z
UID:10016031-1770627600-1770638400@kauaifestivals.com
SUMMARY:Coffee and Play for Keiki at Hale Līhuʻe x Hā Coffee
DESCRIPTION:Bring your keiki for softplay\, games\, and books. Open to all. Free entry with purchase of $10 or more.
URL:https://kauaifestivals.com/festival/coffee-and-play-for-keiki-at-hale-lihu%ca%bbe-x-ha-coffee/2026-02-09/
LOCATION:Hale Lihue\, 4286 Rice Street\, Lihue\, HI\, 96766\, United States
CATEGORIES:Island Happenings
ATTACH;FMTTYPE=image/png:https://kauaifestivals.com/wp-content/uploads/2025/12/Monday_PopUp-1.png
ORGANIZER;CN="Rice%20Street%20Business%20Association":MAILTO:kauairsba@gmail.com
GEO:21.9728519;-159.365047
X-APPLE-STRUCTURED-LOCATION;VALUE=URI;X-ADDRESS=Hale Lihue 4286 Rice Street Lihue HI 96766 United States;X-APPLE-RADIUS=500;X-TITLE=4286 Rice Street:geo:-159.365047,21.9728519
END:VEVENT
BEGIN:VEVENT
DTSTART;TZID=Pacific/Honolulu:20260209T180000
DTEND;TZID=Pacific/Honolulu:20260209T203000
DTSTAMP:20260419T033840
CREATED:20260112T164730Z
LAST-MODIFIED:20260119T035321Z
UID:10016124-1770660000-1770669000@kauaifestivals.com
SUMMARY:E KANIKAPILA KAKOU 2026:  Week 2 ~  KULĀIWI
DESCRIPTION:Nā Hōkū Hanohano award winning group Kulāiwi is comprised of Lehua Kalima\, Shawn Pimental and Kawika Kahiapo\, all veterans of the Hawaiʻi music industry\, with hula stylings of hula dancer extraordinare Pono Fernandez. They formed Kulāiwi with the hopes of reconnecting kānaka to ʻāina through mele\, moʻolelo and hula; their music will touch your soul. I ola ka lāhui Hawaiʻi!   Tickets:
URL:https://kauaifestivals.com/festival/e-kanikapila-kakou-2026-week-2-kulaiwi/
LOCATION:Kauai Community College  Performing Arts Center\, 3-1901 Kaumualii Hwy\, Lihue\, HI\, 96766\, United States
CATEGORIES:Featured Events,Island Happenings
ATTACH;FMTTYPE=image/png:https://kauaifestivals.com/wp-content/uploads/2026/01/EKK-ʻ26-wk2-1.png
ORGANIZER;CN="Garden%20Island%20Arts%20Council":MAILTO:giac05@icloud.com
GEO:21.9649666;-159.421386
X-APPLE-STRUCTURED-LOCATION;VALUE=URI;X-ADDRESS=Kauai Community College  Performing Arts Center 3-1901 Kaumualii Hwy Lihue HI 96766 United States;X-APPLE-RADIUS=500;X-TITLE=3-1901 Kaumualii Hwy:geo:-159.421386,21.9649666
END:VEVENT
END:VCALENDAR