BEGIN:VCALENDAR
VERSION:2.0
PRODID:-//Kaua‘i Festivals &amp; Events - ECPv6.0.12//NONSGML v1.0//EN
CALSCALE:GREGORIAN
METHOD:PUBLISH
X-WR-CALNAME:Kaua‘i Festivals &amp; Events
X-ORIGINAL-URL:https://kauaifestivals.com
X-WR-CALDESC:Events for Kaua‘i Festivals &amp; Events
REFRESH-INTERVAL;VALUE=DURATION:PT1H
X-Robots-Tag:noindex
X-PUBLISHED-TTL:PT1H
BEGIN:VTIMEZONE
TZID:Pacific/Honolulu
BEGIN:STANDARD
TZOFFSETFROM:-1000
TZOFFSETTO:-1000
TZNAME:HST
DTSTART:20260101T000000
END:STANDARD
END:VTIMEZONE
BEGIN:VEVENT
DTSTART;TZID=Pacific/Honolulu:20260109T150000
DTEND;TZID=Pacific/Honolulu:20260109T190000
DTSTAMP:20260419T051057
CREATED:20250918T193630Z
LAST-MODIFIED:20250918T193800Z
UID:10015496-1767970800-1767985200@kauaifestivals.com
SUMMARY:Kauai Beach Resort Kauai Made Craft Fair Fridays
DESCRIPTION:🌺 Kaua‘i Beach Resort Craft FairJoin us every Friday at the beautiful Kaua‘i Beach Resort for our weekly Craft Fair. \nDiscover unique handmade items\, local crafts\, jewelry\, art\, and island-inspired treasures created by talented Kaua‘i artisans. It’s the perfect place to find gifts\, keepsakes\, or something special just for you—all while supporting our local makers. \n🗓️ Every Friday📍 Kaua‘i Beach Resort \nCome shop\, connect\, and experience the creativity of Kaua‘i! 🌴✨
URL:https://kauaifestivals.com/festival/kauai-beach-resort-kauai-made-craft-fair-fridays/2026-01-09/
LOCATION:Outrigger Kaua’i Beach Resort & Spa\, 4331 Kauai Beach Dr.\, Lihue\, HI\, 96766\, United States
CATEGORIES:Island Happenings
ATTACH;FMTTYPE=image/jpeg:https://kauaifestivals.com/wp-content/uploads/2025/09/25-0264-KBR-Kauai-Made-Weekly-Craft-Fair-2-No-Date-V.jpg
ORGANIZER;CN="Kauai%20Made":MAILTO:kauaimade@kauai.gov
GEO:22.0099781;-159.3371893
X-APPLE-STRUCTURED-LOCATION;VALUE=URI;X-ADDRESS=Outrigger Kaua’i Beach Resort & Spa 4331 Kauai Beach Dr. Lihue HI 96766 United States;X-APPLE-RADIUS=500;X-TITLE=4331 Kauai Beach Dr.:geo:-159.3371893,22.0099781
END:VEVENT
BEGIN:VEVENT
DTSTART;TZID=Pacific/Honolulu:20260109T170000
DTEND;TZID=Pacific/Honolulu:20260109T200000
DTSTAMP:20260419T051057
CREATED:20251204T003105Z
LAST-MODIFIED:20251204T003105Z
UID:10015891-1767978000-1767988800@kauaifestivals.com
SUMMARY:Writerʻs Garden Featured Speaker\, Megan Kakimoto
DESCRIPTION:Free to attend\, meet author Megan Kakimoto\, learn about her writing journey\, do some working prompts\, and enjoy some food and beverage.
URL:https://kauaifestivals.com/festival/writer%ca%bbs-garden-featured-speaker-megan-kakimoto/
LOCATION:Hale Lihue\, 4286 Rice Street\, Lihue\, HI\, 96766\, United States
CATEGORIES:Island Happenings
ATTACH;FMTTYPE=image/png:https://kauaifestivals.com/wp-content/uploads/2025/12/Jan9Fri_MeganKakimoto-2.png
ORGANIZER;CN="Rice%20Street%20Business%20Association":MAILTO:kauairsba@gmail.com
GEO:21.9728519;-159.365047
X-APPLE-STRUCTURED-LOCATION;VALUE=URI;X-ADDRESS=Hale Lihue 4286 Rice Street Lihue HI 96766 United States;X-APPLE-RADIUS=500;X-TITLE=4286 Rice Street:geo:-159.365047,21.9728519
END:VEVENT
END:VCALENDAR