BEGIN:VCALENDAR
VERSION:2.0
PRODID:-//Kaua‘i Festivals &amp; Events - ECPv6.0.12//NONSGML v1.0//EN
CALSCALE:GREGORIAN
METHOD:PUBLISH
X-ORIGINAL-URL:https://kauaifestivals.com
X-WR-CALDESC:Events for Kaua‘i Festivals &amp; Events
REFRESH-INTERVAL;VALUE=DURATION:PT1H
X-Robots-Tag:noindex
X-PUBLISHED-TTL:PT1H
BEGIN:VTIMEZONE
TZID:Pacific/Honolulu
BEGIN:STANDARD
TZOFFSETFROM:-1000
TZOFFSETTO:-1000
TZNAME:HST
DTSTART:20250101T000000
END:STANDARD
END:VTIMEZONE
BEGIN:VEVENT
DTSTART;TZID=Pacific/Honolulu:20251219T150000
DTEND;TZID=Pacific/Honolulu:20251219T190000
DTSTAMP:20260419T052929
CREATED:20250918T193630Z
LAST-MODIFIED:20250918T193800Z
UID:10015493-1766156400-1766170800@kauaifestivals.com
SUMMARY:Kauai Beach Resort Kauai Made Craft Fair Fridays
DESCRIPTION:🌺 Kaua‘i Beach Resort Craft FairJoin us every Friday at the beautiful Kaua‘i Beach Resort for our weekly Craft Fair. \nDiscover unique handmade items\, local crafts\, jewelry\, art\, and island-inspired treasures created by talented Kaua‘i artisans. It’s the perfect place to find gifts\, keepsakes\, or something special just for you—all while supporting our local makers. \n🗓️ Every Friday📍 Kaua‘i Beach Resort \nCome shop\, connect\, and experience the creativity of Kaua‘i! 🌴✨
URL:https://kauaifestivals.com/festival/kauai-beach-resort-kauai-made-craft-fair-fridays/2025-12-19/
LOCATION:Outrigger Kaua’i Beach Resort & Spa\, 4331 Kauai Beach Dr.\, Lihue\, HI\, 96766\, United States
CATEGORIES:Island Happenings
ATTACH;FMTTYPE=image/jpeg:https://kauaifestivals.com/wp-content/uploads/2025/09/25-0264-KBR-Kauai-Made-Weekly-Craft-Fair-2-No-Date-V.jpg
ORGANIZER;CN="Kauai%20Made":MAILTO:kauaimade@kauai.gov
GEO:22.0099781;-159.3371893
X-APPLE-STRUCTURED-LOCATION;VALUE=URI;X-ADDRESS=Outrigger Kaua’i Beach Resort & Spa 4331 Kauai Beach Dr. Lihue HI 96766 United States;X-APPLE-RADIUS=500;X-TITLE=4331 Kauai Beach Dr.:geo:-159.3371893,22.0099781
END:VEVENT
BEGIN:VEVENT
DTSTART;TZID=Pacific/Honolulu:20251219T183000
DTEND;TZID=Pacific/Honolulu:20251220T210000
DTSTAMP:20260419T052929
CREATED:20251210T010424Z
LAST-MODIFIED:20251210T010424Z
UID:10015964-1766169000-1766264400@kauaifestivals.com
SUMMARY:Chamber Music Kauai presents “A Classical/Christmas Concert”
DESCRIPTION:Chamber Music Kauai will present two classical music concerts with a Christmas theme. See attached image for details…
URL:https://kauaifestivals.com/festival/chamber-music-kauai-presents-a-classical-christmas-concert/2025-12-19/
LOCATION:St. Michael’s Church\, Lihue\, HI\, 96766\, United States
CATEGORIES:Island Happenings
ATTACH;FMTTYPE=image/jpeg:https://kauaifestivals.com/wp-content/uploads/2025/12/FLYER-2025-CONCERTS-FOR-WEBSITE-AND-VP-jpg-5.jpg
ORGANIZER;CN="Kauai%20Community%20College%20Music%20Department%2C%20Greg%20Shepherd":MAILTO:shep@hawaii.edu
GEO:21.9811111;-159.3711111
END:VEVENT
END:VCALENDAR