BEGIN:VCALENDAR
VERSION:2.0
PRODID:-//Kaua‘i Festivals &amp; Events - ECPv6.0.12//NONSGML v1.0//EN
CALSCALE:GREGORIAN
METHOD:PUBLISH
X-ORIGINAL-URL:https://kauaifestivals.com
X-WR-CALDESC:Events for Kaua‘i Festivals &amp; Events
REFRESH-INTERVAL;VALUE=DURATION:PT1H
X-Robots-Tag:noindex
X-PUBLISHED-TTL:PT1H
BEGIN:VTIMEZONE
TZID:Pacific/Honolulu
BEGIN:STANDARD
TZOFFSETFROM:-1000
TZOFFSETTO:-1000
TZNAME:HST
DTSTART:20250101T000000
END:STANDARD
END:VTIMEZONE
BEGIN:VEVENT
DTSTART;TZID=Pacific/Honolulu:20251128T150000
DTEND;TZID=Pacific/Honolulu:20251128T190000
DTSTAMP:20260419T035625
CREATED:20250918T193630Z
LAST-MODIFIED:20250918T193800Z
UID:10015490-1764342000-1764356400@kauaifestivals.com
SUMMARY:Kauai Beach Resort Kauai Made Craft Fair Fridays
DESCRIPTION:🌺 Kaua‘i Beach Resort Craft FairJoin us every Friday at the beautiful Kaua‘i Beach Resort for our weekly Craft Fair. \nDiscover unique handmade items\, local crafts\, jewelry\, art\, and island-inspired treasures created by talented Kaua‘i artisans. It’s the perfect place to find gifts\, keepsakes\, or something special just for you—all while supporting our local makers. \n🗓️ Every Friday📍 Kaua‘i Beach Resort \nCome shop\, connect\, and experience the creativity of Kaua‘i! 🌴✨
URL:https://kauaifestivals.com/festival/kauai-beach-resort-kauai-made-craft-fair-fridays/2025-11-28/
LOCATION:Outrigger Kaua’i Beach Resort & Spa\, 4331 Kauai Beach Dr.\, Lihue\, HI\, 96766\, United States
CATEGORIES:Island Happenings
ATTACH;FMTTYPE=image/jpeg:https://kauaifestivals.com/wp-content/uploads/2025/09/25-0264-KBR-Kauai-Made-Weekly-Craft-Fair-2-No-Date-V.jpg
ORGANIZER;CN="Kauai%20Made":MAILTO:kauaimade@kauai.gov
GEO:22.0099781;-159.3371893
X-APPLE-STRUCTURED-LOCATION;VALUE=URI;X-ADDRESS=Outrigger Kaua’i Beach Resort & Spa 4331 Kauai Beach Dr. Lihue HI 96766 United States;X-APPLE-RADIUS=500;X-TITLE=4331 Kauai Beach Dr.:geo:-159.3371893,22.0099781
END:VEVENT
BEGIN:VEVENT
DTSTART;TZID=Pacific/Honolulu:20251128T170000
DTEND;TZID=Pacific/Honolulu:20251128T210000
DTSTAMP:20260419T035625
CREATED:20251103T034933Z
LAST-MODIFIED:20251103T050248Z
UID:10015755-1764349200-1764363600@kauaifestivals.com
SUMMARY:Lā Kūʻokoʻa Hoʻolauleʻa
DESCRIPTION:Join us at @halelihue for some ‘ono food\, drinks + ‘awa\, and some sweet Hawaiian music by @palalamanallc @kalikomaii @waipuilanimusic all in celebration of #lakūokoa. \nMore details to come:) \nVisit downtownlihue.com
URL:https://kauaifestivals.com/festival/la-ku%ca%bboko%ca%bba-ho%ca%bbolaule%ca%bba/
LOCATION:Hale Lihue\, 4286 Rice Street\, Lihue\, HI\, 96766\, United States
CATEGORIES:Island Happenings
ATTACH;FMTTYPE=image/png:https://kauaifestivals.com/wp-content/uploads/2025/11/LA-KUOKOA-FLYER-2.png-2.png
ORGANIZER;CN="Rice%20Street%20Business%20Association":MAILTO:kauairsba@gmail.com
GEO:21.9728519;-159.365047
X-APPLE-STRUCTURED-LOCATION;VALUE=URI;X-ADDRESS=Hale Lihue 4286 Rice Street Lihue HI 96766 United States;X-APPLE-RADIUS=500;X-TITLE=4286 Rice Street:geo:-159.365047,21.9728519
END:VEVENT
END:VCALENDAR